BEGIN:VCALENDAR
VERSION:2.0
PRODID:-//CT Ride Guide - ECPv6.15.18//NONSGML v1.0//EN
CALSCALE:GREGORIAN
METHOD:PUBLISH
X-WR-CALNAME:CT Ride Guide
X-ORIGINAL-URL:https://ctrideguide.com
X-WR-CALDESC:Events for CT Ride Guide
REFRESH-INTERVAL;VALUE=DURATION:PT1H
X-Robots-Tag:noindex
X-PUBLISHED-TTL:PT1H
BEGIN:VTIMEZONE
TZID:America/New_York
BEGIN:DAYLIGHT
TZOFFSETFROM:-0500
TZOFFSETTO:-0400
TZNAME:EDT
DTSTART:20240310T070000
END:DAYLIGHT
BEGIN:STANDARD
TZOFFSETFROM:-0400
TZOFFSETTO:-0500
TZNAME:EST
DTSTART:20241103T060000
END:STANDARD
BEGIN:DAYLIGHT
TZOFFSETFROM:-0500
TZOFFSETTO:-0400
TZNAME:EDT
DTSTART:20250309T070000
END:DAYLIGHT
BEGIN:STANDARD
TZOFFSETFROM:-0400
TZOFFSETTO:-0500
TZNAME:EST
DTSTART:20251102T060000
END:STANDARD
BEGIN:DAYLIGHT
TZOFFSETFROM:-0500
TZOFFSETTO:-0400
TZNAME:EDT
DTSTART:20260308T070000
END:DAYLIGHT
BEGIN:STANDARD
TZOFFSETFROM:-0400
TZOFFSETTO:-0500
TZNAME:EST
DTSTART:20261101T060000
END:STANDARD
END:VTIMEZONE
BEGIN:VEVENT
DTSTART;TZID=America/New_York:20250518T090000
DTEND;TZID=America/New_York:20250518T103000
DTSTAMP:20260422T040441
CREATED:20250506T142304Z
LAST-MODIFIED:20250506T142304Z
UID:10001171-1747558800-1747564200@ctrideguide.com
SUMMARY:Vindicator Cycle and Auto Poker Run
DESCRIPTION:Great event to benenfit the Tommy Fund.  Live entertainment\, pig roast\, raffles\, and much more.
URL:https://ctrideguide.com/event/vindicator-cycle-and-auto-poker-run/
LOCATION:Vindicator Cycle\, 150 Production Ct\, New Britain\, CT
GEO:41.6663265;-72.7576766
X-APPLE-STRUCTURED-LOCATION;VALUE=URI;X-ADDRESS=Vindicator Cycle 150 Production Ct New Britain CT;X-APPLE-RADIUS=500;X-TITLE=150 Production Ct:geo:-72.7576766,41.6663265
END:VEVENT
END:VCALENDAR