BEGIN:VCALENDAR
VERSION:2.0
PRODID:-//CT Ride Guide - ECPv6.15.18//NONSGML v1.0//EN
CALSCALE:GREGORIAN
METHOD:PUBLISH
X-WR-CALNAME:CT Ride Guide
X-ORIGINAL-URL:https://ctrideguide.com
X-WR-CALDESC:Events for CT Ride Guide
REFRESH-INTERVAL;VALUE=DURATION:PT1H
X-Robots-Tag:noindex
X-PUBLISHED-TTL:PT1H
BEGIN:VTIMEZONE
TZID:America/New_York
BEGIN:DAYLIGHT
TZOFFSETFROM:-0500
TZOFFSETTO:-0400
TZNAME:EDT
DTSTART:20240310T070000
END:DAYLIGHT
BEGIN:STANDARD
TZOFFSETFROM:-0400
TZOFFSETTO:-0500
TZNAME:EST
DTSTART:20241103T060000
END:STANDARD
BEGIN:DAYLIGHT
TZOFFSETFROM:-0500
TZOFFSETTO:-0400
TZNAME:EDT
DTSTART:20250309T070000
END:DAYLIGHT
BEGIN:STANDARD
TZOFFSETFROM:-0400
TZOFFSETTO:-0500
TZNAME:EST
DTSTART:20251102T060000
END:STANDARD
BEGIN:DAYLIGHT
TZOFFSETFROM:-0500
TZOFFSETTO:-0400
TZNAME:EDT
DTSTART:20260308T070000
END:DAYLIGHT
BEGIN:STANDARD
TZOFFSETFROM:-0400
TZOFFSETTO:-0500
TZNAME:EST
DTSTART:20261101T060000
END:STANDARD
END:VTIMEZONE
BEGIN:VEVENT
DTSTART;TZID=America/New_York:20250828T180000
DTEND;TZID=America/New_York:20250828T210000
DTSTAMP:20260422T011052
CREATED:20250506T143232Z
LAST-MODIFIED:20250506T143232Z
UID:10001358-1756404000-1756414800@ctrideguide.com
SUMMARY:Destination Bike Night
DESCRIPTION:Live music by 7 Roads.  Vendors\, raffles\, food\, and much more. Presented by THROTTLE ROCKER and TRANTOLO and TRANTOLO.
URL:https://ctrideguide.com/event/destination-bike-night-20/
LOCATION:Springfield Elks\, 440 Tiffany St.\, Springfield\, MA
GEO:42.0695685;-72.5428975
X-APPLE-STRUCTURED-LOCATION;VALUE=URI;X-ADDRESS=Springfield Elks 440 Tiffany St. Springfield MA;X-APPLE-RADIUS=500;X-TITLE=440 Tiffany St.:geo:-72.5428975,42.0695685
END:VEVENT
BEGIN:VEVENT
DTSTART;TZID=America/New_York:20250724T180000
DTEND;TZID=America/New_York:20250724T210000
DTSTAMP:20260422T011052
CREATED:20250506T143223Z
LAST-MODIFIED:20250506T143223Z
UID:10001353-1753380000-1753390800@ctrideguide.com
SUMMARY:Destination Bike Night
DESCRIPTION:Live Music by Beyond Purple/Just Like Fire.  Vendors\, raffles\, food\, and much more. Presented by THROTTLE ROCKER and TRANTOLO and TRANTOLO.
URL:https://ctrideguide.com/event/destination-bike-night-15/
LOCATION:Springfield Elks\, 440 Tiffany St.\, Springfield\, MA
GEO:42.0695685;-72.5428975
X-APPLE-STRUCTURED-LOCATION;VALUE=URI;X-ADDRESS=Springfield Elks 440 Tiffany St. Springfield MA;X-APPLE-RADIUS=500;X-TITLE=440 Tiffany St.:geo:-72.5428975,42.0695685
END:VEVENT
BEGIN:VEVENT
DTSTART;TZID=America/New_York:20250619T180000
DTEND;TZID=America/New_York:20250619T210000
DTSTAMP:20260422T011052
CREATED:20250506T143211Z
LAST-MODIFIED:20250506T143211Z
UID:10001348-1750356000-1750366800@ctrideguide.com
SUMMARY:Destination Bike Night
DESCRIPTION:Live Music by Trailer Trash.  Vendors\, raffles\, food\, and much more. Presented by THROTTLE ROCKER and TRANTOLO AND TRANTOLO.
URL:https://ctrideguide.com/event/destination-bike-night-10/
LOCATION:Springfield Elks\, 440 Tiffany St.\, Springfield\, MA
GEO:42.0695685;-72.5428975
X-APPLE-STRUCTURED-LOCATION;VALUE=URI;X-ADDRESS=Springfield Elks 440 Tiffany St. Springfield MA;X-APPLE-RADIUS=500;X-TITLE=440 Tiffany St.:geo:-72.5428975,42.0695685
END:VEVENT
BEGIN:VEVENT
DTSTART;TZID=America/New_York:20250515T180000
DTEND;TZID=America/New_York:20250515T210000
DTSTAMP:20260422T011052
CREATED:20250506T143203Z
LAST-MODIFIED:20250506T143203Z
UID:10001341-1747332000-1747342800@ctrideguide.com
SUMMARY:Destination Bike Night
DESCRIPTION:Live Music by Night Moves.  Raffles\, vendors\, food\, and much more. Presented by THROTTLE ROCKER and TRANTOLO and TRANTOLO.
URL:https://ctrideguide.com/event/destination-bike-night-5/
LOCATION:Springfield Elks\, 440 Tiffany St.\, Springfield\, MA
GEO:42.0695685;-72.5428975
X-APPLE-STRUCTURED-LOCATION;VALUE=URI;X-ADDRESS=Springfield Elks 440 Tiffany St. Springfield MA;X-APPLE-RADIUS=500;X-TITLE=440 Tiffany St.:geo:-72.5428975,42.0695685
END:VEVENT
END:VCALENDAR