BEGIN:VCALENDAR
VERSION:2.0
PRODID:-//CT Ride Guide - ECPv6.15.18//NONSGML v1.0//EN
CALSCALE:GREGORIAN
METHOD:PUBLISH
X-WR-CALNAME:CT Ride Guide
X-ORIGINAL-URL:https://ctrideguide.com
X-WR-CALDESC:Events for CT Ride Guide
REFRESH-INTERVAL;VALUE=DURATION:PT1H
X-Robots-Tag:noindex
X-PUBLISHED-TTL:PT1H
BEGIN:VTIMEZONE
TZID:America/New_York
BEGIN:DAYLIGHT
TZOFFSETFROM:-0500
TZOFFSETTO:-0400
TZNAME:EDT
DTSTART:20240310T070000
END:DAYLIGHT
BEGIN:STANDARD
TZOFFSETFROM:-0400
TZOFFSETTO:-0500
TZNAME:EST
DTSTART:20241103T060000
END:STANDARD
BEGIN:DAYLIGHT
TZOFFSETFROM:-0500
TZOFFSETTO:-0400
TZNAME:EDT
DTSTART:20250309T070000
END:DAYLIGHT
BEGIN:STANDARD
TZOFFSETFROM:-0400
TZOFFSETTO:-0500
TZNAME:EST
DTSTART:20251102T060000
END:STANDARD
BEGIN:DAYLIGHT
TZOFFSETFROM:-0500
TZOFFSETTO:-0400
TZNAME:EDT
DTSTART:20260308T070000
END:DAYLIGHT
BEGIN:STANDARD
TZOFFSETFROM:-0400
TZOFFSETTO:-0500
TZNAME:EST
DTSTART:20261101T060000
END:STANDARD
END:VTIMEZONE
BEGIN:VEVENT
DTSTART;TZID=America/New_York:20250531T180000
DTEND;TZID=America/New_York:20250531T210000
DTSTAMP:20260421T205656
CREATED:20250506T143204Z
LAST-MODIFIED:20250506T143204Z
UID:10001344-1748714400-1748725200@ctrideguide.com
SUMMARY:Ride in Movie
DESCRIPTION:Ride on down to Sheldons and enjoy a movie on the big screen!
URL:https://ctrideguide.com/event/ride-in-movie/
LOCATION:Sheldons Harley Davidson\, 914 Southbridge St.\, Auburn\, MA
GEO:42.1748162;-71.8778391
X-APPLE-STRUCTURED-LOCATION;VALUE=URI;X-ADDRESS=Sheldons Harley Davidson 914 Southbridge St. Auburn MA;X-APPLE-RADIUS=500;X-TITLE=914 Southbridge St.:geo:-71.8778391,42.1748162
END:VEVENT
BEGIN:VEVENT
DTSTART;VALUE=DATE:20250524
DTEND;VALUE=DATE:20250525
DTSTAMP:20260421T205656
CREATED:20250506T143504Z
LAST-MODIFIED:20250506T145512Z
UID:10001385-1748044800-1748131199@ctrideguide.com
SUMMARY:Bike Fest
DESCRIPTION:Come to Sheldons and join our Bikefest\, bike contest\, raffles\, and much more.
URL:https://ctrideguide.com/event/bike-fest/
LOCATION:Sheldons Harley Davidson\, 914 Southbridge St.\, Auburn\, MA
GEO:42.1748162;-71.8778391
X-APPLE-STRUCTURED-LOCATION;VALUE=URI;X-ADDRESS=Sheldons Harley Davidson 914 Southbridge St. Auburn MA;X-APPLE-RADIUS=500;X-TITLE=914 Southbridge St.:geo:-71.8778391,42.1748162
END:VEVENT
BEGIN:VEVENT
DTSTART;TZID=America/New_York:20250517T110000
DTEND;TZID=America/New_York:20250517T150000
DTSTAMP:20260421T205656
CREATED:20250506T142619Z
LAST-MODIFIED:20250506T142619Z
UID:10001263-1747479600-1747494000@ctrideguide.com
SUMMARY:First Aid Course
DESCRIPTION:Come to Sheldons and learn about Roadside First Aid. Know what to do in case of emergency.
URL:https://ctrideguide.com/event/first-aid-course/
LOCATION:Sheldons Harley Davidson\, 914 Southbridge St.\, Auburn\, MA
GEO:42.1748162;-71.8778391
X-APPLE-STRUCTURED-LOCATION;VALUE=URI;X-ADDRESS=Sheldons Harley Davidson 914 Southbridge St. Auburn MA;X-APPLE-RADIUS=500;X-TITLE=914 Southbridge St.:geo:-71.8778391,42.1748162
END:VEVENT
BEGIN:VEVENT
DTSTART;TZID=America/New_York:20250515T170000
DTEND;TZID=America/New_York:20250515T210000
DTSTAMP:20260421T205656
CREATED:20250506T142835Z
LAST-MODIFIED:20250506T142835Z
UID:10001307-1747328400-1747342800@ctrideguide.com
SUMMARY:Bike Night
DESCRIPTION:Sheldons is proud to host our Bike Night.  Bring your ride and enjoy food\, entertainment\, and so much more.
URL:https://ctrideguide.com/event/bike-night-5/
LOCATION:Sheldons Harley Davidson\, 914 Southbridge St.\, Auburn\, MA
GEO:42.1748162;-71.8778391
X-APPLE-STRUCTURED-LOCATION;VALUE=URI;X-ADDRESS=Sheldons Harley Davidson 914 Southbridge St. Auburn MA;X-APPLE-RADIUS=500;X-TITLE=914 Southbridge St.:geo:-71.8778391,42.1748162
END:VEVENT
BEGIN:VEVENT
DTSTART;TZID=America/New_York:20250510T120000
DTEND;TZID=America/New_York:20250510T130000
DTSTAMP:20260421T205656
CREATED:20250506T142705Z
LAST-MODIFIED:20250506T142705Z
UID:10001279-1746878400-1746882000@ctrideguide.com
SUMMARY:Hogs and Dogs
DESCRIPTION:Come to Sheldons and have lunch on us.  While you’re here\, check us out!
URL:https://ctrideguide.com/event/hogs-and-dogs/
LOCATION:Sheldons Harley Davidson\, 914 Southbridge St.\, Auburn\, MA
GEO:42.1748162;-71.8778391
X-APPLE-STRUCTURED-LOCATION;VALUE=URI;X-ADDRESS=Sheldons Harley Davidson 914 Southbridge St. Auburn MA;X-APPLE-RADIUS=500;X-TITLE=914 Southbridge St.:geo:-71.8778391,42.1748162
END:VEVENT
BEGIN:VEVENT
DTSTART;TZID=America/New_York:20250503T110000
DTEND;TZID=America/New_York:20250503T150000
DTSTAMP:20260421T205656
CREATED:20250506T142605Z
LAST-MODIFIED:20250506T142605Z
UID:10001262-1746270000-1746284400@ctrideguide.com
SUMMARY:Cinco de Mayo
DESCRIPTION:Come to Sheldons and help us celebrate Cinco de Mayo.
URL:https://ctrideguide.com/event/cinco-de-mayo/
LOCATION:Sheldons Harley Davidson\, 914 Southbridge St.\, Auburn\, MA
GEO:42.1748162;-71.8778391
X-APPLE-STRUCTURED-LOCATION;VALUE=URI;X-ADDRESS=Sheldons Harley Davidson 914 Southbridge St. Auburn MA;X-APPLE-RADIUS=500;X-TITLE=914 Southbridge St.:geo:-71.8778391,42.1748162
END:VEVENT
BEGIN:VEVENT
DTSTART;TZID=America/New_York:20250427T050000
DTEND;TZID=America/New_York:20250427T050000
DTSTAMP:20260421T205656
CREATED:20250506T142129Z
LAST-MODIFIED:20250506T142129Z
UID:10001128-1745730000-1745730000@ctrideguide.com
SUMMARY:Sunrise and Ride
DESCRIPTION:Be at Sheldons for 5am and enjoy an early morning ride with us.
URL:https://ctrideguide.com/event/sunrise-and-ride/
LOCATION:Sheldons Harley Davidson\, 914 Southbridge St.\, Auburn\, MA
GEO:42.1748162;-71.8778391
X-APPLE-STRUCTURED-LOCATION;VALUE=URI;X-ADDRESS=Sheldons Harley Davidson 914 Southbridge St. Auburn MA;X-APPLE-RADIUS=500;X-TITLE=914 Southbridge St.:geo:-71.8778391,42.1748162
END:VEVENT
BEGIN:VEVENT
DTSTART;TZID=America/New_York:20250426T100000
DTEND;TZID=America/New_York:20250426T140000
DTSTAMP:20260421T205656
CREATED:20250506T142434Z
LAST-MODIFIED:20250506T142434Z
UID:10001216-1745661600-1745676000@ctrideguide.com
SUMMARY:Maintenance Workshop
DESCRIPTION:Come to Sheldons and take part in learning about the maintenance of your Harley.
URL:https://ctrideguide.com/event/maintenance-workshop/
LOCATION:Sheldons Harley Davidson\, 914 Southbridge St.\, Auburn\, MA
GEO:42.1748162;-71.8778391
X-APPLE-STRUCTURED-LOCATION;VALUE=URI;X-ADDRESS=Sheldons Harley Davidson 914 Southbridge St. Auburn MA;X-APPLE-RADIUS=500;X-TITLE=914 Southbridge St.:geo:-71.8778391,42.1748162
END:VEVENT
END:VCALENDAR