BEGIN:VCALENDAR
VERSION:2.0
PRODID:-//CT Ride Guide - ECPv6.15.18//NONSGML v1.0//EN
CALSCALE:GREGORIAN
METHOD:PUBLISH
X-WR-CALNAME:CT Ride Guide
X-ORIGINAL-URL:https://ctrideguide.com
X-WR-CALDESC:Events for CT Ride Guide
REFRESH-INTERVAL;VALUE=DURATION:PT1H
X-Robots-Tag:noindex
X-PUBLISHED-TTL:PT1H
BEGIN:VTIMEZONE
TZID:America/New_York
BEGIN:DAYLIGHT
TZOFFSETFROM:-0500
TZOFFSETTO:-0400
TZNAME:EDT
DTSTART:20240310T070000
END:DAYLIGHT
BEGIN:STANDARD
TZOFFSETFROM:-0400
TZOFFSETTO:-0500
TZNAME:EST
DTSTART:20241103T060000
END:STANDARD
BEGIN:DAYLIGHT
TZOFFSETFROM:-0500
TZOFFSETTO:-0400
TZNAME:EDT
DTSTART:20250309T070000
END:DAYLIGHT
BEGIN:STANDARD
TZOFFSETFROM:-0400
TZOFFSETTO:-0500
TZNAME:EST
DTSTART:20251102T060000
END:STANDARD
BEGIN:DAYLIGHT
TZOFFSETFROM:-0500
TZOFFSETTO:-0400
TZNAME:EDT
DTSTART:20260308T070000
END:DAYLIGHT
BEGIN:STANDARD
TZOFFSETFROM:-0400
TZOFFSETTO:-0500
TZNAME:EST
DTSTART:20261101T060000
END:STANDARD
END:VTIMEZONE
BEGIN:VEVENT
DTSTART;TZID=America/New_York:20250524T073000
DTEND;TZID=America/New_York:20250524T110000
DTSTAMP:20260421T235734
CREATED:20250506T142130Z
LAST-MODIFIED:20250506T142130Z
UID:10001130-1748071800-1748084400@ctrideguide.com
SUMMARY:Meet and Greet at Saville Dam
DESCRIPTION:Come on out to the Dam at Barkhamsted; enjoy a ride after the photos. Presented by Trantolo and Trantolo.
URL:https://ctrideguide.com/event/meet-and-greet-at-saville-dam/
LOCATION:Saville Dam\, Rte 219\, Barkhamsted\, CT
GEO:41.9237594;-72.9305801
X-APPLE-STRUCTURED-LOCATION;VALUE=URI;X-ADDRESS=Saville Dam Rte 219 Barkhamsted CT;X-APPLE-RADIUS=500;X-TITLE=Rte 219:geo:-72.9305801,41.9237594
END:VEVENT
END:VCALENDAR