BEGIN:VCALENDAR
VERSION:2.0
PRODID:-//CT Ride Guide - ECPv6.15.18//NONSGML v1.0//EN
CALSCALE:GREGORIAN
METHOD:PUBLISH
X-ORIGINAL-URL:https://ctrideguide.com
X-WR-CALDESC:Events for CT Ride Guide
REFRESH-INTERVAL;VALUE=DURATION:PT1H
X-Robots-Tag:noindex
X-PUBLISHED-TTL:PT1H
BEGIN:VTIMEZONE
TZID:America/New_York
BEGIN:DAYLIGHT
TZOFFSETFROM:-0500
TZOFFSETTO:-0400
TZNAME:EDT
DTSTART:20240310T070000
END:DAYLIGHT
BEGIN:STANDARD
TZOFFSETFROM:-0400
TZOFFSETTO:-0500
TZNAME:EST
DTSTART:20241103T060000
END:STANDARD
BEGIN:DAYLIGHT
TZOFFSETFROM:-0500
TZOFFSETTO:-0400
TZNAME:EDT
DTSTART:20250309T070000
END:DAYLIGHT
BEGIN:STANDARD
TZOFFSETFROM:-0400
TZOFFSETTO:-0500
TZNAME:EST
DTSTART:20251102T060000
END:STANDARD
BEGIN:DAYLIGHT
TZOFFSETFROM:-0500
TZOFFSETTO:-0400
TZNAME:EDT
DTSTART:20260308T070000
END:DAYLIGHT
BEGIN:STANDARD
TZOFFSETFROM:-0400
TZOFFSETTO:-0500
TZNAME:EST
DTSTART:20261101T060000
END:STANDARD
END:VTIMEZONE
BEGIN:VEVENT
DTSTART;TZID=America/New_York:20250504T100000
DTEND;TZID=America/New_York:20250504T100000
DTSTAMP:20260422T040954
CREATED:20250506T142415Z
LAST-MODIFIED:20250506T142415Z
UID:10001203-1746352800-1746352800@ctrideguide.com
SUMMARY:Pyramid Shriners Poker Run
DESCRIPTION:Prizes for Best Hand\, Worst Hand\, Raffles and much more. Rain Date-June 8.
URL:https://ctrideguide.com/event/pyramid-shriners-poker-run-2/
LOCATION:Pyramid Shrine\, 2428 Main St\, Stratford\, CT
GEO:41.1937209;-73.1307358
X-APPLE-STRUCTURED-LOCATION;VALUE=URI;X-ADDRESS=Pyramid Shrine 2428 Main St Stratford CT;X-APPLE-RADIUS=500;X-TITLE=2428 Main St:geo:-73.1307358,41.1937209
END:VEVENT
END:VCALENDAR