BEGIN:VCALENDAR
VERSION:2.0
PRODID:-//CT Ride Guide - ECPv6.15.18//NONSGML v1.0//EN
CALSCALE:GREGORIAN
METHOD:PUBLISH
X-ORIGINAL-URL:https://ctrideguide.com
X-WR-CALDESC:Events for CT Ride Guide
REFRESH-INTERVAL;VALUE=DURATION:PT1H
X-Robots-Tag:noindex
X-PUBLISHED-TTL:PT1H
BEGIN:VTIMEZONE
TZID:America/New_York
BEGIN:DAYLIGHT
TZOFFSETFROM:-0500
TZOFFSETTO:-0400
TZNAME:EDT
DTSTART:20240310T070000
END:DAYLIGHT
BEGIN:STANDARD
TZOFFSETFROM:-0400
TZOFFSETTO:-0500
TZNAME:EST
DTSTART:20241103T060000
END:STANDARD
BEGIN:DAYLIGHT
TZOFFSETFROM:-0500
TZOFFSETTO:-0400
TZNAME:EDT
DTSTART:20250309T070000
END:DAYLIGHT
BEGIN:STANDARD
TZOFFSETFROM:-0400
TZOFFSETTO:-0500
TZNAME:EST
DTSTART:20251102T060000
END:STANDARD
BEGIN:DAYLIGHT
TZOFFSETFROM:-0500
TZOFFSETTO:-0400
TZNAME:EDT
DTSTART:20260308T070000
END:DAYLIGHT
BEGIN:STANDARD
TZOFFSETFROM:-0400
TZOFFSETTO:-0500
TZNAME:EST
DTSTART:20261101T060000
END:STANDARD
END:VTIMEZONE
BEGIN:VEVENT
DTSTART;TZID=America/New_York:20250712T080000
DTEND;TZID=America/New_York:20250712T100000
DTSTAMP:20260422T001604
CREATED:20250506T142130Z
LAST-MODIFIED:20250506T142130Z
UID:10001132-1752307200-1752314400@ctrideguide.com
SUMMARY:Annual Vietnam Veterans Ride
DESCRIPTION:18th Annual ride to honor Vietnam Veterans. 100 mile free ride; police escorted.
URL:https://ctrideguide.com/event/annual-vietnam-veterans-ride/
LOCATION:Owego Free Academy\, Sheldon Guild Rd\, Owego\, NY
GEO:42.0168233;-76.2382708
X-APPLE-STRUCTURED-LOCATION;VALUE=URI;X-ADDRESS=Owego Free Academy Sheldon Guild Rd Owego NY;X-APPLE-RADIUS=500;X-TITLE=Sheldon Guild Rd:geo:-76.2382708,42.0168233
END:VEVENT
END:VCALENDAR