BEGIN:VCALENDAR
VERSION:2.0
PRODID:-//CT Ride Guide - ECPv6.15.18//NONSGML v1.0//EN
CALSCALE:GREGORIAN
METHOD:PUBLISH
X-ORIGINAL-URL:https://ctrideguide.com
X-WR-CALDESC:Events for CT Ride Guide
REFRESH-INTERVAL;VALUE=DURATION:PT1H
X-Robots-Tag:noindex
X-PUBLISHED-TTL:PT1H
BEGIN:VTIMEZONE
TZID:America/New_York
BEGIN:DAYLIGHT
TZOFFSETFROM:-0500
TZOFFSETTO:-0400
TZNAME:EDT
DTSTART:20240310T070000
END:DAYLIGHT
BEGIN:STANDARD
TZOFFSETFROM:-0400
TZOFFSETTO:-0500
TZNAME:EST
DTSTART:20241103T060000
END:STANDARD
BEGIN:DAYLIGHT
TZOFFSETFROM:-0500
TZOFFSETTO:-0400
TZNAME:EDT
DTSTART:20250309T070000
END:DAYLIGHT
BEGIN:STANDARD
TZOFFSETFROM:-0400
TZOFFSETTO:-0500
TZNAME:EST
DTSTART:20251102T060000
END:STANDARD
BEGIN:DAYLIGHT
TZOFFSETFROM:-0500
TZOFFSETTO:-0400
TZNAME:EDT
DTSTART:20260308T070000
END:DAYLIGHT
BEGIN:STANDARD
TZOFFSETFROM:-0400
TZOFFSETTO:-0500
TZNAME:EST
DTSTART:20261101T060000
END:STANDARD
END:VTIMEZONE
BEGIN:VEVENT
DTSTART;TZID=America/New_York:20250503T120000
DTEND;TZID=America/New_York:20250503T150000
DTSTAMP:20260422T031117
CREATED:20250506T142720Z
LAST-MODIFIED:20250506T142720Z
UID:10001283-1746273600-1746284400@ctrideguide.com
SUMMARY:Vets and Pups
DESCRIPTION:Come by Moroneys and check out the Pups.  Come by and meet some incredible veterans.
URL:https://ctrideguide.com/event/vets-and-pups/
LOCATION:Moroneys Harley Davidson\, 833 Union Ave Building A\, New Windsor\, NY
GEO:41.4882915;-74.0781739
X-APPLE-STRUCTURED-LOCATION;VALUE=URI;X-ADDRESS=Moroneys Harley Davidson 833 Union Ave Building A New Windsor NY;X-APPLE-RADIUS=500;X-TITLE=833 Union Ave Building A:geo:-74.0781739,41.4882915
END:VEVENT
BEGIN:VEVENT
DTSTART;TZID=America/New_York:20250503T090000
DTEND;TZID=America/New_York:20250503T090000
DTSTAMP:20260422T031117
CREATED:20250506T142300Z
LAST-MODIFIED:20250506T142300Z
UID:10001165-1746262800-1746262800@ctrideguide.com
SUMMARY:International Female Ride Day
DESCRIPTION:Blessing\, Breakfast\, Ride.  Women in the front\, men in the rear.
URL:https://ctrideguide.com/event/international-female-ride-day/
LOCATION:Moroneys Harley Davidson\, 833 Union Ave Building A\, New Windsor\, NY
GEO:41.4882915;-74.0781739
X-APPLE-STRUCTURED-LOCATION;VALUE=URI;X-ADDRESS=Moroneys Harley Davidson 833 Union Ave Building A New Windsor NY;X-APPLE-RADIUS=500;X-TITLE=833 Union Ave Building A:geo:-74.0781739,41.4882915
END:VEVENT
END:VCALENDAR