BEGIN:VCALENDAR
VERSION:2.0
PRODID:-//CT Ride Guide - ECPv6.15.18//NONSGML v1.0//EN
CALSCALE:GREGORIAN
METHOD:PUBLISH
X-WR-CALNAME:CT Ride Guide
X-ORIGINAL-URL:https://ctrideguide.com
X-WR-CALDESC:Events for CT Ride Guide
REFRESH-INTERVAL;VALUE=DURATION:PT1H
X-Robots-Tag:noindex
X-PUBLISHED-TTL:PT1H
BEGIN:VTIMEZONE
TZID:America/New_York
BEGIN:DAYLIGHT
TZOFFSETFROM:-0500
TZOFFSETTO:-0400
TZNAME:EDT
DTSTART:20240310T070000
END:DAYLIGHT
BEGIN:STANDARD
TZOFFSETFROM:-0400
TZOFFSETTO:-0500
TZNAME:EST
DTSTART:20241103T060000
END:STANDARD
BEGIN:DAYLIGHT
TZOFFSETFROM:-0500
TZOFFSETTO:-0400
TZNAME:EDT
DTSTART:20250309T070000
END:DAYLIGHT
BEGIN:STANDARD
TZOFFSETFROM:-0400
TZOFFSETTO:-0500
TZNAME:EST
DTSTART:20251102T060000
END:STANDARD
BEGIN:DAYLIGHT
TZOFFSETFROM:-0500
TZOFFSETTO:-0400
TZNAME:EDT
DTSTART:20260308T070000
END:DAYLIGHT
BEGIN:STANDARD
TZOFFSETFROM:-0400
TZOFFSETTO:-0500
TZNAME:EST
DTSTART:20261101T060000
END:STANDARD
END:VTIMEZONE
BEGIN:VEVENT
DTSTART;TZID=America/New_York:20250517T080000
DTEND;TZID=America/New_York:20250517T110000
DTSTAMP:20260422T013925
CREATED:20250506T142134Z
LAST-MODIFIED:20250506T142134Z
UID:10001134-1747468800-1747479600@ctrideguide.com
SUMMARY:Warriors of Christmas
DESCRIPTION:Annual event to benefit the Warriors of Christmas 25th Annual Ride.
URL:https://ctrideguide.com/event/warriors-of-christmas/
LOCATION:Moose Family Center\, 244 Fuller Rd\, Chicopee\, MA
GEO:42.1660542;-72.5673285
X-APPLE-STRUCTURED-LOCATION;VALUE=URI;X-ADDRESS=Moose Family Center 244 Fuller Rd Chicopee MA;X-APPLE-RADIUS=500;X-TITLE=244 Fuller Rd:geo:-72.5673285,42.1660542
END:VEVENT
END:VCALENDAR