BEGIN:VCALENDAR
VERSION:2.0
PRODID:-//CT Ride Guide - ECPv6.15.18//NONSGML v1.0//EN
CALSCALE:GREGORIAN
METHOD:PUBLISH
X-WR-CALNAME:CT Ride Guide
X-ORIGINAL-URL:https://ctrideguide.com
X-WR-CALDESC:Events for CT Ride Guide
REFRESH-INTERVAL;VALUE=DURATION:PT1H
X-Robots-Tag:noindex
X-PUBLISHED-TTL:PT1H
BEGIN:VTIMEZONE
TZID:America/New_York
BEGIN:DAYLIGHT
TZOFFSETFROM:-0500
TZOFFSETTO:-0400
TZNAME:EDT
DTSTART:20240310T070000
END:DAYLIGHT
BEGIN:STANDARD
TZOFFSETFROM:-0400
TZOFFSETTO:-0500
TZNAME:EST
DTSTART:20241103T060000
END:STANDARD
BEGIN:DAYLIGHT
TZOFFSETFROM:-0500
TZOFFSETTO:-0400
TZNAME:EDT
DTSTART:20250309T070000
END:DAYLIGHT
BEGIN:STANDARD
TZOFFSETFROM:-0400
TZOFFSETTO:-0500
TZNAME:EST
DTSTART:20251102T060000
END:STANDARD
BEGIN:DAYLIGHT
TZOFFSETFROM:-0500
TZOFFSETTO:-0400
TZNAME:EDT
DTSTART:20260308T070000
END:DAYLIGHT
BEGIN:STANDARD
TZOFFSETFROM:-0400
TZOFFSETTO:-0500
TZNAME:EST
DTSTART:20261101T060000
END:STANDARD
END:VTIMEZONE
BEGIN:VEVENT
DTSTART;TZID=America/New_York:20250510T090000
DTEND;TZID=America/New_York:20250510T103000
DTSTAMP:20260422T025505
CREATED:20250506T142304Z
LAST-MODIFIED:20250506T142304Z
UID:10001170-1746867600-1746873000@ctrideguide.com
SUMMARY:Blessing of the Bikes
DESCRIPTION:Middletown Elks Rider #771 poker run with prizes for best hand/worst hand.  Also\, raffle\, food\, and entertainment.
URL:https://ctrideguide.com/event/blessing-of-the-bikes-3/
LOCATION:Middletown Elks\, 44 Maynard St.\, Middletown\, CT
GEO:41.5434746;-72.6324551
X-APPLE-STRUCTURED-LOCATION;VALUE=URI;X-ADDRESS=Middletown Elks 44 Maynard St. Middletown CT;X-APPLE-RADIUS=500;X-TITLE=44 Maynard St.:geo:-72.6324551,41.5434746
END:VEVENT
END:VCALENDAR