BEGIN:VCALENDAR
VERSION:2.0
PRODID:-//CT Ride Guide - ECPv6.15.18//NONSGML v1.0//EN
CALSCALE:GREGORIAN
METHOD:PUBLISH
X-ORIGINAL-URL:https://ctrideguide.com
X-WR-CALDESC:Events for CT Ride Guide
REFRESH-INTERVAL;VALUE=DURATION:PT1H
X-Robots-Tag:noindex
X-PUBLISHED-TTL:PT1H
BEGIN:VTIMEZONE
TZID:America/New_York
BEGIN:DAYLIGHT
TZOFFSETFROM:-0500
TZOFFSETTO:-0400
TZNAME:EDT
DTSTART:20240310T070000
END:DAYLIGHT
BEGIN:STANDARD
TZOFFSETFROM:-0400
TZOFFSETTO:-0500
TZNAME:EST
DTSTART:20241103T060000
END:STANDARD
BEGIN:DAYLIGHT
TZOFFSETFROM:-0500
TZOFFSETTO:-0400
TZNAME:EDT
DTSTART:20250309T070000
END:DAYLIGHT
BEGIN:STANDARD
TZOFFSETFROM:-0400
TZOFFSETTO:-0500
TZNAME:EST
DTSTART:20251102T060000
END:STANDARD
BEGIN:DAYLIGHT
TZOFFSETFROM:-0500
TZOFFSETTO:-0400
TZNAME:EDT
DTSTART:20260308T070000
END:DAYLIGHT
BEGIN:STANDARD
TZOFFSETFROM:-0400
TZOFFSETTO:-0500
TZNAME:EST
DTSTART:20261101T060000
END:STANDARD
END:VTIMEZONE
BEGIN:VEVENT
DTSTART;TZID=America/New_York:20250501T180000
DTEND;TZID=America/New_York:20250501T210000
DTSTAMP:20260422T031240
CREATED:20250506T143158Z
LAST-MODIFIED:20250506T143158Z
UID:10001339-1746122400-1746133200@ctrideguide.com
SUMMARY:Destination Bike Night
DESCRIPTION:Live Music by Above the Tree Line.  Raffles\, vendors\, food\, and much more. Presented by THROTTLE ROCKER and TRANTOLO and TRANTOLO.
URL:https://ctrideguide.com/event/destination-bike-night-3/
LOCATION:Ludlow Elk Lodge\, 69 Chapin St.\, Ludlow\, MA
GEO:42.1570592;-72.4321061
X-APPLE-STRUCTURED-LOCATION;VALUE=URI;X-ADDRESS=Ludlow Elk Lodge 69 Chapin St. Ludlow MA;X-APPLE-RADIUS=500;X-TITLE=69 Chapin St.:geo:-72.4321061,42.1570592
END:VEVENT
END:VCALENDAR