BEGIN:VCALENDAR
VERSION:2.0
PRODID:-//CT Ride Guide - ECPv6.15.18//NONSGML v1.0//EN
CALSCALE:GREGORIAN
METHOD:PUBLISH
X-ORIGINAL-URL:https://ctrideguide.com
X-WR-CALDESC:Events for CT Ride Guide
REFRESH-INTERVAL;VALUE=DURATION:PT1H
X-Robots-Tag:noindex
X-PUBLISHED-TTL:PT1H
BEGIN:VTIMEZONE
TZID:America/New_York
BEGIN:DAYLIGHT
TZOFFSETFROM:-0500
TZOFFSETTO:-0400
TZNAME:EDT
DTSTART:20240310T070000
END:DAYLIGHT
BEGIN:STANDARD
TZOFFSETFROM:-0400
TZOFFSETTO:-0500
TZNAME:EST
DTSTART:20241103T060000
END:STANDARD
BEGIN:DAYLIGHT
TZOFFSETFROM:-0500
TZOFFSETTO:-0400
TZNAME:EDT
DTSTART:20250309T070000
END:DAYLIGHT
BEGIN:STANDARD
TZOFFSETFROM:-0400
TZOFFSETTO:-0500
TZNAME:EST
DTSTART:20251102T060000
END:STANDARD
BEGIN:DAYLIGHT
TZOFFSETFROM:-0500
TZOFFSETTO:-0400
TZNAME:EDT
DTSTART:20260308T070000
END:DAYLIGHT
BEGIN:STANDARD
TZOFFSETFROM:-0400
TZOFFSETTO:-0500
TZNAME:EST
DTSTART:20261101T060000
END:STANDARD
END:VTIMEZONE
BEGIN:VEVENT
DTSTART;TZID=America/New_York:20250807T180000
DTEND;TZID=America/New_York:20250807T210000
DTSTAMP:20260422T014239
CREATED:20250506T143231Z
LAST-MODIFIED:20250506T143231Z
UID:10001355-1754589600-1754600400@ctrideguide.com
SUMMARY:Destination Bike Night
DESCRIPTION:Live Music by Brass Attack.  Vendors\, raffles\, food\, and much more. Presented by THROTTLE ROCKER and TRANTOLO and TRANTOLO.
URL:https://ctrideguide.com/event/destination-bike-night-17/
LOCATION:Knights of Columbus\, 460 Granby Rd\, Chicopee\, MA
GEO:42.1578523;-72.5998821
X-APPLE-STRUCTURED-LOCATION;VALUE=URI;X-ADDRESS=Knights of Columbus 460 Granby Rd Chicopee MA;X-APPLE-RADIUS=500;X-TITLE=460 Granby Rd:geo:-72.5998821,42.1578523
END:VEVENT
BEGIN:VEVENT
DTSTART;TZID=America/New_York:20250703T180000
DTEND;TZID=America/New_York:20250703T210000
DTSTAMP:20260422T014239
CREATED:20250506T143222Z
LAST-MODIFIED:20250506T143222Z
UID:10001350-1751565600-1751576400@ctrideguide.com
SUMMARY:Destination Bike Night
DESCRIPTION:Live Music by Raise Your Hand.  Vendors\, raffles\, food\, and much more.  Presented by THROTTLE ROCKER and TRANTOLO and TRANTOLO.
URL:https://ctrideguide.com/event/destination-bike-night-12/
LOCATION:Knights of Columbus\, 460 Granby Rd\, Chicopee\, MA
GEO:42.1578523;-72.5998821
X-APPLE-STRUCTURED-LOCATION;VALUE=URI;X-ADDRESS=Knights of Columbus 460 Granby Rd Chicopee MA;X-APPLE-RADIUS=500;X-TITLE=460 Granby Rd:geo:-72.5998821,42.1578523
END:VEVENT
BEGIN:VEVENT
DTSTART;TZID=America/New_York:20250529T180000
DTEND;TZID=America/New_York:20250529T210000
DTSTAMP:20260422T014239
CREATED:20250506T143203Z
LAST-MODIFIED:20250506T143203Z
UID:10001343-1748541600-1748552400@ctrideguide.com
SUMMARY:Destination Bike Night
DESCRIPTION:Live Music by Lindsay Labelle.  Vendors\, raffles\, food\, and much more. Presented by THROTTLE ROCKER and TRANTOLO and TRANTOLO.
URL:https://ctrideguide.com/event/destination-bike-night-7/
LOCATION:Knights of Columbus\, 460 Granby Rd\, Chicopee\, MA
GEO:42.1578523;-72.5998821
X-APPLE-STRUCTURED-LOCATION;VALUE=URI;X-ADDRESS=Knights of Columbus 460 Granby Rd Chicopee MA;X-APPLE-RADIUS=500;X-TITLE=460 Granby Rd:geo:-72.5998821,42.1578523
END:VEVENT
BEGIN:VEVENT
DTSTART;TZID=America/New_York:20250424T180000
DTEND;TZID=America/New_York:20250424T210000
DTSTAMP:20260422T014239
CREATED:20250506T143157Z
LAST-MODIFIED:20250506T143157Z
UID:10001338-1745517600-1745528400@ctrideguide.com
SUMMARY:Destination Bike Night
DESCRIPTION:Live Music by Project 267.  Raffles\, vendors\, food\, and so much more. Presented by THROTTLE ROCKER and TRANTOLO and TRANTOLO.
URL:https://ctrideguide.com/event/destination-bike-night-2/
LOCATION:Knights of Columbus\, 460 Granby Rd\, Chicopee\, MA
GEO:42.1578523;-72.5998821
X-APPLE-STRUCTURED-LOCATION;VALUE=URI;X-ADDRESS=Knights of Columbus 460 Granby Rd Chicopee MA;X-APPLE-RADIUS=500;X-TITLE=460 Granby Rd:geo:-72.5998821,42.1578523
END:VEVENT
END:VCALENDAR