BEGIN:VCALENDAR
VERSION:2.0
PRODID:-//CT Ride Guide - ECPv6.15.18//NONSGML v1.0//EN
CALSCALE:GREGORIAN
METHOD:PUBLISH
X-WR-CALNAME:CT Ride Guide
X-ORIGINAL-URL:https://ctrideguide.com
X-WR-CALDESC:Events for CT Ride Guide
REFRESH-INTERVAL;VALUE=DURATION:PT1H
X-Robots-Tag:noindex
X-PUBLISHED-TTL:PT1H
BEGIN:VTIMEZONE
TZID:America/New_York
BEGIN:DAYLIGHT
TZOFFSETFROM:-0500
TZOFFSETTO:-0400
TZNAME:EDT
DTSTART:20240310T070000
END:DAYLIGHT
BEGIN:STANDARD
TZOFFSETFROM:-0400
TZOFFSETTO:-0500
TZNAME:EST
DTSTART:20241103T060000
END:STANDARD
BEGIN:DAYLIGHT
TZOFFSETFROM:-0500
TZOFFSETTO:-0400
TZNAME:EDT
DTSTART:20250309T070000
END:DAYLIGHT
BEGIN:STANDARD
TZOFFSETFROM:-0400
TZOFFSETTO:-0500
TZNAME:EST
DTSTART:20251102T060000
END:STANDARD
BEGIN:DAYLIGHT
TZOFFSETFROM:-0500
TZOFFSETTO:-0400
TZNAME:EDT
DTSTART:20260308T070000
END:DAYLIGHT
BEGIN:STANDARD
TZOFFSETFROM:-0400
TZOFFSETTO:-0500
TZNAME:EST
DTSTART:20261101T060000
END:STANDARD
END:VTIMEZONE
BEGIN:VEVENT
DTSTART;TZID=America/New_York:20251101T140000
DTEND;TZID=America/New_York:20251101T180000
DTSTAMP:20260421T202033
CREATED:20251029T160416Z
LAST-MODIFIED:20251029T160416Z
UID:10001412-1762005600-1762020000@ctrideguide.com
SUMMARY:Spooktacular Halloween Fundraiser
DESCRIPTION:Live music by Cold Train\, 50/50 raffle and furry friends on-site for adoption from Halfway Home Animal Rescue of North Haven. All pets and owners are encouraged to come in costume! Sponsored by Trantolo & Trantolo\, LLC to benefit Bikers Against Animal Cruelty\, Inc – BAAC.
URL:https://ctrideguide.com/event/spooktacular-halloween-fundraiser/
LOCATION:Joey C’s Boathouse\, 955 Ferry Blvd\, Stratford\, CT\, 06614\, United States
GEO:41.203;-73.112
X-APPLE-STRUCTURED-LOCATION;VALUE=URI;X-ADDRESS=Joey C’s Boathouse 955 Ferry Blvd Stratford CT 06614 United States;X-APPLE-RADIUS=500;X-TITLE=955 Ferry Blvd:geo:-73.112,41.203
END:VEVENT
END:VCALENDAR