BEGIN:VCALENDAR
VERSION:2.0
PRODID:-//CT Ride Guide - ECPv6.15.18//NONSGML v1.0//EN
CALSCALE:GREGORIAN
METHOD:PUBLISH
X-ORIGINAL-URL:https://ctrideguide.com
X-WR-CALDESC:Events for CT Ride Guide
REFRESH-INTERVAL;VALUE=DURATION:PT1H
X-Robots-Tag:noindex
X-PUBLISHED-TTL:PT1H
BEGIN:VTIMEZONE
TZID:America/New_York
BEGIN:DAYLIGHT
TZOFFSETFROM:-0500
TZOFFSETTO:-0400
TZNAME:EDT
DTSTART:20240310T070000
END:DAYLIGHT
BEGIN:STANDARD
TZOFFSETFROM:-0400
TZOFFSETTO:-0500
TZNAME:EST
DTSTART:20241103T060000
END:STANDARD
BEGIN:DAYLIGHT
TZOFFSETFROM:-0500
TZOFFSETTO:-0400
TZNAME:EDT
DTSTART:20250309T070000
END:DAYLIGHT
BEGIN:STANDARD
TZOFFSETFROM:-0400
TZOFFSETTO:-0500
TZNAME:EST
DTSTART:20251102T060000
END:STANDARD
BEGIN:DAYLIGHT
TZOFFSETFROM:-0500
TZOFFSETTO:-0400
TZNAME:EDT
DTSTART:20260308T070000
END:DAYLIGHT
BEGIN:STANDARD
TZOFFSETFROM:-0400
TZOFFSETTO:-0500
TZNAME:EST
DTSTART:20261101T060000
END:STANDARD
END:VTIMEZONE
BEGIN:VEVENT
DTSTART;TZID=America/New_York:20251227T110000
DTEND;TZID=America/New_York:20251227T150000
DTSTAMP:20260421T152707
CREATED:20250506T142604Z
LAST-MODIFIED:20250506T142604Z
UID:10001261-1766833200-1766847600@ctrideguide.com
SUMMARY:New Year's Eve Party
DESCRIPTION:Come to Hartford Harley Davidson and help celebrate the New Year and help us Thank You for a great year!
URL:https://ctrideguide.com/event/new-years-eve-party/
LOCATION:Hartford Harley Davidson\, 221 Governor St.\, East Hartford\, CT
GEO:41.7707241;-72.6532985
X-APPLE-STRUCTURED-LOCATION;VALUE=URI;X-ADDRESS=Hartford Harley Davidson 221 Governor St. East Hartford CT;X-APPLE-RADIUS=500;X-TITLE=221 Governor St.:geo:-72.6532985,41.7707241
END:VEVENT
BEGIN:VEVENT
DTSTART;TZID=America/New_York:20251220T110000
DTEND;TZID=America/New_York:20251220T150000
DTSTAMP:20260421T152707
CREATED:20250506T142604Z
LAST-MODIFIED:20250506T142635Z
UID:10001260-1766228400-1766242800@ctrideguide.com
SUMMARY:Pictures with Santa
DESCRIPTION:Santa is coming to Spitzies! Get your picture taken in Spitzies Sleigh with Santa and enjoy cookies\, hot chocolate\, and candy canes.
URL:https://ctrideguide.com/event/pictures-with-santa-7/
LOCATION:Hartford Harley Davidson\, 221 Governor St.\, East Hartford\, CT
GEO:41.7707241;-72.6532985
X-APPLE-STRUCTURED-LOCATION;VALUE=URI;X-ADDRESS=Hartford Harley Davidson 221 Governor St. East Hartford CT;X-APPLE-RADIUS=500;X-TITLE=221 Governor St.:geo:-72.6532985,41.7707241
END:VEVENT
BEGIN:VEVENT
DTSTART;TZID=America/New_York:20251213T110000
DTEND;TZID=America/New_York:20251213T150000
DTSTAMP:20260421T152707
CREATED:20250506T142604Z
LAST-MODIFIED:20250506T142604Z
UID:10001259-1765623600-1765638000@ctrideguide.com
SUMMARY:Pet Pictures with Santa
DESCRIPTION:Bring your pet and have their picture taken with Santa; benefits BAAC.
URL:https://ctrideguide.com/event/pet-pictures-with-santa/
LOCATION:Hartford Harley Davidson\, 221 Governor St.\, East Hartford\, CT
GEO:41.7707241;-72.6532985
X-APPLE-STRUCTURED-LOCATION;VALUE=URI;X-ADDRESS=Hartford Harley Davidson 221 Governor St. East Hartford CT;X-APPLE-RADIUS=500;X-TITLE=221 Governor St.:geo:-72.6532985,41.7707241
END:VEVENT
BEGIN:VEVENT
DTSTART;TZID=America/New_York:20251206T090000
DTEND;TZID=America/New_York:20251206T120000
DTSTAMP:20260421T152707
CREATED:20250506T142334Z
LAST-MODIFIED:20250506T142334Z
UID:10001178-1765011600-1765022400@ctrideguide.com
SUMMARY:Breakfast with Santa
DESCRIPTION:Come to Hartford Harley for breakfast prepared by the HOG Club; pancakes\, sausage\, donuts\, and much more. Don’t forget to get your picture taken with Mr. and Mrs. Claus.
URL:https://ctrideguide.com/event/breakfast-with-santa/
LOCATION:Hartford Harley Davidson\, 221 Governor St.\, East Hartford\, CT
GEO:41.7707241;-72.6532985
X-APPLE-STRUCTURED-LOCATION;VALUE=URI;X-ADDRESS=Hartford Harley Davidson 221 Governor St. East Hartford CT;X-APPLE-RADIUS=500;X-TITLE=221 Governor St.:geo:-72.6532985,41.7707241
END:VEVENT
BEGIN:VEVENT
DTSTART;VALUE=DATE:20251129
DTEND;VALUE=DATE:20251130
DTSTAMP:20260421T152707
CREATED:20250506T143454Z
LAST-MODIFIED:20250506T150004Z
UID:10001380-1764374400-1764460799@ctrideguide.com
SUMMARY:Black Friday
DESCRIPTION:Come and check out our motor clothes\, parts and service on this traditional day.
URL:https://ctrideguide.com/event/black-friday/
LOCATION:Hartford Harley Davidson\, 221 Governor St.\, East Hartford\, CT
GEO:41.7707241;-72.6532985
X-APPLE-STRUCTURED-LOCATION;VALUE=URI;X-ADDRESS=Hartford Harley Davidson 221 Governor St. East Hartford CT;X-APPLE-RADIUS=500;X-TITLE=221 Governor St.:geo:-72.6532985,41.7707241
END:VEVENT
BEGIN:VEVENT
DTSTART;TZID=America/New_York:20251122T110000
DTEND;TZID=America/New_York:20251122T150000
DTSTAMP:20260421T152707
CREATED:20250506T142604Z
LAST-MODIFIED:20250506T142604Z
UID:10001258-1763809200-1763823600@ctrideguide.com
SUMMARY:Toy Drive
DESCRIPTION:Come to Hartford Harley and bring a toy for the less privileged.
URL:https://ctrideguide.com/event/toy-drive/
LOCATION:Hartford Harley Davidson\, 221 Governor St.\, East Hartford\, CT
GEO:41.7707241;-72.6532985
X-APPLE-STRUCTURED-LOCATION;VALUE=URI;X-ADDRESS=Hartford Harley Davidson 221 Governor St. East Hartford CT;X-APPLE-RADIUS=500;X-TITLE=221 Governor St.:geo:-72.6532985,41.7707241
END:VEVENT
BEGIN:VEVENT
DTSTART;TZID=America/New_York:20251108T110000
DTEND;TZID=America/New_York:20251108T150000
DTSTAMP:20260421T152707
CREATED:20250506T142549Z
LAST-MODIFIED:20250506T142549Z
UID:10001257-1762599600-1762614000@ctrideguide.com
SUMMARY:Performance Seminar
DESCRIPTION:Come to Hartford Harley Davidson and watch as a Master Tech walks us thru a performance seminar.
URL:https://ctrideguide.com/event/performance-seminar/
LOCATION:Hartford Harley Davidson\, 221 Governor St.\, East Hartford\, CT
GEO:41.7707241;-72.6532985
X-APPLE-STRUCTURED-LOCATION;VALUE=URI;X-ADDRESS=Hartford Harley Davidson 221 Governor St. East Hartford CT;X-APPLE-RADIUS=500;X-TITLE=221 Governor St.:geo:-72.6532985,41.7707241
END:VEVENT
BEGIN:VEVENT
DTSTART;TZID=America/New_York:20251018T170000
DTEND;TZID=America/New_York:20251018T190000
DTSTAMP:20260421T152707
CREATED:20250506T142750Z
LAST-MODIFIED:20250506T142750Z
UID:10001293-1760806800-1760814000@ctrideguide.com
SUMMARY:Mens Night
DESCRIPTION:Guys this is for you!  Beverages\, raffles\, food\, and much more.
URL:https://ctrideguide.com/event/mens-night-3/
LOCATION:Hartford Harley Davidson\, 221 Governor St.\, East Hartford\, CT
GEO:41.7707241;-72.6532985
X-APPLE-STRUCTURED-LOCATION;VALUE=URI;X-ADDRESS=Hartford Harley Davidson 221 Governor St. East Hartford CT;X-APPLE-RADIUS=500;X-TITLE=221 Governor St.:geo:-72.6532985,41.7707241
END:VEVENT
BEGIN:VEVENT
DTSTART;TZID=America/New_York:20251004T110000
DTEND;TZID=America/New_York:20251004T150000
DTSTAMP:20260421T152707
CREATED:20250506T142549Z
LAST-MODIFIED:20250506T142549Z
UID:10001256-1759575600-1759590000@ctrideguide.com
SUMMARY:Fall Open House
DESCRIPTION:Come to Hartford Harley Davidson for our Open House to see what we have to offer.  Food Trucks and much more.
URL:https://ctrideguide.com/event/fall-open-house-8/
LOCATION:Hartford Harley Davidson\, 221 Governor St.\, East Hartford\, CT
GEO:41.7707241;-72.6532985
X-APPLE-STRUCTURED-LOCATION;VALUE=URI;X-ADDRESS=Hartford Harley Davidson 221 Governor St. East Hartford CT;X-APPLE-RADIUS=500;X-TITLE=221 Governor St.:geo:-72.6532985,41.7707241
END:VEVENT
BEGIN:VEVENT
DTSTART;TZID=America/New_York:20250919T170000
DTEND;TZID=America/New_York:20250919T190000
DTSTAMP:20260421T152707
CREATED:20250506T142749Z
LAST-MODIFIED:20250506T142749Z
UID:10001292-1758301200-1758308400@ctrideguide.com
SUMMARY:Ladies Night
DESCRIPTION:Ladies this is for you. Charcuterie Board\, wine\, raffles\, and much more.
URL:https://ctrideguide.com/event/ladies-night-4/
LOCATION:Hartford Harley Davidson\, 221 Governor St.\, East Hartford\, CT
GEO:41.7707241;-72.6532985
X-APPLE-STRUCTURED-LOCATION;VALUE=URI;X-ADDRESS=Hartford Harley Davidson 221 Governor St. East Hartford CT;X-APPLE-RADIUS=500;X-TITLE=221 Governor St.:geo:-72.6532985,41.7707241
END:VEVENT
BEGIN:VEVENT
DTSTART;TZID=America/New_York:20250912T000000
DTEND;TZID=America/New_York:20250914T000000
DTSTAMP:20260421T152707
CREATED:20250506T143425Z
LAST-MODIFIED:20250506T143425Z
UID:10001375-1757635200-1757808000@ctrideguide.com
SUMMARY:Fall National Event
DESCRIPTION:Come join us at Hartford Harley Davidson for our annual Fall event with Raffles and so much more.
URL:https://ctrideguide.com/event/fall-national-event/
LOCATION:Hartford Harley Davidson\, 221 Governor St.\, East Hartford\, CT
GEO:41.7707241;-72.6532985
X-APPLE-STRUCTURED-LOCATION;VALUE=URI;X-ADDRESS=Hartford Harley Davidson 221 Governor St. East Hartford CT;X-APPLE-RADIUS=500;X-TITLE=221 Governor St.:geo:-72.6532985,41.7707241
END:VEVENT
BEGIN:VEVENT
DTSTART;VALUE=DATE:20250816
DTEND;VALUE=DATE:20250817
DTSTAMP:20260421T152707
CREATED:20250506T143423Z
LAST-MODIFIED:20250506T145811Z
UID:10001373-1755302400-1755388799@ctrideguide.com
SUMMARY:VIP Member Service Seminar
DESCRIPTION:Come to Hartford Harley Davidson as a Master Tech shows customers what is involved in a K Service.
URL:https://ctrideguide.com/event/vip-member-service-seminar/
LOCATION:Hartford Harley Davidson\, 221 Governor St.\, East Hartford\, CT
GEO:41.7707241;-72.6532985
X-APPLE-STRUCTURED-LOCATION;VALUE=URI;X-ADDRESS=Hartford Harley Davidson 221 Governor St. East Hartford CT;X-APPLE-RADIUS=500;X-TITLE=221 Governor St.:geo:-72.6532985,41.7707241
END:VEVENT
BEGIN:VEVENT
DTSTART;TZID=America/New_York:20250809T110000
DTEND;TZID=America/New_York:20250809T150000
DTSTAMP:20260421T152707
CREATED:20250506T142549Z
LAST-MODIFIED:20250506T142549Z
UID:10001255-1754737200-1754751600@ctrideguide.com
SUMMARY:Car and Bike Show
DESCRIPTION:Come to Hartford Harley Davidson for their Car and Bike show. Voting closes at 2 winner announced at 3.  Subject to change.
URL:https://ctrideguide.com/event/car-and-bike-show-2/
LOCATION:Hartford Harley Davidson\, 221 Governor St.\, East Hartford\, CT
GEO:41.7707241;-72.6532985
X-APPLE-STRUCTURED-LOCATION;VALUE=URI;X-ADDRESS=Hartford Harley Davidson 221 Governor St. East Hartford CT;X-APPLE-RADIUS=500;X-TITLE=221 Governor St.:geo:-72.6532985,41.7707241
END:VEVENT
BEGIN:VEVENT
DTSTART;TZID=America/New_York:20250803T090000
DTEND;TZID=America/New_York:20250803T090000
DTSTAMP:20260421T152707
CREATED:20250506T142220Z
LAST-MODIFIED:20250506T142220Z
UID:10001151-1754211600-1754211600@ctrideguide.com
SUMMARY:TRANTOLO TOURS
DESCRIPTION:Our weekly rides are back! Join us every Sunday (weather permitting) for a fun ride throughout Connecticut and New England.
URL:https://ctrideguide.com/event/trantolo-tours-53/
LOCATION:Hartford Harley Davidson\, 221 Governor St.\, East Hartford\, CT
GEO:41.7707241;-72.6532985
X-APPLE-STRUCTURED-LOCATION;VALUE=URI;X-ADDRESS=Hartford Harley Davidson 221 Governor St. East Hartford CT;X-APPLE-RADIUS=500;X-TITLE=221 Governor St.:geo:-72.6532985,41.7707241
END:VEVENT
BEGIN:VEVENT
DTSTART;TZID=America/New_York:20250719T110000
DTEND;TZID=America/New_York:20250719T140000
DTSTAMP:20260421T152707
CREATED:20250506T142504Z
LAST-MODIFIED:20250506T142504Z
UID:10001242-1752922800-1752933600@ctrideguide.com
SUMMARY:National Grilling Month
DESCRIPTION:Come by Hartford Harley Davidson and let them cook something on the grill for you!
URL:https://ctrideguide.com/event/national-grilling-month/
LOCATION:Hartford Harley Davidson\, 221 Governor St.\, East Hartford\, CT
GEO:41.7707241;-72.6532985
X-APPLE-STRUCTURED-LOCATION;VALUE=URI;X-ADDRESS=Hartford Harley Davidson 221 Governor St. East Hartford CT;X-APPLE-RADIUS=500;X-TITLE=221 Governor St.:geo:-72.6532985,41.7707241
END:VEVENT
BEGIN:VEVENT
DTSTART;VALUE=DATE:20250712
DTEND;VALUE=DATE:20250713
DTSTAMP:20260421T152707
CREATED:20250506T143419Z
LAST-MODIFIED:20250506T145723Z
UID:10001369-1752278400-1752364799@ctrideguide.com
SUMMARY:Ice Cream Social
DESCRIPTION:Come and enjoy some nice cold ice cream either before or after you go riding.
URL:https://ctrideguide.com/event/ice-cream-social-4/
LOCATION:Hartford Harley Davidson\, 221 Governor St.\, East Hartford\, CT
GEO:41.7707241;-72.6532985
X-APPLE-STRUCTURED-LOCATION;VALUE=URI;X-ADDRESS=Hartford Harley Davidson 221 Governor St. East Hartford CT;X-APPLE-RADIUS=500;X-TITLE=221 Governor St.:geo:-72.6532985,41.7707241
END:VEVENT
BEGIN:VEVENT
DTSTART;TZID=America/New_York:20250705T110000
DTEND;TZID=America/New_York:20250705T150000
DTSTAMP:20260421T152707
CREATED:20250506T142504Z
LAST-MODIFIED:20250506T142504Z
UID:10001240-1751713200-1751727600@ctrideguide.com
SUMMARY:Car and Bike Show
DESCRIPTION:Come to Hartford Harley Davidson for their Car and Bike show. Voting closes at 2; winner announced at 3. Subject to change.
URL:https://ctrideguide.com/event/car-and-bike-show/
LOCATION:Hartford Harley Davidson\, 221 Governor St.\, East Hartford\, CT
GEO:41.7707241;-72.6532985
X-APPLE-STRUCTURED-LOCATION;VALUE=URI;X-ADDRESS=Hartford Harley Davidson 221 Governor St. East Hartford CT;X-APPLE-RADIUS=500;X-TITLE=221 Governor St.:geo:-72.6532985,41.7707241
END:VEVENT
BEGIN:VEVENT
DTSTART;TZID=America/New_York:20250627T170000
DTEND;TZID=America/New_York:20250627T190000
DTSTAMP:20260421T152707
CREATED:20250506T142735Z
LAST-MODIFIED:20250506T142735Z
UID:10001290-1751043600-1751050800@ctrideguide.com
SUMMARY:Mens Night
DESCRIPTION:Enjoy food\, roulette\, MAage chair\, and entertainment.
URL:https://ctrideguide.com/event/mens-night-2/
LOCATION:Hartford Harley Davidson\, 221 Governor St.\, East Hartford\, CT
GEO:41.7707241;-72.6532985
X-APPLE-STRUCTURED-LOCATION;VALUE=URI;X-ADDRESS=Hartford Harley Davidson 221 Governor St. East Hartford CT;X-APPLE-RADIUS=500;X-TITLE=221 Governor St.:geo:-72.6532985,41.7707241
END:VEVENT
BEGIN:VEVENT
DTSTART;TZID=America/New_York:20250622T090000
DTEND;TZID=America/New_York:20250622T090000
DTSTAMP:20260421T152707
CREATED:20250506T142204Z
LAST-MODIFIED:20250506T142204Z
UID:10001145-1750582800-1750582800@ctrideguide.com
SUMMARY:TRANTOLO TOURS
DESCRIPTION:Our weekly rides are back! Join us every Sunday (weather permitting) for a fun ride throughout Connecticut and New England.
URL:https://ctrideguide.com/event/trantolo-tours-47/
LOCATION:Hartford Harley Davidson\, 221 Governor St.\, East Hartford\, CT
GEO:41.7707241;-72.6532985
X-APPLE-STRUCTURED-LOCATION;VALUE=URI;X-ADDRESS=Hartford Harley Davidson 221 Governor St. East Hartford CT;X-APPLE-RADIUS=500;X-TITLE=221 Governor St.:geo:-72.6532985,41.7707241
END:VEVENT
BEGIN:VEVENT
DTSTART;TZID=America/New_York:20250621T110000
DTEND;TZID=America/New_York:20250621T150000
DTSTAMP:20260421T152707
CREATED:20250506T142504Z
LAST-MODIFIED:20250506T142504Z
UID:10001239-1750503600-1750518000@ctrideguide.com
SUMMARY:Summer Cookout
DESCRIPTION:Come by Hartford Harley and enjoy our Lunch cookout.
URL:https://ctrideguide.com/event/summer-cookout/
LOCATION:Hartford Harley Davidson\, 221 Governor St.\, East Hartford\, CT
GEO:41.7707241;-72.6532985
X-APPLE-STRUCTURED-LOCATION;VALUE=URI;X-ADDRESS=Hartford Harley Davidson 221 Governor St. East Hartford CT;X-APPLE-RADIUS=500;X-TITLE=221 Governor St.:geo:-72.6532985,41.7707241
END:VEVENT
BEGIN:VEVENT
DTSTART;TZID=America/New_York:20250614T110000
DTEND;TZID=America/New_York:20250614T150000
DTSTAMP:20260421T152707
CREATED:20250506T142504Z
LAST-MODIFIED:20250506T142504Z
UID:10001238-1749898800-1749913200@ctrideguide.com
SUMMARY:Fathers Day Event
DESCRIPTION:Bring Dad and see what we have to offer.
URL:https://ctrideguide.com/event/fathers-day-event-4/
LOCATION:Hartford Harley Davidson\, 221 Governor St.\, East Hartford\, CT
GEO:41.7707241;-72.6532985
X-APPLE-STRUCTURED-LOCATION;VALUE=URI;X-ADDRESS=Hartford Harley Davidson 221 Governor St. East Hartford CT;X-APPLE-RADIUS=500;X-TITLE=221 Governor St.:geo:-72.6532985,41.7707241
END:VEVENT
BEGIN:VEVENT
DTSTART;TZID=America/New_York:20250607T110000
DTEND;TZID=America/New_York:20250607T150000
DTSTAMP:20260421T152707
CREATED:20250506T142449Z
LAST-MODIFIED:20250506T142449Z
UID:10001237-1749294000-1749308400@ctrideguide.com
SUMMARY:Speaker Contest
DESCRIPTION:Final details to be announced.
URL:https://ctrideguide.com/event/speaker-contest/
LOCATION:Hartford Harley Davidson\, 221 Governor St.\, East Hartford\, CT
GEO:41.7707241;-72.6532985
X-APPLE-STRUCTURED-LOCATION;VALUE=URI;X-ADDRESS=Hartford Harley Davidson 221 Governor St. East Hartford CT;X-APPLE-RADIUS=500;X-TITLE=221 Governor St.:geo:-72.6532985,41.7707241
END:VEVENT
BEGIN:VEVENT
DTSTART;TZID=America/New_York:20250530T170000
DTEND;TZID=America/New_York:20250530T190000
DTSTAMP:20260421T152707
CREATED:20250506T142749Z
LAST-MODIFIED:20250506T142749Z
UID:10001291-1748624400-1748631600@ctrideguide.com
SUMMARY:Ladies Night
DESCRIPTION:Ladies\, this night is for you!  Wine\, crafts\, food\, and much more.
URL:https://ctrideguide.com/event/ladies-night-3/
LOCATION:Hartford Harley Davidson\, 221 Governor St.\, East Hartford\, CT
GEO:41.7707241;-72.6532985
X-APPLE-STRUCTURED-LOCATION;VALUE=URI;X-ADDRESS=Hartford Harley Davidson 221 Governor St. East Hartford CT;X-APPLE-RADIUS=500;X-TITLE=221 Governor St.:geo:-72.6532985,41.7707241
END:VEVENT
BEGIN:VEVENT
DTSTART;TZID=America/New_York:20250524T110000
DTEND;TZID=America/New_York:20250524T150000
DTSTAMP:20260421T152707
CREATED:20250506T142534Z
LAST-MODIFIED:20250506T142534Z
UID:10001252-1748084400-1748098800@ctrideguide.com
SUMMARY:Service Member Saturday
DESCRIPTION:Come to Hartford Harley Davidson for a seminar where our Master Tech shows expert insights.
URL:https://ctrideguide.com/event/service-member-saturday/
LOCATION:Hartford Harley Davidson\, 221 Governor St.\, East Hartford\, CT
GEO:41.7707241;-72.6532985
X-APPLE-STRUCTURED-LOCATION;VALUE=URI;X-ADDRESS=Hartford Harley Davidson 221 Governor St. East Hartford CT;X-APPLE-RADIUS=500;X-TITLE=221 Governor St.:geo:-72.6532985,41.7707241
END:VEVENT
BEGIN:VEVENT
DTSTART;TZID=America/New_York:20250517T110000
DTEND;TZID=America/New_York:20250517T150000
DTSTAMP:20260421T152707
CREATED:20250506T142534Z
LAST-MODIFIED:20250506T142534Z
UID:10001251-1747479600-1747494000@ctrideguide.com
SUMMARY:Bike Blessing and Bike Show
DESCRIPTION:Come by Hartford Harley Davidson for a Bike Blessing done by Black Sheep. We will also have our Bike Show. Trophy for Best in Show.
URL:https://ctrideguide.com/event/bike-blessing-and-bike-show/
LOCATION:Hartford Harley Davidson\, 221 Governor St.\, East Hartford\, CT
GEO:41.7707241;-72.6532985
X-APPLE-STRUCTURED-LOCATION;VALUE=URI;X-ADDRESS=Hartford Harley Davidson 221 Governor St. East Hartford CT;X-APPLE-RADIUS=500;X-TITLE=221 Governor St.:geo:-72.6532985,41.7707241
END:VEVENT
BEGIN:VEVENT
DTSTART;TZID=America/New_York:20250503T000000
DTEND;TZID=America/New_York:20250503T000000
DTSTAMP:20260421T152707
CREATED:20250506T143406Z
LAST-MODIFIED:20250506T143406Z
UID:10001363-1746230400-1746230400@ctrideguide.com
SUMMARY:Tent Event
DESCRIPTION:Come to Hartford Harley and check out what we have under the tent.
URL:https://ctrideguide.com/event/tent-event/
LOCATION:Hartford Harley Davidson\, 221 Governor St.\, East Hartford\, CT
GEO:41.7707241;-72.6532985
X-APPLE-STRUCTURED-LOCATION;VALUE=URI;X-ADDRESS=Hartford Harley Davidson 221 Governor St. East Hartford CT;X-APPLE-RADIUS=500;X-TITLE=221 Governor St.:geo:-72.6532985,41.7707241
END:VEVENT
BEGIN:VEVENT
DTSTART;TZID=America/New_York:20250426T000000
DTEND;TZID=America/New_York:20250426T000000
DTSTAMP:20260421T152707
CREATED:20250506T143406Z
LAST-MODIFIED:20250506T143406Z
UID:10001362-1745625600-1745625600@ctrideguide.com
SUMMARY:Spring Open House
DESCRIPTION:Come to Hartford Harley and see what we have to offer. Pig roast\, entertainment\, tattoo artist\, and much more.
URL:https://ctrideguide.com/event/spring-open-house-3/
LOCATION:Hartford Harley Davidson\, 221 Governor St.\, East Hartford\, CT
GEO:41.7707241;-72.6532985
X-APPLE-STRUCTURED-LOCATION;VALUE=URI;X-ADDRESS=Hartford Harley Davidson 221 Governor St. East Hartford CT;X-APPLE-RADIUS=500;X-TITLE=221 Governor St.:geo:-72.6532985,41.7707241
END:VEVENT
END:VCALENDAR