BEGIN:VCALENDAR
VERSION:2.0
PRODID:-//CT Ride Guide - ECPv6.15.18//NONSGML v1.0//EN
CALSCALE:GREGORIAN
METHOD:PUBLISH
X-WR-CALNAME:CT Ride Guide
X-ORIGINAL-URL:https://ctrideguide.com
X-WR-CALDESC:Events for CT Ride Guide
REFRESH-INTERVAL;VALUE=DURATION:PT1H
X-Robots-Tag:noindex
X-PUBLISHED-TTL:PT1H
BEGIN:VTIMEZONE
TZID:America/New_York
BEGIN:DAYLIGHT
TZOFFSETFROM:-0500
TZOFFSETTO:-0400
TZNAME:EDT
DTSTART:20240310T070000
END:DAYLIGHT
BEGIN:STANDARD
TZOFFSETFROM:-0400
TZOFFSETTO:-0500
TZNAME:EST
DTSTART:20241103T060000
END:STANDARD
BEGIN:DAYLIGHT
TZOFFSETFROM:-0500
TZOFFSETTO:-0400
TZNAME:EDT
DTSTART:20250309T070000
END:DAYLIGHT
BEGIN:STANDARD
TZOFFSETFROM:-0400
TZOFFSETTO:-0500
TZNAME:EST
DTSTART:20251102T060000
END:STANDARD
BEGIN:DAYLIGHT
TZOFFSETFROM:-0500
TZOFFSETTO:-0400
TZNAME:EDT
DTSTART:20260308T070000
END:DAYLIGHT
BEGIN:STANDARD
TZOFFSETFROM:-0400
TZOFFSETTO:-0500
TZNAME:EST
DTSTART:20261101T060000
END:STANDARD
END:VTIMEZONE
BEGIN:VEVENT
DTSTART;TZID=America/New_York:20251213T100000
DTEND;TZID=America/New_York:20251213T100000
DTSTAMP:20260421T182254
CREATED:20250506T142356Z
LAST-MODIFIED:20250506T142356Z
UID:10001194-1765620000-1765620000@ctrideguide.com
SUMMARY:Freedom Ride
DESCRIPTION:Come to Freedom Road Harley for breakfast and an enjoyable ride. Leaves from Freedom Road and returns for Lunch.
URL:https://ctrideguide.com/event/freedom-ride-10/
LOCATION:Freedom Road Harley Davidson\, 557 West Main St.\, Branford\, CT
GEO:41.278414;-72.8438398
X-APPLE-STRUCTURED-LOCATION;VALUE=URI;X-ADDRESS=Freedom Road Harley Davidson 557 West Main St. Branford CT;X-APPLE-RADIUS=500;X-TITLE=557 West Main St.:geo:-72.8438398,41.278414
END:VEVENT
BEGIN:VEVENT
DTSTART;VALUE=DATE:20251213
DTEND;VALUE=DATE:20251214
DTSTAMP:20260421T182254
CREATED:20250506T143454Z
LAST-MODIFIED:20250506T150037Z
UID:10001381-1765584000-1765670399@ctrideguide.com
SUMMARY:Toy Drive
DESCRIPTION:Come to Freedom Road and join us and East Coastin Crew.  Bring  a toy for the underprivileged.
URL:https://ctrideguide.com/event/toy-drive-2/
LOCATION:Freedom Road Harley Davidson\, 557 West Main St.\, Branford\, CT
GEO:41.278414;-72.8438398
X-APPLE-STRUCTURED-LOCATION;VALUE=URI;X-ADDRESS=Freedom Road Harley Davidson 557 West Main St. Branford CT;X-APPLE-RADIUS=500;X-TITLE=557 West Main St.:geo:-72.8438398,41.278414
END:VEVENT
BEGIN:VEVENT
DTSTART;TZID=America/New_York:20251206T100000
DTEND;TZID=America/New_York:20251206T120000
DTSTAMP:20260421T182254
CREATED:20250506T142419Z
LAST-MODIFIED:20250506T142419Z
UID:10001212-1765015200-1765022400@ctrideguide.com
SUMMARY:Breakfast at Freedom Road
DESCRIPTION:Come by Freedom Road for a great breakfast every Saturday.
URL:https://ctrideguide.com/event/breakfast-at-freedom-road-9/
LOCATION:Freedom Road Harley Davidson\, 557 West Main St.\, Branford\, CT
GEO:41.278414;-72.8438398
X-APPLE-STRUCTURED-LOCATION;VALUE=URI;X-ADDRESS=Freedom Road Harley Davidson 557 West Main St. Branford CT;X-APPLE-RADIUS=500;X-TITLE=557 West Main St.:geo:-72.8438398,41.278414
END:VEVENT
BEGIN:VEVENT
DTSTART;TZID=America/New_York:20251108T100000
DTEND;TZID=America/New_York:20251108T100000
DTSTAMP:20260421T182254
CREATED:20250506T142356Z
LAST-MODIFIED:20250506T142356Z
UID:10001193-1762596000-1762596000@ctrideguide.com
SUMMARY:Freedom Ride
DESCRIPTION:Come to Freedom Road Harley for breakfast and an enjoyable ride. Leaves from Freedom Road and returns for Lunch.
URL:https://ctrideguide.com/event/freedom-ride-9/
LOCATION:Freedom Road Harley Davidson\, 557 West Main St.\, Branford\, CT
GEO:41.278414;-72.8438398
X-APPLE-STRUCTURED-LOCATION;VALUE=URI;X-ADDRESS=Freedom Road Harley Davidson 557 West Main St. Branford CT;X-APPLE-RADIUS=500;X-TITLE=557 West Main St.:geo:-72.8438398,41.278414
END:VEVENT
BEGIN:VEVENT
DTSTART;TZID=America/New_York:20251101T100000
DTEND;TZID=America/New_York:20251101T120000
DTSTAMP:20260421T182254
CREATED:20250506T142419Z
LAST-MODIFIED:20250506T142419Z
UID:10001211-1761991200-1761998400@ctrideguide.com
SUMMARY:Breakfast at Freedom Road
DESCRIPTION:Come by Freedom Road for a great breakfast every Saturday.
URL:https://ctrideguide.com/event/breakfast-at-freedom-road-8/
LOCATION:Freedom Road Harley Davidson\, 557 West Main St.\, Branford\, CT
GEO:41.278414;-72.8438398
X-APPLE-STRUCTURED-LOCATION;VALUE=URI;X-ADDRESS=Freedom Road Harley Davidson 557 West Main St. Branford CT;X-APPLE-RADIUS=500;X-TITLE=557 West Main St.:geo:-72.8438398,41.278414
END:VEVENT
BEGIN:VEVENT
DTSTART;VALUE=DATE:20251018
DTEND;VALUE=DATE:20251019
DTSTAMP:20260421T182254
CREATED:20250506T143426Z
LAST-MODIFIED:20250506T145931Z
UID:10001378-1760745600-1760831999@ctrideguide.com
SUMMARY:Octoberfest
DESCRIPTION:Come to Freedom Road and enjoy our Octoberfest Cookout and Stein Holding Contest.
URL:https://ctrideguide.com/event/octoberfest/
LOCATION:Freedom Road Harley Davidson\, 557 West Main St.\, Branford\, CT
GEO:41.278414;-72.8438398
X-APPLE-STRUCTURED-LOCATION;VALUE=URI;X-ADDRESS=Freedom Road Harley Davidson 557 West Main St. Branford CT;X-APPLE-RADIUS=500;X-TITLE=557 West Main St.:geo:-72.8438398,41.278414
END:VEVENT
BEGIN:VEVENT
DTSTART;TZID=America/New_York:20251011T100000
DTEND;TZID=America/New_York:20251011T100000
DTSTAMP:20260421T182254
CREATED:20250506T142353Z
LAST-MODIFIED:20250506T142353Z
UID:10001192-1760176800-1760176800@ctrideguide.com
SUMMARY:Freedom Ride
DESCRIPTION:Come to Freedom Road Harley for breakfast and an enjoyable ride. Leaves from Freedom Road and returns for Lunch.
URL:https://ctrideguide.com/event/freedom-ride-8/
LOCATION:Freedom Road Harley Davidson\, 557 West Main St.\, Branford\, CT
GEO:41.278414;-72.8438398
X-APPLE-STRUCTURED-LOCATION;VALUE=URI;X-ADDRESS=Freedom Road Harley Davidson 557 West Main St. Branford CT;X-APPLE-RADIUS=500;X-TITLE=557 West Main St.:geo:-72.8438398,41.278414
END:VEVENT
BEGIN:VEVENT
DTSTART;TZID=America/New_York:20251004T100000
DTEND;TZID=America/New_York:20251004T120000
DTSTAMP:20260421T182254
CREATED:20250506T142419Z
LAST-MODIFIED:20250506T142419Z
UID:10001210-1759572000-1759579200@ctrideguide.com
SUMMARY:Breakfast at Freedom Road
DESCRIPTION:Come by Freedom Road for a great breakfast every Saturday.
URL:https://ctrideguide.com/event/breakfast-at-freedom-road-7/
LOCATION:Freedom Road Harley Davidson\, 557 West Main St.\, Branford\, CT
GEO:41.278414;-72.8438398
X-APPLE-STRUCTURED-LOCATION;VALUE=URI;X-ADDRESS=Freedom Road Harley Davidson 557 West Main St. Branford CT;X-APPLE-RADIUS=500;X-TITLE=557 West Main St.:geo:-72.8438398,41.278414
END:VEVENT
BEGIN:VEVENT
DTSTART;VALUE=DATE:20250920
DTEND;VALUE=DATE:20250921
DTSTAMP:20260421T182254
CREATED:20250506T143426Z
LAST-MODIFIED:20250506T145849Z
UID:10001377-1758326400-1758412799@ctrideguide.com
SUMMARY:Music Fest
DESCRIPTION:Fall is coming so come to Freedom Road for our MUSIC FEST.  Great time with great entertainment plus so much more.
URL:https://ctrideguide.com/event/music-fest/
LOCATION:Freedom Road Harley Davidson\, 557 West Main St.\, Branford\, CT
GEO:41.278414;-72.8438398
X-APPLE-STRUCTURED-LOCATION;VALUE=URI;X-ADDRESS=Freedom Road Harley Davidson 557 West Main St. Branford CT;X-APPLE-RADIUS=500;X-TITLE=557 West Main St.:geo:-72.8438398,41.278414
END:VEVENT
BEGIN:VEVENT
DTSTART;TZID=America/New_York:20250913T100000
DTEND;TZID=America/New_York:20250913T100000
DTSTAMP:20260421T182254
CREATED:20250506T142353Z
LAST-MODIFIED:20250506T142353Z
UID:10001191-1757757600-1757757600@ctrideguide.com
SUMMARY:Freedom Ride
DESCRIPTION:Come to Freedom Road Harley for breakfast and an enjoyable ride. Leaves from Freedom Road and returns for Lunch.
URL:https://ctrideguide.com/event/freedom-ride-7/
LOCATION:Freedom Road Harley Davidson\, 557 West Main St.\, Branford\, CT
GEO:41.278414;-72.8438398
X-APPLE-STRUCTURED-LOCATION;VALUE=URI;X-ADDRESS=Freedom Road Harley Davidson 557 West Main St. Branford CT;X-APPLE-RADIUS=500;X-TITLE=557 West Main St.:geo:-72.8438398,41.278414
END:VEVENT
BEGIN:VEVENT
DTSTART;TZID=America/New_York:20250907T090000
DTEND;TZID=America/New_York:20250907T090000
DTSTAMP:20260421T182254
CREATED:20250506T142234Z
LAST-MODIFIED:20250506T142234Z
UID:10001155-1757235600-1757235600@ctrideguide.com
SUMMARY:TRANTOLO TOURS
DESCRIPTION:Our weekly rides are back! Join us every Sunday (weather permitting) for a fun ride throughout Connecticut and New England.
URL:https://ctrideguide.com/event/trantolo-tours-57/
LOCATION:Freedom Road Harley Davidson\, 557 West Main St.\, Branford\, CT
GEO:41.278414;-72.8438398
X-APPLE-STRUCTURED-LOCATION;VALUE=URI;X-ADDRESS=Freedom Road Harley Davidson 557 West Main St. Branford CT;X-APPLE-RADIUS=500;X-TITLE=557 West Main St.:geo:-72.8438398,41.278414
END:VEVENT
BEGIN:VEVENT
DTSTART;TZID=America/New_York:20250906T100000
DTEND;TZID=America/New_York:20250906T120000
DTSTAMP:20260421T182254
CREATED:20250506T142419Z
LAST-MODIFIED:20250506T142419Z
UID:10001209-1757152800-1757160000@ctrideguide.com
SUMMARY:Breakfast at Freedom Road
DESCRIPTION:Come by Freedom Road for a great breakfast every Saturday.
URL:https://ctrideguide.com/event/breakfast-at-freedom-road-6/
LOCATION:Freedom Road Harley Davidson\, 557 West Main St.\, Branford\, CT
GEO:41.278414;-72.8438398
X-APPLE-STRUCTURED-LOCATION;VALUE=URI;X-ADDRESS=Freedom Road Harley Davidson 557 West Main St. Branford CT;X-APPLE-RADIUS=500;X-TITLE=557 West Main St.:geo:-72.8438398,41.278414
END:VEVENT
BEGIN:VEVENT
DTSTART;VALUE=DATE:20250816
DTEND;VALUE=DATE:20250817
DTSTAMP:20260421T182254
CREATED:20250506T143423Z
LAST-MODIFIED:20250506T145807Z
UID:10001372-1755302400-1755388799@ctrideguide.com
SUMMARY:Sound Competition
DESCRIPTION:Come to Freedom Road and check out the incredible sound systems\, show yours off. Food Truck and much more.
URL:https://ctrideguide.com/event/sound-competition/
LOCATION:Freedom Road Harley Davidson\, 557 West Main St.\, Branford\, CT
GEO:41.278414;-72.8438398
X-APPLE-STRUCTURED-LOCATION;VALUE=URI;X-ADDRESS=Freedom Road Harley Davidson 557 West Main St. Branford CT;X-APPLE-RADIUS=500;X-TITLE=557 West Main St.:geo:-72.8438398,41.278414
END:VEVENT
BEGIN:VEVENT
DTSTART;TZID=America/New_York:20250809T100000
DTEND;TZID=America/New_York:20250809T100000
DTSTAMP:20260421T182254
CREATED:20250506T142353Z
LAST-MODIFIED:20250506T142353Z
UID:10001190-1754733600-1754733600@ctrideguide.com
SUMMARY:Freedom Ride
DESCRIPTION:Come to Freedom Road Harley for breakfast and an enjoyable ride. Leaves from Freedom Road and returns for Lunch.
URL:https://ctrideguide.com/event/freedom-ride-6/
LOCATION:Freedom Road Harley Davidson\, 557 West Main St.\, Branford\, CT
GEO:41.278414;-72.8438398
X-APPLE-STRUCTURED-LOCATION;VALUE=URI;X-ADDRESS=Freedom Road Harley Davidson 557 West Main St. Branford CT;X-APPLE-RADIUS=500;X-TITLE=557 West Main St.:geo:-72.8438398,41.278414
END:VEVENT
BEGIN:VEVENT
DTSTART;TZID=America/New_York:20250802T100000
DTEND;TZID=America/New_York:20250802T120000
DTSTAMP:20260421T182254
CREATED:20250506T142419Z
LAST-MODIFIED:20250506T142419Z
UID:10001208-1754128800-1754136000@ctrideguide.com
SUMMARY:Breakfast at Freedom Road
DESCRIPTION:Come by Freedom Road for a great breakfast every Saturday.
URL:https://ctrideguide.com/event/breakfast-at-freedom-road-5/
LOCATION:Freedom Road Harley Davidson\, 557 West Main St.\, Branford\, CT
GEO:41.278414;-72.8438398
X-APPLE-STRUCTURED-LOCATION;VALUE=URI;X-ADDRESS=Freedom Road Harley Davidson 557 West Main St. Branford CT;X-APPLE-RADIUS=500;X-TITLE=557 West Main St.:geo:-72.8438398,41.278414
END:VEVENT
BEGIN:VEVENT
DTSTART;TZID=America/New_York:20250727T090000
DTEND;TZID=America/New_York:20250727T090000
DTSTAMP:20260421T182254
CREATED:20250506T142219Z
LAST-MODIFIED:20250506T142219Z
UID:10001150-1753606800-1753606800@ctrideguide.com
SUMMARY:TRANTOLO TOURS
DESCRIPTION:Our weekly rides are back! Join us every Sunday (weather permitting) for a fun ride throughout Connecticut and New England.
URL:https://ctrideguide.com/event/trantolo-tours-52/
LOCATION:Freedom Road Harley Davidson\, 557 West Main St.\, Branford\, CT
GEO:41.278414;-72.8438398
X-APPLE-STRUCTURED-LOCATION;VALUE=URI;X-ADDRESS=Freedom Road Harley Davidson 557 West Main St. Branford CT;X-APPLE-RADIUS=500;X-TITLE=557 West Main St.:geo:-72.8438398,41.278414
END:VEVENT
BEGIN:VEVENT
DTSTART;VALUE=DATE:20250719
DTEND;VALUE=DATE:20250720
DTSTAMP:20260421T182254
CREATED:20250506T143422Z
LAST-MODIFIED:20250506T145727Z
UID:10001370-1752883200-1752969599@ctrideguide.com
SUMMARY:Cookout and Bike Contest
DESCRIPTION:Come to Freedom Road and join us for our mid-summer cookout and bike contest.
URL:https://ctrideguide.com/event/cookout-and-bike-contest/
LOCATION:Freedom Road Harley Davidson\, 557 West Main St.\, Branford\, CT
GEO:41.278414;-72.8438398
X-APPLE-STRUCTURED-LOCATION;VALUE=URI;X-ADDRESS=Freedom Road Harley Davidson 557 West Main St. Branford CT;X-APPLE-RADIUS=500;X-TITLE=557 West Main St.:geo:-72.8438398,41.278414
END:VEVENT
BEGIN:VEVENT
DTSTART;TZID=America/New_York:20250715T100000
DTEND;TZID=America/New_York:20250715T120000
DTSTAMP:20260421T182254
CREATED:20250506T142415Z
LAST-MODIFIED:20250506T142415Z
UID:10001207-1752573600-1752580800@ctrideguide.com
SUMMARY:Breakfast at Freedom Road
DESCRIPTION:Come by Freedom Road for a great breakfast every Saturday.
URL:https://ctrideguide.com/event/breakfast-at-freedom-road-4/
LOCATION:Freedom Road Harley Davidson\, 557 West Main St.\, Branford\, CT
GEO:41.278414;-72.8438398
X-APPLE-STRUCTURED-LOCATION;VALUE=URI;X-ADDRESS=Freedom Road Harley Davidson 557 West Main St. Branford CT;X-APPLE-RADIUS=500;X-TITLE=557 West Main St.:geo:-72.8438398,41.278414
END:VEVENT
BEGIN:VEVENT
DTSTART;TZID=America/New_York:20250712T100000
DTEND;TZID=America/New_York:20250712T100000
DTSTAMP:20260421T182254
CREATED:20250506T142353Z
LAST-MODIFIED:20250506T142353Z
UID:10001189-1752314400-1752314400@ctrideguide.com
SUMMARY:Freedom Ride
DESCRIPTION:Come to Freedom Road Harley for breakfast and an enjoyable ride. Leaves from Freedom Road and returns for Lunch.
URL:https://ctrideguide.com/event/freedom-ride-5/
LOCATION:Freedom Road Harley Davidson\, 557 West Main St.\, Branford\, CT
GEO:41.278414;-72.8438398
X-APPLE-STRUCTURED-LOCATION;VALUE=URI;X-ADDRESS=Freedom Road Harley Davidson 557 West Main St. Branford CT;X-APPLE-RADIUS=500;X-TITLE=557 West Main St.:geo:-72.8438398,41.278414
END:VEVENT
BEGIN:VEVENT
DTSTART;TZID=America/New_York:20250629T090000
DTEND;TZID=America/New_York:20250629T090000
DTSTAMP:20260421T182254
CREATED:20250506T142205Z
LAST-MODIFIED:20250506T142205Z
UID:10001146-1751187600-1751187600@ctrideguide.com
SUMMARY:TRANTOLO TOURS
DESCRIPTION:Our weekly rides are back! Join us every Sunday (weather permitting) for a fun ride throughout Connecticut and New England.
URL:https://ctrideguide.com/event/trantolo-tours-48/
LOCATION:Freedom Road Harley Davidson\, 557 West Main St.\, Branford\, CT
GEO:41.278414;-72.8438398
X-APPLE-STRUCTURED-LOCATION;VALUE=URI;X-ADDRESS=Freedom Road Harley Davidson 557 West Main St. Branford CT;X-APPLE-RADIUS=500;X-TITLE=557 West Main St.:geo:-72.8438398,41.278414
END:VEVENT
BEGIN:VEVENT
DTSTART;VALUE=DATE:20250621
DTEND;VALUE=DATE:20250622
DTSTAMP:20260421T182254
CREATED:20250506T143419Z
LAST-MODIFIED:20250506T145621Z
UID:10001367-1750464000-1750550399@ctrideguide.com
SUMMARY:Food Truck Round-Up
DESCRIPTION:Come to Freedom Road for our Food Truck Competition and Round Up. Check out some of the best Food Trucks in the area.
URL:https://ctrideguide.com/event/food-truck-round-up/
LOCATION:Freedom Road Harley Davidson\, 557 West Main St.\, Branford\, CT
GEO:41.278414;-72.8438398
X-APPLE-STRUCTURED-LOCATION;VALUE=URI;X-ADDRESS=Freedom Road Harley Davidson 557 West Main St. Branford CT;X-APPLE-RADIUS=500;X-TITLE=557 West Main St.:geo:-72.8438398,41.278414
END:VEVENT
BEGIN:VEVENT
DTSTART;TZID=America/New_York:20250614T100000
DTEND;TZID=America/New_York:20250614T100000
DTSTAMP:20260421T182254
CREATED:20250506T142352Z
LAST-MODIFIED:20250506T142352Z
UID:10001188-1749895200-1749895200@ctrideguide.com
SUMMARY:Freedom Ride
DESCRIPTION:Come to Freedom Road Harley for breakfast and an enjoyable ride. Leaves from Freedom Road and returns for Lunch.
URL:https://ctrideguide.com/event/freedom-ride-4/
LOCATION:Freedom Road Harley Davidson\, 557 West Main St.\, Branford\, CT
GEO:41.278414;-72.8438398
X-APPLE-STRUCTURED-LOCATION;VALUE=URI;X-ADDRESS=Freedom Road Harley Davidson 557 West Main St. Branford CT;X-APPLE-RADIUS=500;X-TITLE=557 West Main St.:geo:-72.8438398,41.278414
END:VEVENT
BEGIN:VEVENT
DTSTART;TZID=America/New_York:20250607T100000
DTEND;TZID=America/New_York:20250607T120000
DTSTAMP:20260421T182254
CREATED:20250506T142415Z
LAST-MODIFIED:20250506T142415Z
UID:10001206-1749290400-1749297600@ctrideguide.com
SUMMARY:Breakfast at Freedom Road
DESCRIPTION:Come by Freedom Road for a great breakfast every Saturday.
URL:https://ctrideguide.com/event/breakfast-at-freedom-road-3/
LOCATION:Freedom Road Harley Davidson\, 557 West Main St.\, Branford\, CT
GEO:41.278414;-72.8438398
X-APPLE-STRUCTURED-LOCATION;VALUE=URI;X-ADDRESS=Freedom Road Harley Davidson 557 West Main St. Branford CT;X-APPLE-RADIUS=500;X-TITLE=557 West Main St.:geo:-72.8438398,41.278414
END:VEVENT
BEGIN:VEVENT
DTSTART;TZID=America/New_York:20250518T090000
DTEND;TZID=America/New_York:20250518T090000
DTSTAMP:20260421T182254
CREATED:20250506T142149Z
LAST-MODIFIED:20250506T142149Z
UID:10001140-1747558800-1747558800@ctrideguide.com
SUMMARY:TRANTOLO TOURS
DESCRIPTION:Our weekly rides are back! Join us every Sunday (weather permitting) for a fun ride throughout Connecticut and New England.
URL:https://ctrideguide.com/event/trantolo-tours-42/
LOCATION:Freedom Road Harley Davidson\, 557 West Main St.\, Branford\, CT
GEO:41.278414;-72.8438398
X-APPLE-STRUCTURED-LOCATION;VALUE=URI;X-ADDRESS=Freedom Road Harley Davidson 557 West Main St. Branford CT;X-APPLE-RADIUS=500;X-TITLE=557 West Main St.:geo:-72.8438398,41.278414
END:VEVENT
BEGIN:VEVENT
DTSTART;VALUE=DATE:20250517
DTEND;VALUE=DATE:20250518
DTSTAMP:20260421T182254
CREATED:20250506T143418Z
LAST-MODIFIED:20250506T144658Z
UID:10001366-1747440000-1747526399@ctrideguide.com
SUMMARY:4th Year Anniversary Celebration
DESCRIPTION:Come to Freedom Road and help us celebrate our anniversay with food trucks\, entertainment\, and much more.
URL:https://ctrideguide.com/event/4th-year-anniversary-celebration/
LOCATION:Freedom Road Harley Davidson\, 557 West Main St.\, Branford\, CT
GEO:41.278414;-72.8438398
X-APPLE-STRUCTURED-LOCATION;VALUE=URI;X-ADDRESS=Freedom Road Harley Davidson 557 West Main St. Branford CT;X-APPLE-RADIUS=500;X-TITLE=557 West Main St.:geo:-72.8438398,41.278414
END:VEVENT
BEGIN:VEVENT
DTSTART;TZID=America/New_York:20250510T100000
DTEND;TZID=America/New_York:20250510T100000
DTSTAMP:20260421T182254
CREATED:20250506T142350Z
LAST-MODIFIED:20250506T142350Z
UID:10001187-1746871200-1746871200@ctrideguide.com
SUMMARY:3rd Annual Ride to Solstice
DESCRIPTION:Annual ride to see the seniors. Take part in making them smile.
URL:https://ctrideguide.com/event/3rd-annual-ride-to-solstice/
LOCATION:Freedom Road Harley Davidson\, 557 West Main St.\, Branford\, CT
GEO:41.278414;-72.8438398
X-APPLE-STRUCTURED-LOCATION;VALUE=URI;X-ADDRESS=Freedom Road Harley Davidson 557 West Main St. Branford CT;X-APPLE-RADIUS=500;X-TITLE=557 West Main St.:geo:-72.8438398,41.278414
END:VEVENT
BEGIN:VEVENT
DTSTART;TZID=America/New_York:20250510T100000
DTEND;TZID=America/New_York:20250510T100000
DTSTAMP:20260421T182254
CREATED:20250506T142349Z
LAST-MODIFIED:20250506T142349Z
UID:10001186-1746871200-1746871200@ctrideguide.com
SUMMARY:Freedom Ride
DESCRIPTION:Come to Freedom Road Harley for breakfast and an enjoyable ride. Leaves from Freedom Road and returns for Lunch.
URL:https://ctrideguide.com/event/freedom-ride-3/
LOCATION:Freedom Road Harley Davidson\, 557 West Main St.\, Branford\, CT
GEO:41.278414;-72.8438398
X-APPLE-STRUCTURED-LOCATION;VALUE=URI;X-ADDRESS=Freedom Road Harley Davidson 557 West Main St. Branford CT;X-APPLE-RADIUS=500;X-TITLE=557 West Main St.:geo:-72.8438398,41.278414
END:VEVENT
BEGIN:VEVENT
DTSTART;TZID=America/New_York:20250503T100000
DTEND;TZID=America/New_York:20250503T120000
DTSTAMP:20260421T182254
CREATED:20250506T142415Z
LAST-MODIFIED:20250506T142415Z
UID:10001205-1746266400-1746273600@ctrideguide.com
SUMMARY:Breakfast at Freedom Road
DESCRIPTION:Come by Freedom Road for a great breakfast every Saturday.
URL:https://ctrideguide.com/event/breakfast-at-freedom-road-2/
LOCATION:Freedom Road Harley Davidson\, 557 West Main St.\, Branford\, CT
GEO:41.278414;-72.8438398
X-APPLE-STRUCTURED-LOCATION;VALUE=URI;X-ADDRESS=Freedom Road Harley Davidson 557 West Main St. Branford CT;X-APPLE-RADIUS=500;X-TITLE=557 West Main St.:geo:-72.8438398,41.278414
END:VEVENT
END:VCALENDAR