BEGIN:VCALENDAR
VERSION:2.0
PRODID:-//CT Ride Guide - ECPv6.15.18//NONSGML v1.0//EN
CALSCALE:GREGORIAN
METHOD:PUBLISH
X-ORIGINAL-URL:https://ctrideguide.com
X-WR-CALDESC:Events for CT Ride Guide
REFRESH-INTERVAL;VALUE=DURATION:PT1H
X-Robots-Tag:noindex
X-PUBLISHED-TTL:PT1H
BEGIN:VTIMEZONE
TZID:America/New_York
BEGIN:DAYLIGHT
TZOFFSETFROM:-0500
TZOFFSETTO:-0400
TZNAME:EDT
DTSTART:20240310T070000
END:DAYLIGHT
BEGIN:STANDARD
TZOFFSETFROM:-0400
TZOFFSETTO:-0500
TZNAME:EST
DTSTART:20241103T060000
END:STANDARD
BEGIN:DAYLIGHT
TZOFFSETFROM:-0500
TZOFFSETTO:-0400
TZNAME:EDT
DTSTART:20250309T070000
END:DAYLIGHT
BEGIN:STANDARD
TZOFFSETFROM:-0400
TZOFFSETTO:-0500
TZNAME:EST
DTSTART:20251102T060000
END:STANDARD
BEGIN:DAYLIGHT
TZOFFSETFROM:-0500
TZOFFSETTO:-0400
TZNAME:EDT
DTSTART:20260308T070000
END:DAYLIGHT
BEGIN:STANDARD
TZOFFSETFROM:-0400
TZOFFSETTO:-0500
TZNAME:EST
DTSTART:20261101T060000
END:STANDARD
END:VTIMEZONE
BEGIN:VEVENT
DTSTART;TZID=America/New_York:20250928T090000
DTEND;TZID=America/New_York:20250928T090000
DTSTAMP:20260421T232657
CREATED:20250506T142249Z
LAST-MODIFIED:20250506T142249Z
UID:10001158-1759050000-1759050000@ctrideguide.com
SUMMARY:TRANTOLO TOURS
DESCRIPTION:Our weekly rides are back! Join us every Sunday (weather permitting) for a fun ride throughout Connecticut and New England.
URL:https://ctrideguide.com/event/trantolo-tours-60/
LOCATION:Farmington Club\, Town Farm Rd\, Farmington\, CT
GEO:41.754638;-72.8235407
X-APPLE-STRUCTURED-LOCATION;VALUE=URI;X-ADDRESS=Farmington Club Town Farm Rd Farmington CT;X-APPLE-RADIUS=500;X-TITLE=Town Farm Rd:geo:-72.8235407,41.754638
END:VEVENT
BEGIN:VEVENT
DTSTART;TZID=America/New_York:20250817T090000
DTEND;TZID=America/New_York:20250817T090000
DTSTAMP:20260421T232657
CREATED:20250506T142220Z
LAST-MODIFIED:20250506T142220Z
UID:10001152-1755421200-1755421200@ctrideguide.com
SUMMARY:TRANTOLO TOURS
DESCRIPTION:Our weekly rides are back! Join us every Sunday (weather permitting) for a fun ride throughout Connecticut and New England.
URL:https://ctrideguide.com/event/trantolo-tours-54/
LOCATION:Farmington Club\, Town Farm Rd\, Farmington\, CT
GEO:41.754638;-72.8235407
X-APPLE-STRUCTURED-LOCATION;VALUE=URI;X-ADDRESS=Farmington Club Town Farm Rd Farmington CT;X-APPLE-RADIUS=500;X-TITLE=Town Farm Rd:geo:-72.8235407,41.754638
END:VEVENT
BEGIN:VEVENT
DTSTART;TZID=America/New_York:20250608T090000
DTEND;TZID=America/New_York:20250608T090000
DTSTAMP:20260421T232657
CREATED:20250506T142204Z
LAST-MODIFIED:20250506T142204Z
UID:10001143-1749373200-1749373200@ctrideguide.com
SUMMARY:TRANTOLO TOURS
DESCRIPTION:Our weekly rides are back! Join us every Sunday (weather permitting) for a fun ride throughout Connecticut and New England.
URL:https://ctrideguide.com/event/trantolo-tours-45/
LOCATION:Farmington Club\, Town Farm Rd\, Farmington\, CT
GEO:41.754638;-72.8235407
X-APPLE-STRUCTURED-LOCATION;VALUE=URI;X-ADDRESS=Farmington Club Town Farm Rd Farmington CT;X-APPLE-RADIUS=500;X-TITLE=Town Farm Rd:geo:-72.8235407,41.754638
END:VEVENT
END:VCALENDAR