BEGIN:VCALENDAR
VERSION:2.0
PRODID:-//CT Ride Guide - ECPv6.15.18//NONSGML v1.0//EN
CALSCALE:GREGORIAN
METHOD:PUBLISH
X-WR-CALNAME:CT Ride Guide
X-ORIGINAL-URL:https://ctrideguide.com
X-WR-CALDESC:Events for CT Ride Guide
REFRESH-INTERVAL;VALUE=DURATION:PT1H
X-Robots-Tag:noindex
X-PUBLISHED-TTL:PT1H
BEGIN:VTIMEZONE
TZID:America/New_York
BEGIN:DAYLIGHT
TZOFFSETFROM:-0500
TZOFFSETTO:-0400
TZNAME:EDT
DTSTART:20240310T070000
END:DAYLIGHT
BEGIN:STANDARD
TZOFFSETFROM:-0400
TZOFFSETTO:-0500
TZNAME:EST
DTSTART:20241103T060000
END:STANDARD
BEGIN:DAYLIGHT
TZOFFSETFROM:-0500
TZOFFSETTO:-0400
TZNAME:EDT
DTSTART:20250309T070000
END:DAYLIGHT
BEGIN:STANDARD
TZOFFSETFROM:-0400
TZOFFSETTO:-0500
TZNAME:EST
DTSTART:20251102T060000
END:STANDARD
BEGIN:DAYLIGHT
TZOFFSETFROM:-0500
TZOFFSETTO:-0400
TZNAME:EDT
DTSTART:20260308T070000
END:DAYLIGHT
BEGIN:STANDARD
TZOFFSETFROM:-0400
TZOFFSETTO:-0500
TZNAME:EST
DTSTART:20261101T060000
END:STANDARD
END:VTIMEZONE
BEGIN:VEVENT
DTSTART;TZID=America/New_York:20250531T103000
DTEND;TZID=America/New_York:20250531T103000
DTSTAMP:20260422T001742
CREATED:20250506T142446Z
LAST-MODIFIED:20250506T142446Z
UID:10001230-1748687400-1748687400@ctrideguide.com
SUMMARY:Bike Blessing
DESCRIPTION:Join us for our annual Bike Blessing.
URL:https://ctrideguide.com/event/bike-blessing-3/
LOCATION:Endicott Community Church of the Nazarene\, 1381 Union Center Maine Hwy\, Endicott\, NY
GEO:42.1183694;-76.0715724
X-APPLE-STRUCTURED-LOCATION;VALUE=URI;X-ADDRESS=Endicott Community Church of the Nazarene 1381 Union Center Maine Hwy Endicott NY;X-APPLE-RADIUS=500;X-TITLE=1381 Union Center Maine Hwy:geo:-76.0715724,42.1183694
END:VEVENT
END:VCALENDAR