BEGIN:VCALENDAR
VERSION:2.0
PRODID:-//CT Ride Guide - ECPv6.15.18//NONSGML v1.0//EN
CALSCALE:GREGORIAN
METHOD:PUBLISH
X-WR-CALNAME:CT Ride Guide
X-ORIGINAL-URL:https://ctrideguide.com
X-WR-CALDESC:Events for CT Ride Guide
REFRESH-INTERVAL;VALUE=DURATION:PT1H
X-Robots-Tag:noindex
X-PUBLISHED-TTL:PT1H
BEGIN:VTIMEZONE
TZID:America/New_York
BEGIN:DAYLIGHT
TZOFFSETFROM:-0500
TZOFFSETTO:-0400
TZNAME:EDT
DTSTART:20240310T070000
END:DAYLIGHT
BEGIN:STANDARD
TZOFFSETFROM:-0400
TZOFFSETTO:-0500
TZNAME:EST
DTSTART:20241103T060000
END:STANDARD
BEGIN:DAYLIGHT
TZOFFSETFROM:-0500
TZOFFSETTO:-0400
TZNAME:EDT
DTSTART:20250309T070000
END:DAYLIGHT
BEGIN:STANDARD
TZOFFSETFROM:-0400
TZOFFSETTO:-0500
TZNAME:EST
DTSTART:20251102T060000
END:STANDARD
BEGIN:DAYLIGHT
TZOFFSETFROM:-0500
TZOFFSETTO:-0400
TZNAME:EDT
DTSTART:20260308T070000
END:DAYLIGHT
BEGIN:STANDARD
TZOFFSETFROM:-0400
TZOFFSETTO:-0500
TZNAME:EST
DTSTART:20261101T060000
END:STANDARD
END:VTIMEZONE
BEGIN:VEVENT
DTSTART;TZID=America/New_York:20250907T083000
DTEND;TZID=America/New_York:20250907T083000
DTSTAMP:20260422T010817
CREATED:20250506T142134Z
LAST-MODIFIED:20250506T142134Z
UID:10001135-1757233800-1757233800@ctrideguide.com
SUMMARY:Rollin Street Thunder
DESCRIPTION:10th Annual HOGS and RODS show; loud pipes and muffler contests\, food\, and much more.
URL:https://ctrideguide.com/event/rollin-street-thunder/
LOCATION:Downtown\, Market St.\, Alexandria\, NY
GEO:44.3258558;-75.8725134
X-APPLE-STRUCTURED-LOCATION;VALUE=URI;X-ADDRESS=Downtown Market St. Alexandria NY;X-APPLE-RADIUS=500;X-TITLE=Market St.:geo:-75.8725134,44.3258558
END:VEVENT
END:VCALENDAR