BEGIN:VCALENDAR
VERSION:2.0
PRODID:-//CT Ride Guide - ECPv6.15.18//NONSGML v1.0//EN
CALSCALE:GREGORIAN
METHOD:PUBLISH
X-ORIGINAL-URL:https://ctrideguide.com
X-WR-CALDESC:Events for CT Ride Guide
REFRESH-INTERVAL;VALUE=DURATION:PT1H
X-Robots-Tag:noindex
X-PUBLISHED-TTL:PT1H
BEGIN:VTIMEZONE
TZID:America/New_York
BEGIN:DAYLIGHT
TZOFFSETFROM:-0500
TZOFFSETTO:-0400
TZNAME:EDT
DTSTART:20240310T070000
END:DAYLIGHT
BEGIN:STANDARD
TZOFFSETFROM:-0400
TZOFFSETTO:-0500
TZNAME:EST
DTSTART:20241103T060000
END:STANDARD
BEGIN:DAYLIGHT
TZOFFSETFROM:-0500
TZOFFSETTO:-0400
TZNAME:EDT
DTSTART:20250309T070000
END:DAYLIGHT
BEGIN:STANDARD
TZOFFSETFROM:-0400
TZOFFSETTO:-0500
TZNAME:EST
DTSTART:20251102T060000
END:STANDARD
BEGIN:DAYLIGHT
TZOFFSETFROM:-0500
TZOFFSETTO:-0400
TZNAME:EDT
DTSTART:20260308T070000
END:DAYLIGHT
BEGIN:STANDARD
TZOFFSETFROM:-0400
TZOFFSETTO:-0500
TZNAME:EST
DTSTART:20261101T060000
END:STANDARD
END:VTIMEZONE
BEGIN:VEVENT
DTSTART;TZID=America/New_York:20250619T170000
DTEND;TZID=America/New_York:20250619T210000
DTSTAMP:20260421T202337
CREATED:20250506T142835Z
LAST-MODIFIED:20250506T142835Z
UID:10001308-1750352400-1750366800@ctrideguide.com
SUMMARY:Bike Night
DESCRIPTION:Come to Battleship for our Great Bike Night; entertainment and so much more.
URL:https://ctrideguide.com/event/bike-night-6/
LOCATION:Battleship Harley Davidson\, 799 State St.\, Dartmouth\, MA
GEO:41.6381138;-71.0337221
X-APPLE-STRUCTURED-LOCATION;VALUE=URI;X-ADDRESS=Battleship Harley Davidson 799 State St. Dartmouth MA;X-APPLE-RADIUS=500;X-TITLE=799 State St.:geo:-71.0337221,41.6381138
END:VEVENT
BEGIN:VEVENT
DTSTART;VALUE=DATE:20250614
DTEND;VALUE=DATE:20250615
DTSTAMP:20260421T202337
CREATED:20250506T143505Z
LAST-MODIFIED:20250506T145556Z
UID:10001387-1749859200-1749945599@ctrideguide.com
SUMMARY:Fathers Day Event
DESCRIPTION:Bring Dad down to the Battleship for raffles and so much more.
URL:https://ctrideguide.com/event/fathers-day-event-5/
LOCATION:Battleship Harley Davidson\, 799 State St.\, Dartmouth\, MA
GEO:41.6381138;-71.0337221
X-APPLE-STRUCTURED-LOCATION;VALUE=URI;X-ADDRESS=Battleship Harley Davidson 799 State St. Dartmouth MA;X-APPLE-RADIUS=500;X-TITLE=799 State St.:geo:-71.0337221,41.6381138
END:VEVENT
BEGIN:VEVENT
DTSTART;TZID=America/New_York:20250530T000000
DTEND;TZID=America/New_York:20250629T000000
DTSTAMP:20260421T202337
CREATED:20250506T143505Z
LAST-MODIFIED:20250506T143505Z
UID:10001386-1748563200-1751155200@ctrideguide.com
SUMMARY:HD Flex Summer Event
DESCRIPTION:
URL:https://ctrideguide.com/event/hd-flex-summer-event/
LOCATION:Battleship Harley Davidson\, 799 State St.\, Dartmouth\, MA
GEO:41.6381138;-71.0337221
X-APPLE-STRUCTURED-LOCATION;VALUE=URI;X-ADDRESS=Battleship Harley Davidson 799 State St. Dartmouth MA;X-APPLE-RADIUS=500;X-TITLE=799 State St.:geo:-71.0337221,41.6381138
END:VEVENT
BEGIN:VEVENT
DTSTART;TZID=America/New_York:20250515T170000
DTEND;TZID=America/New_York:20250515T210000
DTSTAMP:20260421T202337
CREATED:20250506T143029Z
LAST-MODIFIED:20250506T143029Z
UID:10001328-1747328400-1747342800@ctrideguide.com
SUMMARY:Bike Night Kickoff
DESCRIPTION:Come on back to the Battleship and enjoy our Bike Night.  Entertainment by BACK IN THE DAY.
URL:https://ctrideguide.com/event/bike-night-kickoff-2/
LOCATION:Battleship Harley Davidson\, 799 State St.\, Dartmouth\, MA
GEO:41.6381138;-71.0337221
X-APPLE-STRUCTURED-LOCATION;VALUE=URI;X-ADDRESS=Battleship Harley Davidson 799 State St. Dartmouth MA;X-APPLE-RADIUS=500;X-TITLE=799 State St.:geo:-71.0337221,41.6381138
END:VEVENT
BEGIN:VEVENT
DTSTART;VALUE=DATE:20250510
DTEND;VALUE=DATE:20250511
DTSTAMP:20260421T202337
CREATED:20250506T143418Z
LAST-MODIFIED:20250506T144617Z
UID:10001365-1746835200-1746921599@ctrideguide.com
SUMMARY:Mothers Day Event
DESCRIPTION:Raffles\, Girls Clothes.  Come by and see why Mom is special.
URL:https://ctrideguide.com/event/mothers-day-event-2/
LOCATION:Battleship Harley Davidson\, 799 State St.\, Dartmouth\, MA
GEO:41.6381138;-71.0337221
X-APPLE-STRUCTURED-LOCATION;VALUE=URI;X-ADDRESS=Battleship Harley Davidson 799 State St. Dartmouth MA;X-APPLE-RADIUS=500;X-TITLE=799 State St.:geo:-71.0337221,41.6381138
END:VEVENT
BEGIN:VEVENT
DTSTART;TZID=America/New_York:20250509T000000
DTEND;TZID=America/New_York:20250518T000000
DTSTAMP:20260421T202337
CREATED:20250506T143456Z
LAST-MODIFIED:20250506T143456Z
UID:10001384-1746748800-1747526400@ctrideguide.com
SUMMARY:HD Test Rides
DESCRIPTION:Stop by Battleship Harley Davidson and test ride your favorite Harley Davidson.
URL:https://ctrideguide.com/event/hd-test-rides/
LOCATION:Battleship Harley Davidson\, 799 State St.\, Dartmouth\, MA
GEO:41.6381138;-71.0337221
X-APPLE-STRUCTURED-LOCATION;VALUE=URI;X-ADDRESS=Battleship Harley Davidson 799 State St. Dartmouth MA;X-APPLE-RADIUS=500;X-TITLE=799 State St.:geo:-71.0337221,41.6381138
END:VEVENT
END:VCALENDAR