BEGIN:VCALENDAR
VERSION:2.0
PRODID:-//CT Ride Guide - ECPv6.15.18//NONSGML v1.0//EN
CALSCALE:GREGORIAN
METHOD:PUBLISH
X-WR-CALNAME:CT Ride Guide
X-ORIGINAL-URL:https://ctrideguide.com
X-WR-CALDESC:Events for CT Ride Guide
REFRESH-INTERVAL;VALUE=DURATION:PT1H
X-Robots-Tag:noindex
X-PUBLISHED-TTL:PT1H
BEGIN:VTIMEZONE
TZID:America/New_York
BEGIN:DAYLIGHT
TZOFFSETFROM:-0500
TZOFFSETTO:-0400
TZNAME:EDT
DTSTART:20240310T070000
END:DAYLIGHT
BEGIN:STANDARD
TZOFFSETFROM:-0400
TZOFFSETTO:-0500
TZNAME:EST
DTSTART:20241103T060000
END:STANDARD
BEGIN:DAYLIGHT
TZOFFSETFROM:-0500
TZOFFSETTO:-0400
TZNAME:EDT
DTSTART:20250309T070000
END:DAYLIGHT
BEGIN:STANDARD
TZOFFSETFROM:-0400
TZOFFSETTO:-0500
TZNAME:EST
DTSTART:20251102T060000
END:STANDARD
BEGIN:DAYLIGHT
TZOFFSETFROM:-0500
TZOFFSETTO:-0400
TZNAME:EDT
DTSTART:20260308T070000
END:DAYLIGHT
BEGIN:STANDARD
TZOFFSETFROM:-0400
TZOFFSETTO:-0500
TZNAME:EST
DTSTART:20261101T060000
END:STANDARD
END:VTIMEZONE
BEGIN:VEVENT
DTSTART;TZID=America/New_York:20250614T090000
DTEND;TZID=America/New_York:20250614T090000
DTSTAMP:20260422T012444
CREATED:20250506T142303Z
LAST-MODIFIED:20250506T142303Z
UID:10001168-1749891600-1749891600@ctrideguide.com
SUMMARY:Rolling for Veterans Dice Run
DESCRIPTION:Great ride followed by BBQ Chicken Dinner\, raffles\, and much more.
URL:https://ctrideguide.com/event/rolling-for-veterans-dice-run/
LOCATION:Avon Veterans Hall\, 5480 Avon E Avon Rd\, Avon\, NY
GEO:42.9093564;-77.7134008
X-APPLE-STRUCTURED-LOCATION;VALUE=URI;X-ADDRESS=Avon Veterans Hall 5480 Avon E Avon Rd Avon NY;X-APPLE-RADIUS=500;X-TITLE=5480 Avon E Avon Rd:geo:-77.7134008,42.9093564
END:VEVENT
END:VCALENDAR