BEGIN:VCALENDAR
VERSION:2.0
PRODID:-//CT Ride Guide - ECPv6.15.18//NONSGML v1.0//EN
CALSCALE:GREGORIAN
METHOD:PUBLISH
X-ORIGINAL-URL:https://ctrideguide.com
X-WR-CALDESC:Events for CT Ride Guide
REFRESH-INTERVAL;VALUE=DURATION:PT1H
X-Robots-Tag:noindex
X-PUBLISHED-TTL:PT1H
BEGIN:VTIMEZONE
TZID:America/New_York
BEGIN:DAYLIGHT
TZOFFSETFROM:-0500
TZOFFSETTO:-0400
TZNAME:EDT
DTSTART:20240310T070000
END:DAYLIGHT
BEGIN:STANDARD
TZOFFSETFROM:-0400
TZOFFSETTO:-0500
TZNAME:EST
DTSTART:20241103T060000
END:STANDARD
BEGIN:DAYLIGHT
TZOFFSETFROM:-0500
TZOFFSETTO:-0400
TZNAME:EDT
DTSTART:20250309T070000
END:DAYLIGHT
BEGIN:STANDARD
TZOFFSETFROM:-0400
TZOFFSETTO:-0500
TZNAME:EST
DTSTART:20251102T060000
END:STANDARD
BEGIN:DAYLIGHT
TZOFFSETFROM:-0500
TZOFFSETTO:-0400
TZNAME:EDT
DTSTART:20260308T070000
END:DAYLIGHT
BEGIN:STANDARD
TZOFFSETFROM:-0400
TZOFFSETTO:-0500
TZNAME:EST
DTSTART:20261101T060000
END:STANDARD
END:VTIMEZONE
BEGIN:VEVENT
DTSTART;TZID=America/New_York:20250821T180000
DTEND;TZID=America/New_York:20250821T210000
DTSTAMP:20260422T005028
CREATED:20250506T143231Z
LAST-MODIFIED:20250506T143231Z
UID:10001357-1755799200-1755810000@ctrideguide.com
SUMMARY:Destination Bike Night
DESCRIPTION:Live Music by Boneyard.  Vendors\, raffles\, food\, and much more.  Presented by THROTTLE ROCKER and TRANTOLO and TRANTOLO.
URL:https://ctrideguide.com/event/destination-bike-night-19/
LOCATION:Amvets Post 12\, 754 Montgomery St.\, Chicopee\, MA
GEO:42.1797567;-72.5899017
X-APPLE-STRUCTURED-LOCATION;VALUE=URI;X-ADDRESS=Amvets Post 12 754 Montgomery St. Chicopee MA;X-APPLE-RADIUS=500;X-TITLE=754 Montgomery St.:geo:-72.5899017,42.1797567
END:VEVENT
BEGIN:VEVENT
DTSTART;TZID=America/New_York:20250717T180000
DTEND;TZID=America/New_York:20250717T210000
DTSTAMP:20260422T005028
CREATED:20250506T143222Z
LAST-MODIFIED:20250506T143222Z
UID:10001352-1752775200-1752786000@ctrideguide.com
SUMMARY:Destination Bike Night
DESCRIPTION:Live Music by Nightfall.  Vendors\, raffles\, food\, and much more. Presented by THROTTLE ROCKER and TRANTOLO and TRANTOLO.
URL:https://ctrideguide.com/event/destination-bike-night-14/
LOCATION:Amvets Post 12\, 754 Montgomery St.\, Chicopee\, MA
GEO:42.1797567;-72.5899017
X-APPLE-STRUCTURED-LOCATION;VALUE=URI;X-ADDRESS=Amvets Post 12 754 Montgomery St. Chicopee MA;X-APPLE-RADIUS=500;X-TITLE=754 Montgomery St.:geo:-72.5899017,42.1797567
END:VEVENT
BEGIN:VEVENT
DTSTART;TZID=America/New_York:20250612T180000
DTEND;TZID=America/New_York:20250612T210000
DTSTAMP:20260422T005028
CREATED:20250506T143211Z
LAST-MODIFIED:20250506T143211Z
UID:10001347-1749751200-1749762000@ctrideguide.com
SUMMARY:Destination Bike Night
DESCRIPTION:Live Music by King Kuel.  Vendors\, raffles\, food\, and much more. Presented by THROTTLE ROCKER and TRANTOLO and TRANTOLO.
URL:https://ctrideguide.com/event/destination-bike-night-9/
LOCATION:Amvets Post 12\, 754 Montgomery St.\, Chicopee\, MA
GEO:42.1797567;-72.5899017
X-APPLE-STRUCTURED-LOCATION;VALUE=URI;X-ADDRESS=Amvets Post 12 754 Montgomery St. Chicopee MA;X-APPLE-RADIUS=500;X-TITLE=754 Montgomery St.:geo:-72.5899017,42.1797567
END:VEVENT
BEGIN:VEVENT
DTSTART;TZID=America/New_York:20250508T180000
DTEND;TZID=America/New_York:20250508T210000
DTSTAMP:20260422T005028
CREATED:20250506T143202Z
LAST-MODIFIED:20250506T143202Z
UID:10001340-1746727200-1746738000@ctrideguide.com
SUMMARY:Destination Bike Night
DESCRIPTION:Live Music by Shovelhead.  Vendors\, raffles\, food\, and much more. Presented by THROTTLE ROCKER and TRANTOLO and TRANTOLO.
URL:https://ctrideguide.com/event/destination-bike-night-4/
LOCATION:Amvets Post 12\, 754 Montgomery St.\, Chicopee\, MA
GEO:42.1797567;-72.5899017
X-APPLE-STRUCTURED-LOCATION;VALUE=URI;X-ADDRESS=Amvets Post 12 754 Montgomery St. Chicopee MA;X-APPLE-RADIUS=500;X-TITLE=754 Montgomery St.:geo:-72.5899017,42.1797567
END:VEVENT
END:VCALENDAR