BEGIN:VCALENDAR
VERSION:2.0
PRODID:-//CT Ride Guide - ECPv6.15.18//NONSGML v1.0//EN
CALSCALE:GREGORIAN
METHOD:PUBLISH
X-ORIGINAL-URL:https://ctrideguide.com
X-WR-CALDESC:Events for CT Ride Guide
REFRESH-INTERVAL;VALUE=DURATION:PT1H
X-Robots-Tag:noindex
X-PUBLISHED-TTL:PT1H
BEGIN:VTIMEZONE
TZID:America/New_York
BEGIN:DAYLIGHT
TZOFFSETFROM:-0500
TZOFFSETTO:-0400
TZNAME:EDT
DTSTART:20240310T070000
END:DAYLIGHT
BEGIN:STANDARD
TZOFFSETFROM:-0400
TZOFFSETTO:-0500
TZNAME:EST
DTSTART:20241103T060000
END:STANDARD
BEGIN:DAYLIGHT
TZOFFSETFROM:-0500
TZOFFSETTO:-0400
TZNAME:EDT
DTSTART:20250309T070000
END:DAYLIGHT
BEGIN:STANDARD
TZOFFSETFROM:-0400
TZOFFSETTO:-0500
TZNAME:EST
DTSTART:20251102T060000
END:STANDARD
BEGIN:DAYLIGHT
TZOFFSETFROM:-0500
TZOFFSETTO:-0400
TZNAME:EDT
DTSTART:20260308T070000
END:DAYLIGHT
BEGIN:STANDARD
TZOFFSETFROM:-0400
TZOFFSETTO:-0500
TZNAME:EST
DTSTART:20261101T060000
END:STANDARD
END:VTIMEZONE
BEGIN:VEVENT
DTSTART;TZID=America/New_York:20250904T180000
DTEND;TZID=America/New_York:20250904T210000
DTSTAMP:20260422T014316
CREATED:20250506T143232Z
LAST-MODIFIED:20250506T143232Z
UID:10001359-1757008800-1757019600@ctrideguide.com
SUMMARY:Destination Bike Night
DESCRIPTION:Live music by  Backstage Pass.  Vendors\, raffles\, food\, and much more.  Presented by THROTTLE ROCKER and TRANTOLO and TRANTOLO.
URL:https://ctrideguide.com/event/destination-bike-night-21/
LOCATION:Agawam Polish Club\, 139 Southwick St.\, Feeding Hills\, MA
GEO:42.065586;-72.6852396
X-APPLE-STRUCTURED-LOCATION;VALUE=URI;X-ADDRESS=Agawam Polish Club 139 Southwick St. Feeding Hills MA;X-APPLE-RADIUS=500;X-TITLE=139 Southwick St.:geo:-72.6852396,42.065586
END:VEVENT
BEGIN:VEVENT
DTSTART;TZID=America/New_York:20250731T180000
DTEND;TZID=America/New_York:20250731T210000
DTSTAMP:20260422T014316
CREATED:20250506T143223Z
LAST-MODIFIED:20250506T143223Z
UID:10001354-1753984800-1753995600@ctrideguide.com
SUMMARY:Destination Bike Night
DESCRIPTION:Live MUSIC BY Change Up.  Vendors\, raffles\, food\, and much more.  Presented by THROTTLE ROCKER and TRANTOLO and TRANTOLO.
URL:https://ctrideguide.com/event/destination-bike-night-16/
LOCATION:Agawam Polish Club\, 139 Southwick St.\, Feeding Hills\, MA
GEO:42.065586;-72.6852396
X-APPLE-STRUCTURED-LOCATION;VALUE=URI;X-ADDRESS=Agawam Polish Club 139 Southwick St. Feeding Hills MA;X-APPLE-RADIUS=500;X-TITLE=139 Southwick St.:geo:-72.6852396,42.065586
END:VEVENT
BEGIN:VEVENT
DTSTART;TZID=America/New_York:20250626T180000
DTEND;TZID=America/New_York:20250626T210000
DTSTAMP:20260422T014316
CREATED:20250506T143211Z
LAST-MODIFIED:20250506T143211Z
UID:10001349-1750960800-1750971600@ctrideguide.com
SUMMARY:Destination Bike Night
DESCRIPTION:Live music\, vendors\, raffles\, food\, and much more. Presented by THROTTLE ROCKER and TRANTOLO and TRANTOLO.
URL:https://ctrideguide.com/event/destination-bike-night-11/
LOCATION:Agawam Polish Club\, 139 Southwick St.\, Feeding Hills\, MA
GEO:42.065586;-72.6852396
X-APPLE-STRUCTURED-LOCATION;VALUE=URI;X-ADDRESS=Agawam Polish Club 139 Southwick St. Feeding Hills MA;X-APPLE-RADIUS=500;X-TITLE=139 Southwick St.:geo:-72.6852396,42.065586
END:VEVENT
BEGIN:VEVENT
DTSTART;TZID=America/New_York:20250522T180000
DTEND;TZID=America/New_York:20250522T210000
DTSTAMP:20260422T014316
CREATED:20250506T143203Z
LAST-MODIFIED:20250506T143203Z
UID:10001342-1747936800-1747947600@ctrideguide.com
SUMMARY:Destination Bike Night
DESCRIPTION:Live Music by General Gist.  Raffles\, vendors\, food\, and much more. Presented by THROTTLE ROCKER and TRANTOLO and TRANTOLO.
URL:https://ctrideguide.com/event/destination-bike-night-6/
LOCATION:Agawam Polish Club\, 139 Southwick St.\, Feeding Hills\, MA
GEO:42.065586;-72.6852396
X-APPLE-STRUCTURED-LOCATION;VALUE=URI;X-ADDRESS=Agawam Polish Club 139 Southwick St. Feeding Hills MA;X-APPLE-RADIUS=500;X-TITLE=139 Southwick St.:geo:-72.6852396,42.065586
END:VEVENT
END:VCALENDAR