BEGIN:VCALENDAR
VERSION:2.0
PRODID:-//CT Ride Guide - ECPv6.15.18//NONSGML v1.0//EN
CALSCALE:GREGORIAN
METHOD:PUBLISH
X-ORIGINAL-URL:https://ctrideguide.com
X-WR-CALDESC:Events for CT Ride Guide
REFRESH-INTERVAL;VALUE=DURATION:PT1H
X-Robots-Tag:noindex
X-PUBLISHED-TTL:PT1H
BEGIN:VTIMEZONE
TZID:America/New_York
BEGIN:DAYLIGHT
TZOFFSETFROM:-0500
TZOFFSETTO:-0400
TZNAME:EDT
DTSTART:20240310T070000
END:DAYLIGHT
BEGIN:STANDARD
TZOFFSETFROM:-0400
TZOFFSETTO:-0500
TZNAME:EST
DTSTART:20241103T060000
END:STANDARD
BEGIN:DAYLIGHT
TZOFFSETFROM:-0500
TZOFFSETTO:-0400
TZNAME:EDT
DTSTART:20250309T070000
END:DAYLIGHT
BEGIN:STANDARD
TZOFFSETFROM:-0400
TZOFFSETTO:-0500
TZNAME:EST
DTSTART:20251102T060000
END:STANDARD
BEGIN:DAYLIGHT
TZOFFSETFROM:-0500
TZOFFSETTO:-0400
TZNAME:EDT
DTSTART:20260308T070000
END:DAYLIGHT
BEGIN:STANDARD
TZOFFSETFROM:-0400
TZOFFSETTO:-0500
TZNAME:EST
DTSTART:20261101T060000
END:STANDARD
END:VTIMEZONE
BEGIN:VEVENT
DTSTART;TZID=America/New_York:20250831T090000
DTEND;TZID=America/New_York:20250831T090000
DTSTAMP:20260421T234430
CREATED:20250506T142134Z
LAST-MODIFIED:20250506T142134Z
UID:10001136-1756630800-1756630800@ctrideguide.com
SUMMARY:Blandford Blast
DESCRIPTION:Come join us for the 1st annual Ride to the Blandford Fair\, Proceeds will benenfit the Shriners
URL:https://ctrideguide.com/event/blandford-blast/
LOCATION:Indian Motorcycle of springfield\, 962 Southampton Rd\, Westfield\, MA
GEO:42.1725009;-72.7277035
X-APPLE-STRUCTURED-LOCATION;VALUE=URI;X-ADDRESS=Indian Motorcycle of springfield 962 Southampton Rd Westfield MA;X-APPLE-RADIUS=500;X-TITLE=962 Southampton Rd:geo:-72.7277035,42.1725009
END:VEVENT
BEGIN:VEVENT
DTSTART;TZID=America/New_York:20250830T110000
DTEND;TZID=America/New_York:20250830T150000
DTSTAMP:20260421T234430
CREATED:20250506T142620Z
LAST-MODIFIED:20250506T142620Z
UID:10001267-1756551600-1756566000@ctrideguide.com
SUMMARY:Cool Rides Cookout
DESCRIPTION:Join us for a cookout and show off your favorite rides!
URL:https://ctrideguide.com/event/cool-rides-cookout/
LOCATION:CT
END:VEVENT
BEGIN:VEVENT
DTSTART;TZID=America/New_York:20250830T110000
DTEND;TZID=America/New_York:20250830T140000
DTSTAMP:20260421T234430
CREATED:20250506T142534Z
LAST-MODIFIED:20250506T142534Z
UID:10001248-1756551600-1756562400@ctrideguide.com
SUMMARY:Bike Contest
DESCRIPTION:Bring your Ride to Sheldons and enter it into our Bike Show.  Great Prizes!
URL:https://ctrideguide.com/event/bike-contest/
LOCATION:Sheldons Harley Davidson\, 914 Southbridge St.\, Auburn\, MA
GEO:42.1748162;-71.8778391
X-APPLE-STRUCTURED-LOCATION;VALUE=URI;X-ADDRESS=Sheldons Harley Davidson 914 Southbridge St. Auburn MA;X-APPLE-RADIUS=500;X-TITLE=914 Southbridge St.:geo:-71.8778391,42.1748162
END:VEVENT
BEGIN:VEVENT
DTSTART;TZID=America/New_York:20250830T110000
DTEND;TZID=America/New_York:20250830T140000
DTSTAMP:20260421T234430
CREATED:20250506T142519Z
LAST-MODIFIED:20250506T142519Z
UID:10001243-1756551600-1756562400@ctrideguide.com
SUMMARY:FXR Day
DESCRIPTION:Come to Old School and check out the display of the Iconic Fxrs from around the country; a GREAT bike show.
URL:https://ctrideguide.com/event/fxr-day/
LOCATION:Old School Harley Davidson\, 398 Somers Rd\, Ellington\, CT
GEO:41.9263618;-72.4557488
X-APPLE-STRUCTURED-LOCATION;VALUE=URI;X-ADDRESS=Old School Harley Davidson 398 Somers Rd Ellington CT;X-APPLE-RADIUS=500;X-TITLE=398 Somers Rd:geo:-72.4557488,41.9263618
END:VEVENT
BEGIN:VEVENT
DTSTART;TZID=America/New_York:20250830T100000
DTEND;TZID=America/New_York:20250830T160000
DTSTAMP:20260421T234430
CREATED:20250828T123902Z
LAST-MODIFIED:20250828T123902Z
UID:10001411-1756548000-1756569600@ctrideguide.com
SUMMARY:Connecticut FXR Day
DESCRIPTION:Get ready for one of the biggest FXR gatherings in the Northeast! Judging & trophies for Best Performance\, Best O.G.\, Best Paint\, Best in Show\, Furthest Traveled. Keep the celebration rolling at Black-Eyed Sally’s in Hartford!
URL:https://ctrideguide.com/event/connecticut-fxr-day/
LOCATION:Old School Harley Davidson\, 398 Somers Rd\, Ellington\, CT
GEO:41.9263618;-72.4557488
X-APPLE-STRUCTURED-LOCATION;VALUE=URI;X-ADDRESS=Old School Harley Davidson 398 Somers Rd Ellington CT;X-APPLE-RADIUS=500;X-TITLE=398 Somers Rd:geo:-72.4557488,41.9263618
END:VEVENT
BEGIN:VEVENT
DTSTART;TZID=America/New_York:20250828T180000
DTEND;TZID=America/New_York:20250828T210000
DTSTAMP:20260421T234430
CREATED:20250506T143232Z
LAST-MODIFIED:20250506T143232Z
UID:10001358-1756404000-1756414800@ctrideguide.com
SUMMARY:Destination Bike Night
DESCRIPTION:Live music by 7 Roads.  Vendors\, raffles\, food\, and much more. Presented by THROTTLE ROCKER and TRANTOLO and TRANTOLO.
URL:https://ctrideguide.com/event/destination-bike-night-20/
LOCATION:Springfield Elks\, 440 Tiffany St.\, Springfield\, MA
GEO:42.0695685;-72.5428975
X-APPLE-STRUCTURED-LOCATION;VALUE=URI;X-ADDRESS=Springfield Elks 440 Tiffany St. Springfield MA;X-APPLE-RADIUS=500;X-TITLE=440 Tiffany St.:geo:-72.5428975,42.0695685
END:VEVENT
BEGIN:VEVENT
DTSTART;TZID=America/New_York:20250824T093000
DTEND;TZID=America/New_York:20250824T120000
DTSTAMP:20260421T234430
CREATED:20250506T142334Z
LAST-MODIFIED:20250506T142334Z
UID:10001182-1756027800-1756036800@ctrideguide.com
SUMMARY:Colin Krenzul Memorial Hill Climb
DESCRIPTION:A wild day of hill climbs sponsored by the AMA.
URL:https://ctrideguide.com/event/colin-krenzul-memorial-hill-climb/
LOCATION:Quaboag\, King Ave\, Monson\, MA
GEO:42.0885806;-72.3076015
X-APPLE-STRUCTURED-LOCATION;VALUE=URI;X-ADDRESS=Quaboag King Ave Monson MA;X-APPLE-RADIUS=500;X-TITLE=King Ave:geo:-72.3076015,42.0885806
END:VEVENT
BEGIN:VEVENT
DTSTART;TZID=America/New_York:20250824T090000
DTEND;TZID=America/New_York:20250824T090000
DTSTAMP:20260421T234430
CREATED:20250506T142234Z
LAST-MODIFIED:20250506T142234Z
UID:10001153-1756026000-1756026000@ctrideguide.com
SUMMARY:TRANTOLO TOURS
DESCRIPTION:Our weekly rides are back! Join us every Sunday (weather permitting) for a fun ride throughout Connecticut and New England.
URL:https://ctrideguide.com/event/trantolo-tours-55/
LOCATION:CT
END:VEVENT
BEGIN:VEVENT
DTSTART;TZID=America/New_York:20250821T180000
DTEND;TZID=America/New_York:20250821T210000
DTSTAMP:20260421T234430
CREATED:20250506T143231Z
LAST-MODIFIED:20250506T143231Z
UID:10001357-1755799200-1755810000@ctrideguide.com
SUMMARY:Destination Bike Night
DESCRIPTION:Live Music by Boneyard.  Vendors\, raffles\, food\, and much more.  Presented by THROTTLE ROCKER and TRANTOLO and TRANTOLO.
URL:https://ctrideguide.com/event/destination-bike-night-19/
LOCATION:Amvets Post 12\, 754 Montgomery St.\, Chicopee\, MA
GEO:42.1797567;-72.5899017
X-APPLE-STRUCTURED-LOCATION;VALUE=URI;X-ADDRESS=Amvets Post 12 754 Montgomery St. Chicopee MA;X-APPLE-RADIUS=500;X-TITLE=754 Montgomery St.:geo:-72.5899017,42.1797567
END:VEVENT
BEGIN:VEVENT
DTSTART;TZID=America/New_York:20250821T170000
DTEND;TZID=America/New_York:20250821T210000
DTSTAMP:20260421T234430
CREATED:20250506T142902Z
LAST-MODIFIED:20250506T142902Z
UID:10001318-1755795600-1755810000@ctrideguide.com
SUMMARY:Custom Bike Night
DESCRIPTION:Come join us at Spitzies for our Custom Bike Contest.  Entertainment by Cryin out Loud and much more.
URL:https://ctrideguide.com/event/custom-bike-night/
LOCATION:CT
END:VEVENT
BEGIN:VEVENT
DTSTART;TZID=America/New_York:20250821T170000
DTEND;TZID=America/New_York:20250821T210000
DTSTAMP:20260421T234430
CREATED:20250506T142852Z
LAST-MODIFIED:20250506T142852Z
UID:10001312-1755795600-1755810000@ctrideguide.com
SUMMARY:Bike Night
DESCRIPTION:Sheldons is proud to host our Bike Night.  Bring your ride and enjoy food\, entertainment\, and so much more.
URL:https://ctrideguide.com/event/bike-night-10/
LOCATION:Sheldons Harley Davidson\, 914 Southbridge St.\, Auburn\, MA
GEO:42.1748162;-71.8778391
X-APPLE-STRUCTURED-LOCATION;VALUE=URI;X-ADDRESS=Sheldons Harley Davidson 914 Southbridge St. Auburn MA;X-APPLE-RADIUS=500;X-TITLE=914 Southbridge St.:geo:-71.8778391,42.1748162
END:VEVENT
BEGIN:VEVENT
DTSTART;TZID=America/New_York:20250821T170000
DTEND;TZID=America/New_York:20250821T210000
DTSTAMP:20260421T234430
CREATED:20250506T142852Z
LAST-MODIFIED:20250506T142852Z
UID:10001311-1755795600-1755810000@ctrideguide.com
SUMMARY:Bike Night
DESCRIPTION:Come enjoy our monthly Bike Night. Entertainment by Wuhon\, plus so much more.
URL:https://ctrideguide.com/event/bike-night-9/
LOCATION:Battleship Harley Davidson\, 799 State St.\, Dartmouth\, MA
GEO:41.6381138;-71.0337221
X-APPLE-STRUCTURED-LOCATION;VALUE=URI;X-ADDRESS=Battleship Harley Davidson 799 State St. Dartmouth MA;X-APPLE-RADIUS=500;X-TITLE=799 State St.:geo:-71.0337221,41.6381138
END:VEVENT
BEGIN:VEVENT
DTSTART;TZID=America/New_York:20250818T170000
DTEND;TZID=America/New_York:20250818T210000
DTSTAMP:20260421T234430
CREATED:20250506T142902Z
LAST-MODIFIED:20250506T142902Z
UID:10001317-1755536400-1755550800@ctrideguide.com
SUMMARY:Bike Night Finale
DESCRIPTION:Don’t miss our biggest event of the year with Tommy V Live!  Food and much more.
URL:https://ctrideguide.com/event/bike-night-finale-2/
LOCATION:CT
END:VEVENT
BEGIN:VEVENT
DTSTART;TZID=America/New_York:20250817T090000
DTEND;TZID=America/New_York:20250817T090000
DTSTAMP:20260421T234430
CREATED:20250506T142220Z
LAST-MODIFIED:20250506T142220Z
UID:10001152-1755421200-1755421200@ctrideguide.com
SUMMARY:TRANTOLO TOURS
DESCRIPTION:Our weekly rides are back! Join us every Sunday (weather permitting) for a fun ride throughout Connecticut and New England.
URL:https://ctrideguide.com/event/trantolo-tours-54/
LOCATION:Farmington Club\, Town Farm Rd\, Farmington\, CT
GEO:41.754638;-72.8235407
X-APPLE-STRUCTURED-LOCATION;VALUE=URI;X-ADDRESS=Farmington Club Town Farm Rd Farmington CT;X-APPLE-RADIUS=500;X-TITLE=Town Farm Rd:geo:-72.8235407,41.754638
END:VEVENT
BEGIN:VEVENT
DTSTART;VALUE=DATE:20250817
DTEND;VALUE=DATE:20250818
DTSTAMP:20260421T234430
CREATED:20250506T143424Z
LAST-MODIFIED:20250506T145816Z
UID:10001374-1755388800-1755475199@ctrideguide.com
SUMMARY:Brit Jam
DESCRIPTION:Come to the 39th annual Brit Jam.  British motorcycles\, show bikes\, food\, entertainment\, and so much more.
URL:https://ctrideguide.com/event/brit-jam/
LOCATION:Haddam Neck Fairgrounds\, 221 Governor St.\, East Hampton\, CT
GEO:41.51133;-72.512367
X-APPLE-STRUCTURED-LOCATION;VALUE=URI;X-ADDRESS=Haddam Neck Fairgrounds 221 Governor St. East Hampton CT;X-APPLE-RADIUS=500;X-TITLE=221 Governor St.:geo:-72.512367,41.51133
END:VEVENT
BEGIN:VEVENT
DTSTART;TZID=America/New_York:20250816T110000
DTEND;TZID=America/New_York:20250816T150000
DTSTAMP:20260421T234430
CREATED:20250506T142619Z
LAST-MODIFIED:20250506T142619Z
UID:10001264-1755342000-1755356400@ctrideguide.com
SUMMARY:Car Show
DESCRIPTION:Come to Battleship for our Custom Car show.  Check out the cars and the Harleys.
URL:https://ctrideguide.com/event/car-show-2/
LOCATION:Battleship Harley Davidson\, 799 State St.\, Dartmouth\, MA
GEO:41.6381138;-71.0337221
X-APPLE-STRUCTURED-LOCATION;VALUE=URI;X-ADDRESS=Battleship Harley Davidson 799 State St. Dartmouth MA;X-APPLE-RADIUS=500;X-TITLE=799 State St.:geo:-71.0337221,41.6381138
END:VEVENT
BEGIN:VEVENT
DTSTART;TZID=America/New_York:20250816T090000
DTEND;TZID=America/New_York:20250816T100000
DTSTAMP:20260421T234430
CREATED:20250506T142304Z
LAST-MODIFIED:20250506T142304Z
UID:10001172-1755334800-1755338400@ctrideguide.com
SUMMARY:Chainbreaker V
DESCRIPTION:Do your part to help victims of Child Sex Trafficking.  Event includes food\, raffles\, and entertainment.
URL:https://ctrideguide.com/event/chainbreaker-v/
LOCATION:Chamberlain Lake Campground\, Rte 197\, Woodstock\, CT
GEO:41.9922842;-72.0156445
X-APPLE-STRUCTURED-LOCATION;VALUE=URI;X-ADDRESS=Chamberlain Lake Campground Rte 197 Woodstock CT;X-APPLE-RADIUS=500;X-TITLE=Rte 197:geo:-72.0156445,41.9922842
END:VEVENT
BEGIN:VEVENT
DTSTART;VALUE=DATE:20250816
DTEND;VALUE=DATE:20250817
DTSTAMP:20260421T234430
CREATED:20250506T143423Z
LAST-MODIFIED:20250506T145807Z
UID:10001372-1755302400-1755388799@ctrideguide.com
SUMMARY:Sound Competition
DESCRIPTION:Come to Freedom Road and check out the incredible sound systems\, show yours off. Food Truck and much more.
URL:https://ctrideguide.com/event/sound-competition/
LOCATION:Freedom Road Harley Davidson\, 557 West Main St.\, Branford\, CT
GEO:41.278414;-72.8438398
X-APPLE-STRUCTURED-LOCATION;VALUE=URI;X-ADDRESS=Freedom Road Harley Davidson 557 West Main St. Branford CT;X-APPLE-RADIUS=500;X-TITLE=557 West Main St.:geo:-72.8438398,41.278414
END:VEVENT
BEGIN:VEVENT
DTSTART;VALUE=DATE:20250816
DTEND;VALUE=DATE:20250817
DTSTAMP:20260421T234430
CREATED:20250506T143423Z
LAST-MODIFIED:20250506T145811Z
UID:10001373-1755302400-1755388799@ctrideguide.com
SUMMARY:VIP Member Service Seminar
DESCRIPTION:Come to Hartford Harley Davidson as a Master Tech shows customers what is involved in a K Service.
URL:https://ctrideguide.com/event/vip-member-service-seminar/
LOCATION:Hartford Harley Davidson\, 221 Governor St.\, East Hartford\, CT
GEO:41.7707241;-72.6532985
X-APPLE-STRUCTURED-LOCATION;VALUE=URI;X-ADDRESS=Hartford Harley Davidson 221 Governor St. East Hartford CT;X-APPLE-RADIUS=500;X-TITLE=221 Governor St.:geo:-72.6532985,41.7707241
END:VEVENT
BEGIN:VEVENT
DTSTART;TZID=America/New_York:20250814T180000
DTEND;TZID=America/New_York:20250814T210000
DTSTAMP:20260421T234430
CREATED:20250506T143231Z
LAST-MODIFIED:20250506T143231Z
UID:10001356-1755194400-1755205200@ctrideguide.com
SUMMARY:Destination Bike Night
DESCRIPTION:Live Music by Unleashed.  Vendors\, raffles\, food\, and much more.  Presented by THROTTLE  ROCKER and TRANTOLO and TRANTOLO.
URL:https://ctrideguide.com/event/destination-bike-night-18/
LOCATION:CT
END:VEVENT
BEGIN:VEVENT
DTSTART;TZID=America/New_York:20250813T170000
DTEND;TZID=America/New_York:20250813T200000
DTSTAMP:20260421T234430
CREATED:20250506T142820Z
LAST-MODIFIED:20250506T142820Z
UID:10001303-1755104400-1755115200@ctrideguide.com
SUMMARY:Tacos and Tattoos
DESCRIPTION:Come check out our Taco and Tattoo Night and enjoy the festivities with us!
URL:https://ctrideguide.com/event/tacos-and-tattoos/
LOCATION:Valley Motorsports\, 694 Main St.\, Ansonia\, CT
GEO:41.3311383;-73.0770206
X-APPLE-STRUCTURED-LOCATION;VALUE=URI;X-ADDRESS=Valley Motorsports 694 Main St. Ansonia CT;X-APPLE-RADIUS=500;X-TITLE=694 Main St.:geo:-73.0770206,41.3311383
END:VEVENT
BEGIN:VEVENT
DTSTART;VALUE=DATE:20250811
DTEND;VALUE=DATE:20250812
DTSTAMP:20260421T234430
CREATED:20250506T143423Z
LAST-MODIFIED:20250506T145804Z
UID:10001371-1754870400-1754956799@ctrideguide.com
SUMMARY:August Advantage Week
DESCRIPTION:Come to Doc’s all week to take advantage on exclusive in-store non-promoted specials and much more.
URL:https://ctrideguide.com/event/august-advantage-week/
LOCATION:Doc’s Motorcycle\, 1625 Thomaston Ave\, Waterbury\, CT
GEO:41.5893712;-73.0523123
X-APPLE-STRUCTURED-LOCATION;VALUE=URI;X-ADDRESS=Doc’s Motorcycle 1625 Thomaston Ave Waterbury CT;X-APPLE-RADIUS=500;X-TITLE=1625 Thomaston Ave:geo:-73.0523123,41.5893712
END:VEVENT
BEGIN:VEVENT
DTSTART;TZID=America/New_York:20250810T090000
DTEND;TZID=America/New_York:20250810T090000
DTSTAMP:20260421T234430
CREATED:20250506T142250Z
LAST-MODIFIED:20250506T142250Z
UID:10001161-1754816400-1754816400@ctrideguide.com
SUMMARY:TRANTOLO TOURS
DESCRIPTION:Our weekly rides are back! Join us every Sunday (weather permitting) for a fun ride throughout Connecticut and New England.
URL:https://ctrideguide.com/event/trantolo-tours-61/
LOCATION:CT
END:VEVENT
BEGIN:VEVENT
DTSTART;TZID=America/New_York:20250809T120000
DTEND;TZID=America/New_York:20250809T150000
DTSTAMP:20260421T234430
CREATED:20250506T142719Z
LAST-MODIFIED:20250506T142719Z
UID:10001282-1754740800-1754751600@ctrideguide.com
SUMMARY:Hogs and Dogs
DESCRIPTION:Come to Sheldons and have lunch on us and while you’re here\, check us out!
URL:https://ctrideguide.com/event/hogs-and-dogs-4/
LOCATION:Sheldons Harley Davidson\, 914 Southbridge St.\, Auburn\, MA
GEO:42.1748162;-71.8778391
X-APPLE-STRUCTURED-LOCATION;VALUE=URI;X-ADDRESS=Sheldons Harley Davidson 914 Southbridge St. Auburn MA;X-APPLE-RADIUS=500;X-TITLE=914 Southbridge St.:geo:-71.8778391,42.1748162
END:VEVENT
BEGIN:VEVENT
DTSTART;TZID=America/New_York:20250809T110000
DTEND;TZID=America/New_York:20250809T170000
DTSTAMP:20260421T234430
CREATED:20250506T142649Z
LAST-MODIFIED:20250506T142649Z
UID:10001271-1754737200-1754758800@ctrideguide.com
SUMMARY:18th Annual Motorcycle Rally
DESCRIPTION:Bikers Against Animal Cruelty presents this great event featuring food\, vendors\, entertainment\, and Bike Show.
URL:https://ctrideguide.com/event/18th-annual-motorcycle-rally/
LOCATION:Martin Bishop Field\, 111 Long Hill Rd\, Guilford\, CT
GEO:41.2920034;-72.6926821
X-APPLE-STRUCTURED-LOCATION;VALUE=URI;X-ADDRESS=Martin Bishop Field 111 Long Hill Rd Guilford CT;X-APPLE-RADIUS=500;X-TITLE=111 Long Hill Rd:geo:-72.6926821,41.2920034
END:VEVENT
BEGIN:VEVENT
DTSTART;TZID=America/New_York:20250809T110000
DTEND;TZID=America/New_York:20250809T170000
DTSTAMP:20260421T234430
CREATED:20250506T142649Z
LAST-MODIFIED:20250506T142649Z
UID:10001272-1754737200-1754758800@ctrideguide.com
SUMMARY:Bikers Against Animal Cruelty
DESCRIPTION:Food trucks\, live entertainment\, raffle\, motrcycle trophies\, and much more.
URL:https://ctrideguide.com/event/bikers-against-animal-cruelty/
LOCATION:Martin Bishop Field\, 111 Long Hill Rd\, Guilford\, CT
GEO:41.2920034;-72.6926821
X-APPLE-STRUCTURED-LOCATION;VALUE=URI;X-ADDRESS=Martin Bishop Field 111 Long Hill Rd Guilford CT;X-APPLE-RADIUS=500;X-TITLE=111 Long Hill Rd:geo:-72.6926821,41.2920034
END:VEVENT
BEGIN:VEVENT
DTSTART;TZID=America/New_York:20250809T110000
DTEND;TZID=America/New_York:20250809T150000
DTSTAMP:20260421T234430
CREATED:20250506T142549Z
LAST-MODIFIED:20250506T142549Z
UID:10001255-1754737200-1754751600@ctrideguide.com
SUMMARY:Car and Bike Show
DESCRIPTION:Come to Hartford Harley Davidson for their Car and Bike show. Voting closes at 2 winner announced at 3.  Subject to change.
URL:https://ctrideguide.com/event/car-and-bike-show-2/
LOCATION:Hartford Harley Davidson\, 221 Governor St.\, East Hartford\, CT
GEO:41.7707241;-72.6532985
X-APPLE-STRUCTURED-LOCATION;VALUE=URI;X-ADDRESS=Hartford Harley Davidson 221 Governor St. East Hartford CT;X-APPLE-RADIUS=500;X-TITLE=221 Governor St.:geo:-72.6532985,41.7707241
END:VEVENT
BEGIN:VEVENT
DTSTART;TZID=America/New_York:20250809T100000
DTEND;TZID=America/New_York:20250809T100000
DTSTAMP:20260421T234430
CREATED:20250506T142353Z
LAST-MODIFIED:20250506T142353Z
UID:10001190-1754733600-1754733600@ctrideguide.com
SUMMARY:Freedom Ride
DESCRIPTION:Come to Freedom Road Harley for breakfast and an enjoyable ride. Leaves from Freedom Road and returns for Lunch.
URL:https://ctrideguide.com/event/freedom-ride-6/
LOCATION:Freedom Road Harley Davidson\, 557 West Main St.\, Branford\, CT
GEO:41.278414;-72.8438398
X-APPLE-STRUCTURED-LOCATION;VALUE=URI;X-ADDRESS=Freedom Road Harley Davidson 557 West Main St. Branford CT;X-APPLE-RADIUS=500;X-TITLE=557 West Main St.:geo:-72.8438398,41.278414
END:VEVENT
BEGIN:VEVENT
DTSTART;TZID=America/New_York:20250809T090000
DTEND;TZID=America/New_York:20250809T090000
DTSTAMP:20260421T234430
CREATED:20250506T142249Z
LAST-MODIFIED:20250506T142249Z
UID:10001160-1754730000-1754730000@ctrideguide.com
SUMMARY:Ride for a Cure - Lions Eye Research
DESCRIPTION:Free admission for kids under 12; food and much more.
URL:https://ctrideguide.com/event/ride-for-a-cure-lions-eye-research/
LOCATION:Quaboag\, King Ave\, Monson\, MA
GEO:42.0885806;-72.3076015
X-APPLE-STRUCTURED-LOCATION;VALUE=URI;X-ADDRESS=Quaboag King Ave Monson MA;X-APPLE-RADIUS=500;X-TITLE=King Ave:geo:-72.3076015,42.0885806
END:VEVENT
BEGIN:VEVENT
DTSTART;TZID=America/New_York:20250808T000000
DTEND;TZID=America/New_York:20250810T000000
DTSTAMP:20260421T234430
CREATED:20250506T143624Z
LAST-MODIFIED:20250506T143624Z
UID:10001409-1754611200-1754784000@ctrideguide.com
SUMMARY:New England Roads and Trails Rally
DESCRIPTION:Great riding as part of this Rally presented by the Christian Motorcycle Association.
URL:https://ctrideguide.com/event/new-england-roads-and-trails-rally/
LOCATION:Solon\, ME
END:VEVENT
END:VCALENDAR