BEGIN:VCALENDAR
VERSION:2.0
PRODID:-//CT Ride Guide - ECPv6.15.18//NONSGML v1.0//EN
CALSCALE:GREGORIAN
METHOD:PUBLISH
X-WR-CALNAME:CT Ride Guide
X-ORIGINAL-URL:https://ctrideguide.com
X-WR-CALDESC:Events for CT Ride Guide
REFRESH-INTERVAL;VALUE=DURATION:PT1H
X-Robots-Tag:noindex
X-PUBLISHED-TTL:PT1H
BEGIN:VTIMEZONE
TZID:America/New_York
BEGIN:DAYLIGHT
TZOFFSETFROM:-0500
TZOFFSETTO:-0400
TZNAME:EDT
DTSTART:20240310T070000
END:DAYLIGHT
BEGIN:STANDARD
TZOFFSETFROM:-0400
TZOFFSETTO:-0500
TZNAME:EST
DTSTART:20241103T060000
END:STANDARD
BEGIN:DAYLIGHT
TZOFFSETFROM:-0500
TZOFFSETTO:-0400
TZNAME:EDT
DTSTART:20250309T070000
END:DAYLIGHT
BEGIN:STANDARD
TZOFFSETFROM:-0400
TZOFFSETTO:-0500
TZNAME:EST
DTSTART:20251102T060000
END:STANDARD
BEGIN:DAYLIGHT
TZOFFSETFROM:-0500
TZOFFSETTO:-0400
TZNAME:EDT
DTSTART:20260308T070000
END:DAYLIGHT
BEGIN:STANDARD
TZOFFSETFROM:-0400
TZOFFSETTO:-0500
TZNAME:EST
DTSTART:20261101T060000
END:STANDARD
END:VTIMEZONE
BEGIN:VEVENT
DTSTART;TZID=America/New_York:20251101T100000
DTEND;TZID=America/New_York:20251101T120000
DTSTAMP:20260421T164808
CREATED:20250506T142419Z
LAST-MODIFIED:20250506T142419Z
UID:10001211-1761991200-1761998400@ctrideguide.com
SUMMARY:Breakfast at Freedom Road
DESCRIPTION:Come by Freedom Road for a great breakfast every Saturday.
URL:https://ctrideguide.com/event/breakfast-at-freedom-road-8/
LOCATION:Freedom Road Harley Davidson\, 557 West Main St.\, Branford\, CT
GEO:41.278414;-72.8438398
X-APPLE-STRUCTURED-LOCATION;VALUE=URI;X-ADDRESS=Freedom Road Harley Davidson 557 West Main St. Branford CT;X-APPLE-RADIUS=500;X-TITLE=557 West Main St.:geo:-72.8438398,41.278414
END:VEVENT
BEGIN:VEVENT
DTSTART;TZID=America/New_York:20251101T000000
DTEND;TZID=America/New_York:20251130T000000
DTSTAMP:20260421T164808
CREATED:20250506T143517Z
LAST-MODIFIED:20250506T143517Z
UID:10001391-1761955200-1764460800@ctrideguide.com
SUMMARY:Stuff the Trunk
DESCRIPTION:Come by Battleship and do your part to help the underpriviledged; donate for the holidays.
URL:https://ctrideguide.com/event/stuff-the-trunk/
LOCATION:Battleship Harley Davidson\, 799 State St.\, Dartmouth\, MA
GEO:41.6381138;-71.0337221
X-APPLE-STRUCTURED-LOCATION;VALUE=URI;X-ADDRESS=Battleship Harley Davidson 799 State St. Dartmouth MA;X-APPLE-RADIUS=500;X-TITLE=799 State St.:geo:-71.0337221,41.6381138
END:VEVENT
BEGIN:VEVENT
DTSTART;TZID=America/New_York:20251025T110000
DTEND;TZID=America/New_York:20251025T150000
DTSTAMP:20260421T164808
CREATED:20250506T142634Z
LAST-MODIFIED:20250506T142634Z
UID:10001269-1761390000-1761404400@ctrideguide.com
SUMMARY:Hog-O-Ween
DESCRIPTION:Come to Spitzies and enter our costume contest; candy for the kids and cookout.
URL:https://ctrideguide.com/event/hog-o-ween-8/
LOCATION:NY
END:VEVENT
BEGIN:VEVENT
DTSTART;TZID=America/New_York:20251025T100000
DTEND;TZID=America/New_York:20251025T150000
DTSTAMP:20260421T164808
CREATED:20250506T142441Z
LAST-MODIFIED:20250506T142441Z
UID:10001224-1761386400-1761404400@ctrideguide.com
SUMMARY:Hog-O-Ween
DESCRIPTION:Come to Old School Harley for some great fun. For more info check out our website.
URL:https://ctrideguide.com/event/hog-o-ween-7/
LOCATION:Old School Harley Davidson\, 398 Somers Rd\, Ellington\, CT
GEO:41.9263618;-72.4557488
X-APPLE-STRUCTURED-LOCATION;VALUE=URI;X-ADDRESS=Old School Harley Davidson 398 Somers Rd Ellington CT;X-APPLE-RADIUS=500;X-TITLE=398 Somers Rd:geo:-72.4557488,41.9263618
END:VEVENT
BEGIN:VEVENT
DTSTART;VALUE=DATE:20251025
DTEND;VALUE=DATE:20251026
DTSTAMP:20260421T164808
CREATED:20250506T143426Z
LAST-MODIFIED:20250506T145928Z
UID:10001379-1761350400-1761436799@ctrideguide.com
SUMMARY:Hog-O-Ween
DESCRIPTION:Come to Sheldons Harley dressed in costume and see what we have for you. Candy at all departments.
URL:https://ctrideguide.com/event/hog-o-ween-9/
LOCATION:Sheldons Harley Davidson\, 914 Southbridge St.\, Auburn\, MA
GEO:42.1748162;-71.8778391
X-APPLE-STRUCTURED-LOCATION;VALUE=URI;X-ADDRESS=Sheldons Harley Davidson 914 Southbridge St. Auburn MA;X-APPLE-RADIUS=500;X-TITLE=914 Southbridge St.:geo:-71.8778391,42.1748162
END:VEVENT
BEGIN:VEVENT
DTSTART;TZID=America/New_York:20251019T093000
DTEND;TZID=America/New_York:20251019T093000
DTSTAMP:20260421T164808
CREATED:20250506T142334Z
LAST-MODIFIED:20250506T142334Z
UID:10001180-1760866200-1760866200@ctrideguide.com
SUMMARY:Tim Jackson Ride
DESCRIPTION:Come ride with us to honor Tim Jackson. 3 stops to include Veteran and Firefighter Memorials\, raffles\, food\, and much more. Benefits Fallen Firefighter Foundations.
URL:https://ctrideguide.com/event/tim-jackson-ride/
LOCATION:Sheldons Harley Davidson\, 914 Southbridge St.\, Auburn\, MA
GEO:42.1748162;-71.8778391
X-APPLE-STRUCTURED-LOCATION;VALUE=URI;X-ADDRESS=Sheldons Harley Davidson 914 Southbridge St. Auburn MA;X-APPLE-RADIUS=500;X-TITLE=914 Southbridge St.:geo:-71.8778391,42.1748162
END:VEVENT
BEGIN:VEVENT
DTSTART;TZID=America/New_York:20251018T170000
DTEND;TZID=America/New_York:20251018T190000
DTSTAMP:20260421T164808
CREATED:20250506T142750Z
LAST-MODIFIED:20250506T142750Z
UID:10001293-1760806800-1760814000@ctrideguide.com
SUMMARY:Mens Night
DESCRIPTION:Guys this is for you!  Beverages\, raffles\, food\, and much more.
URL:https://ctrideguide.com/event/mens-night-3/
LOCATION:Hartford Harley Davidson\, 221 Governor St.\, East Hartford\, CT
GEO:41.7707241;-72.6532985
X-APPLE-STRUCTURED-LOCATION;VALUE=URI;X-ADDRESS=Hartford Harley Davidson 221 Governor St. East Hartford CT;X-APPLE-RADIUS=500;X-TITLE=221 Governor St.:geo:-72.6532985,41.7707241
END:VEVENT
BEGIN:VEVENT
DTSTART;TZID=America/New_York:20251018T110000
DTEND;TZID=America/New_York:20251018T140000
DTSTAMP:20260421T164808
CREATED:20250506T142519Z
LAST-MODIFIED:20250506T142519Z
UID:10001245-1760785200-1760796000@ctrideguide.com
SUMMARY:Oktoberfest
DESCRIPTION:Check out our website for details.
URL:https://ctrideguide.com/event/oktoberfest-2/
LOCATION:Old School Harley Davidson\, 398 Somers Rd\, Ellington\, CT
GEO:41.9263618;-72.4557488
X-APPLE-STRUCTURED-LOCATION;VALUE=URI;X-ADDRESS=Old School Harley Davidson 398 Somers Rd Ellington CT;X-APPLE-RADIUS=500;X-TITLE=398 Somers Rd:geo:-72.4557488,41.9263618
END:VEVENT
BEGIN:VEVENT
DTSTART;VALUE=DATE:20251018
DTEND;VALUE=DATE:20251019
DTSTAMP:20260421T164808
CREATED:20250506T143426Z
LAST-MODIFIED:20250506T145931Z
UID:10001378-1760745600-1760831999@ctrideguide.com
SUMMARY:Octoberfest
DESCRIPTION:Come to Freedom Road and enjoy our Octoberfest Cookout and Stein Holding Contest.
URL:https://ctrideguide.com/event/octoberfest/
LOCATION:Freedom Road Harley Davidson\, 557 West Main St.\, Branford\, CT
GEO:41.278414;-72.8438398
X-APPLE-STRUCTURED-LOCATION;VALUE=URI;X-ADDRESS=Freedom Road Harley Davidson 557 West Main St. Branford CT;X-APPLE-RADIUS=500;X-TITLE=557 West Main St.:geo:-72.8438398,41.278414
END:VEVENT
BEGIN:VEVENT
DTSTART;TZID=America/New_York:20251012T120000
DTEND;TZID=America/New_York:20251012T120000
DTSTAMP:20260421T164808
CREATED:20250506T142704Z
LAST-MODIFIED:20250506T142704Z
UID:10001277-1760270400-1760270400@ctrideguide.com
SUMMARY:4x4 Hill Climb
DESCRIPTION:Come and join us for the end of season 4×4 Hill Climbs.
URL:https://ctrideguide.com/event/4x4-hill-climb-2/
LOCATION:Quaboag\, King Ave\, Monson\, MA
GEO:42.0885806;-72.3076015
X-APPLE-STRUCTURED-LOCATION;VALUE=URI;X-ADDRESS=Quaboag King Ave Monson MA;X-APPLE-RADIUS=500;X-TITLE=King Ave:geo:-72.3076015,42.0885806
END:VEVENT
BEGIN:VEVENT
DTSTART;TZID=America/New_York:20251011T110000
DTEND;TZID=America/New_York:20251011T150000
DTSTAMP:20260421T164808
CREATED:20250506T142619Z
LAST-MODIFIED:20250506T142634Z
UID:10001265-1760180400-1760194800@ctrideguide.com
SUMMARY:Fall Open House
DESCRIPTION:Come and enjoy the end of a great season with food\, vendors\, and lots of Harley Davidsons.
URL:https://ctrideguide.com/event/fall-open-house-9/
LOCATION:Battleship Harley Davidson\, 799 State St.\, Dartmouth\, MA
GEO:41.6381138;-71.0337221
X-APPLE-STRUCTURED-LOCATION;VALUE=URI;X-ADDRESS=Battleship Harley Davidson 799 State St. Dartmouth MA;X-APPLE-RADIUS=500;X-TITLE=799 State St.:geo:-71.0337221,41.6381138
END:VEVENT
BEGIN:VEVENT
DTSTART;TZID=America/New_York:20251011T100000
DTEND;TZID=America/New_York:20251011T100000
DTSTAMP:20260421T164808
CREATED:20250506T142353Z
LAST-MODIFIED:20250506T142353Z
UID:10001192-1760176800-1760176800@ctrideguide.com
SUMMARY:Freedom Ride
DESCRIPTION:Come to Freedom Road Harley for breakfast and an enjoyable ride. Leaves from Freedom Road and returns for Lunch.
URL:https://ctrideguide.com/event/freedom-ride-8/
LOCATION:Freedom Road Harley Davidson\, 557 West Main St.\, Branford\, CT
GEO:41.278414;-72.8438398
X-APPLE-STRUCTURED-LOCATION;VALUE=URI;X-ADDRESS=Freedom Road Harley Davidson 557 West Main St. Branford CT;X-APPLE-RADIUS=500;X-TITLE=557 West Main St.:geo:-72.8438398,41.278414
END:VEVENT
BEGIN:VEVENT
DTSTART;TZID=America/New_York:20251010T170000
DTEND;TZID=America/New_York:20251010T190000
DTSTAMP:20260421T164808
CREATED:20250506T142750Z
LAST-MODIFIED:20250506T142750Z
UID:10001295-1760115600-1760122800@ctrideguide.com
SUMMARY:New Owners Night
DESCRIPTION:Sheldons would like to welcome All New Bike owners. Meet the staff and HOG Club.
URL:https://ctrideguide.com/event/new-owners-night-5/
LOCATION:Sheldons Harley Davidson\, 914 Southbridge St.\, Auburn\, MA
GEO:42.1748162;-71.8778391
X-APPLE-STRUCTURED-LOCATION;VALUE=URI;X-ADDRESS=Sheldons Harley Davidson 914 Southbridge St. Auburn MA;X-APPLE-RADIUS=500;X-TITLE=914 Southbridge St.:geo:-71.8778391,42.1748162
END:VEVENT
BEGIN:VEVENT
DTSTART;TZID=America/New_York:20251004T110000
DTEND;TZID=America/New_York:20251004T150000
DTSTAMP:20260421T164808
CREATED:20250506T142549Z
LAST-MODIFIED:20250506T142549Z
UID:10001256-1759575600-1759590000@ctrideguide.com
SUMMARY:Fall Open House
DESCRIPTION:Come to Hartford Harley Davidson for our Open House to see what we have to offer.  Food Trucks and much more.
URL:https://ctrideguide.com/event/fall-open-house-8/
LOCATION:Hartford Harley Davidson\, 221 Governor St.\, East Hartford\, CT
GEO:41.7707241;-72.6532985
X-APPLE-STRUCTURED-LOCATION;VALUE=URI;X-ADDRESS=Hartford Harley Davidson 221 Governor St. East Hartford CT;X-APPLE-RADIUS=500;X-TITLE=221 Governor St.:geo:-72.6532985,41.7707241
END:VEVENT
BEGIN:VEVENT
DTSTART;TZID=America/New_York:20251004T100000
DTEND;TZID=America/New_York:20251004T120000
DTSTAMP:20260421T164808
CREATED:20250506T142434Z
LAST-MODIFIED:20250506T142434Z
UID:10001213-1759572000-1759579200@ctrideguide.com
SUMMARY:HOG Pancake Breakfast
DESCRIPTION:Come to Battleship for Breakfast provided by our fantastic HOG club; ask about joining!
URL:https://ctrideguide.com/event/hog-pancake-breakfast/
LOCATION:Battleship Harley Davidson\, 799 State St.\, Dartmouth\, MA
GEO:41.6381138;-71.0337221
X-APPLE-STRUCTURED-LOCATION;VALUE=URI;X-ADDRESS=Battleship Harley Davidson 799 State St. Dartmouth MA;X-APPLE-RADIUS=500;X-TITLE=799 State St.:geo:-71.0337221,41.6381138
END:VEVENT
BEGIN:VEVENT
DTSTART;TZID=America/New_York:20251004T100000
DTEND;TZID=America/New_York:20251004T120000
DTSTAMP:20260421T164808
CREATED:20250506T142419Z
LAST-MODIFIED:20250506T142419Z
UID:10001210-1759572000-1759579200@ctrideguide.com
SUMMARY:Breakfast at Freedom Road
DESCRIPTION:Come by Freedom Road for a great breakfast every Saturday.
URL:https://ctrideguide.com/event/breakfast-at-freedom-road-7/
LOCATION:Freedom Road Harley Davidson\, 557 West Main St.\, Branford\, CT
GEO:41.278414;-72.8438398
X-APPLE-STRUCTURED-LOCATION;VALUE=URI;X-ADDRESS=Freedom Road Harley Davidson 557 West Main St. Branford CT;X-APPLE-RADIUS=500;X-TITLE=557 West Main St.:geo:-72.8438398,41.278414
END:VEVENT
BEGIN:VEVENT
DTSTART;TZID=America/New_York:20251003T180000
DTEND;TZID=America/New_York:20251003T210000
DTSTAMP:20260421T164808
CREATED:20250506T143157Z
LAST-MODIFIED:20250506T143157Z
UID:10001336-1759514400-1759525200@ctrideguide.com
SUMMARY:Farm at Carter Hill
DESCRIPTION:Come to Carter Hill and enjoy great food\, entertainment\, vendors\, etc. Sponsored in part by Trantolo and Trantolo.
URL:https://ctrideguide.com/event/farm-at-carter-hill-6/
LOCATION:Farm at Carter Hill\, 86 East Hampton Rd\, Marlborough\, CT
GEO:41.6220405;-72.466556
X-APPLE-STRUCTURED-LOCATION;VALUE=URI;X-ADDRESS=Farm at Carter Hill 86 East Hampton Rd Marlborough CT;X-APPLE-RADIUS=500;X-TITLE=86 East Hampton Rd:geo:-72.466556,41.6220405
END:VEVENT
BEGIN:VEVENT
DTSTART;TZID=America/New_York:20251002T170000
DTEND;TZID=America/New_York:20251002T210000
DTSTAMP:20260421T164808
CREATED:20250506T143028Z
LAST-MODIFIED:20250506T143028Z
UID:10001327-1759424400-1759438800@ctrideguide.com
SUMMARY:Bike Night
DESCRIPTION:Come to Joanna’s every Thursday for our Bike Nights; live entertainment\, food\, and raffles. Sponsored by Trantolo and Trantolo.
URL:https://ctrideguide.com/event/bike-night-15/
LOCATION:Joanna’s Restaurant\, 145 Main St.\, Somers\, CT
GEO:41.9861334;-72.4866718
X-APPLE-STRUCTURED-LOCATION;VALUE=URI;X-ADDRESS=Joanna’s Restaurant 145 Main St. Somers CT;X-APPLE-RADIUS=500;X-TITLE=145 Main St.:geo:-72.4866718,41.9861334
END:VEVENT
BEGIN:VEVENT
DTSTART;TZID=America/New_York:20250928T090000
DTEND;TZID=America/New_York:20250928T090000
DTSTAMP:20260421T164808
CREATED:20250506T142250Z
LAST-MODIFIED:20250506T142250Z
UID:10001162-1759050000-1759050000@ctrideguide.com
SUMMARY:Bolaske Memorial Ride
DESCRIPTION:Ride to honor Mike Bolaske\, a Springfield Police Officer lost in 2004.
URL:https://ctrideguide.com/event/bolaske-memorial-ride-2/
LOCATION:Quaboag\, King Ave\, Monson\, MA
GEO:42.0885806;-72.3076015
X-APPLE-STRUCTURED-LOCATION;VALUE=URI;X-ADDRESS=Quaboag King Ave Monson MA;X-APPLE-RADIUS=500;X-TITLE=King Ave:geo:-72.3076015,42.0885806
END:VEVENT
BEGIN:VEVENT
DTSTART;TZID=America/New_York:20250928T090000
DTEND;TZID=America/New_York:20250928T090000
DTSTAMP:20260421T164808
CREATED:20250506T142249Z
LAST-MODIFIED:20250506T142249Z
UID:10001158-1759050000-1759050000@ctrideguide.com
SUMMARY:TRANTOLO TOURS
DESCRIPTION:Our weekly rides are back! Join us every Sunday (weather permitting) for a fun ride throughout Connecticut and New England.
URL:https://ctrideguide.com/event/trantolo-tours-60/
LOCATION:Farmington Club\, Town Farm Rd\, Farmington\, CT
GEO:41.754638;-72.8235407
X-APPLE-STRUCTURED-LOCATION;VALUE=URI;X-ADDRESS=Farmington Club Town Farm Rd Farmington CT;X-APPLE-RADIUS=500;X-TITLE=Town Farm Rd:geo:-72.8235407,41.754638
END:VEVENT
BEGIN:VEVENT
DTSTART;TZID=America/New_York:20250927T120000
DTEND;TZID=America/New_York:20250927T160000
DTSTAMP:20260421T164808
CREATED:20250506T142720Z
LAST-MODIFIED:20250506T142720Z
UID:10001284-1758974400-1758988800@ctrideguide.com
SUMMARY:Chili Cook Off
DESCRIPTION:Bring your best Chili and enter our contest.  Great Prizes and so much more.
URL:https://ctrideguide.com/event/chili-cook-off-2/
LOCATION:Sheldons Harley Davidson\, 914 Southbridge St.\, Auburn\, MA
GEO:42.1748162;-71.8778391
X-APPLE-STRUCTURED-LOCATION;VALUE=URI;X-ADDRESS=Sheldons Harley Davidson 914 Southbridge St. Auburn MA;X-APPLE-RADIUS=500;X-TITLE=914 Southbridge St.:geo:-71.8778391,42.1748162
END:VEVENT
BEGIN:VEVENT
DTSTART;TZID=America/New_York:20250921T093000
DTEND;TZID=America/New_York:20250921T093000
DTSTAMP:20260421T164808
CREATED:20250506T142334Z
LAST-MODIFIED:20250506T142334Z
UID:10001179-1758447000-1758447000@ctrideguide.com
SUMMARY:Motorcycle Hill Climb
DESCRIPTION:A wild day of hill climbs sponsored by the AMA.
URL:https://ctrideguide.com/event/motorcycle-hill-climb/
LOCATION:Quaboag\, King Ave\, Monson\, MA
GEO:42.0885806;-72.3076015
X-APPLE-STRUCTURED-LOCATION;VALUE=URI;X-ADDRESS=Quaboag King Ave Monson MA;X-APPLE-RADIUS=500;X-TITLE=King Ave:geo:-72.3076015,42.0885806
END:VEVENT
BEGIN:VEVENT
DTSTART;TZID=America/New_York:20250921T090000
DTEND;TZID=America/New_York:20250921T090000
DTSTAMP:20260421T164808
CREATED:20250506T142235Z
LAST-MODIFIED:20250506T142235Z
UID:10001157-1758445200-1758445200@ctrideguide.com
SUMMARY:TRANTOLO TOURS
DESCRIPTION:Our weekly rides are back! Join us every Sunday (weather permitting) for a fun ride throughout Connecticut and New England.
URL:https://ctrideguide.com/event/trantolo-tours-59/
LOCATION:Old School Harley Davidson\, 398 Somers Rd\, Ellington\, CT
GEO:41.9263618;-72.4557488
X-APPLE-STRUCTURED-LOCATION;VALUE=URI;X-ADDRESS=Old School Harley Davidson 398 Somers Rd Ellington CT;X-APPLE-RADIUS=500;X-TITLE=398 Somers Rd:geo:-72.4557488,41.9263618
END:VEVENT
BEGIN:VEVENT
DTSTART;TZID=America/New_York:20250921T080000
DTEND;TZID=America/New_York:20250921T113000
DTSTAMP:20260421T164808
CREATED:20250506T142133Z
LAST-MODIFIED:20250506T142133Z
UID:10001133-1758441600-1758454200@ctrideguide.com
SUMMARY:9/11 Memorial Run For Richie
DESCRIPTION:Escorted Ride by NYPD/FDNY.  Ride is in honor of Richard Allen Pearlman.
URL:https://ctrideguide.com/event/9-11-memorial-run-for-richie/
LOCATION:Flushing Meadows Park Queens\, Queens\, NY
GEO:40.7282239;-73.7948516
END:VEVENT
BEGIN:VEVENT
DTSTART;VALUE=DATE:20250920
DTEND;VALUE=DATE:20250921
DTSTAMP:20260421T164808
CREATED:20250506T143426Z
LAST-MODIFIED:20250506T145849Z
UID:10001377-1758326400-1758412799@ctrideguide.com
SUMMARY:Music Fest
DESCRIPTION:Fall is coming so come to Freedom Road for our MUSIC FEST.  Great time with great entertainment plus so much more.
URL:https://ctrideguide.com/event/music-fest/
LOCATION:Freedom Road Harley Davidson\, 557 West Main St.\, Branford\, CT
GEO:41.278414;-72.8438398
X-APPLE-STRUCTURED-LOCATION;VALUE=URI;X-ADDRESS=Freedom Road Harley Davidson 557 West Main St. Branford CT;X-APPLE-RADIUS=500;X-TITLE=557 West Main St.:geo:-72.8438398,41.278414
END:VEVENT
BEGIN:VEVENT
DTSTART;TZID=America/New_York:20250919T170000
DTEND;TZID=America/New_York:20250919T190000
DTSTAMP:20260421T164808
CREATED:20250506T142749Z
LAST-MODIFIED:20250506T142749Z
UID:10001292-1758301200-1758308400@ctrideguide.com
SUMMARY:Ladies Night
DESCRIPTION:Ladies this is for you. Charcuterie Board\, wine\, raffles\, and much more.
URL:https://ctrideguide.com/event/ladies-night-4/
LOCATION:Hartford Harley Davidson\, 221 Governor St.\, East Hartford\, CT
GEO:41.7707241;-72.6532985
X-APPLE-STRUCTURED-LOCATION;VALUE=URI;X-ADDRESS=Hartford Harley Davidson 221 Governor St. East Hartford CT;X-APPLE-RADIUS=500;X-TITLE=221 Governor St.:geo:-72.6532985,41.7707241
END:VEVENT
BEGIN:VEVENT
DTSTART;TZID=America/New_York:20250918T170000
DTEND;TZID=America/New_York:20250918T210000
DTSTAMP:20260421T164808
CREATED:20250506T142853Z
LAST-MODIFIED:20250506T142853Z
UID:10001313-1758214800-1758229200@ctrideguide.com
SUMMARY:Bike Night
DESCRIPTION:Sheldons is proud to host our Bike Night.  Bring your ride and enjoy food\, entertainment\, and so much more.
URL:https://ctrideguide.com/event/bike-night-11/
LOCATION:Sheldons Harley Davidson\, 914 Southbridge St.\, Auburn\, MA
GEO:42.1748162;-71.8778391
X-APPLE-STRUCTURED-LOCATION;VALUE=URI;X-ADDRESS=Sheldons Harley Davidson 914 Southbridge St. Auburn MA;X-APPLE-RADIUS=500;X-TITLE=914 Southbridge St.:geo:-71.8778391,42.1748162
END:VEVENT
BEGIN:VEVENT
DTSTART;TZID=America/New_York:20250918T170000
DTEND;TZID=America/New_York:20250918T210000
DTSTAMP:20260421T164808
CREATED:20250506T142853Z
LAST-MODIFIED:20250506T142853Z
UID:10001314-1758214800-1758229200@ctrideguide.com
SUMMARY:Bike Night Finale
DESCRIPTION:Come and enjoy our season finale with entertainment by Bulletproof.
URL:https://ctrideguide.com/event/bike-night-finale/
LOCATION:Battleship Harley Davidson\, 799 State St.\, Dartmouth\, MA
GEO:41.6381138;-71.0337221
X-APPLE-STRUCTURED-LOCATION;VALUE=URI;X-ADDRESS=Battleship Harley Davidson 799 State St. Dartmouth MA;X-APPLE-RADIUS=500;X-TITLE=799 State St.:geo:-71.0337221,41.6381138
END:VEVENT
BEGIN:VEVENT
DTSTART;TZID=America/New_York:20250914T093000
DTEND;TZID=America/New_York:20250914T120000
DTSTAMP:20260421T164808
CREATED:20250506T142349Z
LAST-MODIFIED:20250506T142349Z
UID:10001183-1757842200-1757851200@ctrideguide.com
SUMMARY:Back the Blue Southeastern CT 9/11 Memorial Ride
DESCRIPTION:Join us on this great ride through Southeastern CT; free lunch\, raffles and so much more!
URL:https://ctrideguide.com/event/back-the-blue-southeastern-ct-9-11-memorial-ride/
LOCATION:Fair Grounds (Lower Level)\, 722 Colonel Ledyard Hwy\, Ledyard\, CT
GEO:41.4404824;-72.0151268
X-APPLE-STRUCTURED-LOCATION;VALUE=URI;X-ADDRESS=Fair Grounds (Lower Level) 722 Colonel Ledyard Hwy Ledyard CT;X-APPLE-RADIUS=500;X-TITLE=722 Colonel Ledyard Hwy:geo:-72.0151268,41.4404824
END:VEVENT
BEGIN:VEVENT
DTSTART;TZID=America/New_York:20250914T090000
DTEND;TZID=America/New_York:20250914T090000
DTSTAMP:20260421T164808
CREATED:20250506T142235Z
LAST-MODIFIED:20250506T142235Z
UID:10001156-1757840400-1757840400@ctrideguide.com
SUMMARY:TRANTOLO TOURS
DESCRIPTION:Our weekly rides are back! Join us every Sunday (weather permitting) for a fun ride throughout Connecticut and New England.
URL:https://ctrideguide.com/event/trantolo-tours-58/
LOCATION:Yankee Harley Davidson\, 488 Farmington Ave\, Bristol\, CT
GEO:41.6890129;-72.9269237
X-APPLE-STRUCTURED-LOCATION;VALUE=URI;X-ADDRESS=Yankee Harley Davidson 488 Farmington Ave Bristol CT;X-APPLE-RADIUS=500;X-TITLE=488 Farmington Ave:geo:-72.9269237,41.6890129
END:VEVENT
END:VCALENDAR