BEGIN:VCALENDAR
VERSION:2.0
PRODID:-//CT Ride Guide - ECPv6.15.18//NONSGML v1.0//EN
CALSCALE:GREGORIAN
METHOD:PUBLISH
X-WR-CALNAME:CT Ride Guide
X-ORIGINAL-URL:https://ctrideguide.com
X-WR-CALDESC:Events for CT Ride Guide
REFRESH-INTERVAL;VALUE=DURATION:PT1H
X-Robots-Tag:noindex
X-PUBLISHED-TTL:PT1H
BEGIN:VTIMEZONE
TZID:America/New_York
BEGIN:DAYLIGHT
TZOFFSETFROM:-0500
TZOFFSETTO:-0400
TZNAME:EDT
DTSTART:20240310T070000
END:DAYLIGHT
BEGIN:STANDARD
TZOFFSETFROM:-0400
TZOFFSETTO:-0500
TZNAME:EST
DTSTART:20241103T060000
END:STANDARD
BEGIN:DAYLIGHT
TZOFFSETFROM:-0500
TZOFFSETTO:-0400
TZNAME:EDT
DTSTART:20250309T070000
END:DAYLIGHT
BEGIN:STANDARD
TZOFFSETFROM:-0400
TZOFFSETTO:-0500
TZNAME:EST
DTSTART:20251102T060000
END:STANDARD
BEGIN:DAYLIGHT
TZOFFSETFROM:-0500
TZOFFSETTO:-0400
TZNAME:EDT
DTSTART:20260308T070000
END:DAYLIGHT
BEGIN:STANDARD
TZOFFSETFROM:-0400
TZOFFSETTO:-0500
TZNAME:EST
DTSTART:20261101T060000
END:STANDARD
END:VTIMEZONE
BEGIN:VEVENT
DTSTART;VALUE=DATE:20250712
DTEND;VALUE=DATE:20250713
DTSTAMP:20260422T113816
CREATED:20250506T143419Z
LAST-MODIFIED:20250506T145723Z
UID:10001369-1752278400-1752364799@ctrideguide.com
SUMMARY:Ice Cream Social
DESCRIPTION:Come and enjoy some nice cold ice cream either before or after you go riding.
URL:https://ctrideguide.com/event/ice-cream-social-4/
LOCATION:Hartford Harley Davidson\, 221 Governor St.\, East Hartford\, CT
GEO:41.7707241;-72.6532985
X-APPLE-STRUCTURED-LOCATION;VALUE=URI;X-ADDRESS=Hartford Harley Davidson 221 Governor St. East Hartford CT;X-APPLE-RADIUS=500;X-TITLE=221 Governor St.:geo:-72.6532985,41.7707241
END:VEVENT
BEGIN:VEVENT
DTSTART;TZID=America/New_York:20250711T000000
DTEND;TZID=America/New_York:20250713T000000
DTSTAMP:20260422T113816
CREATED:20250506T143624Z
LAST-MODIFIED:20250506T143624Z
UID:10001408-1752192000-1752364800@ctrideguide.com
SUMMARY:New England State Rally
DESCRIPTION:So much to do at this Rally presented by Christian Motorcycle Association.
URL:https://ctrideguide.com/event/new-england-state-rally/
LOCATION:Fryeburg Fairgrounds\, 1154 Main St.\, Fryeburg\, ME
GEO:44.0328799;-70.968669
X-APPLE-STRUCTURED-LOCATION;VALUE=URI;X-ADDRESS=Fryeburg Fairgrounds 1154 Main St. Fryeburg ME;X-APPLE-RADIUS=500;X-TITLE=1154 Main St.:geo:-70.968669,44.0328799
END:VEVENT
BEGIN:VEVENT
DTSTART;TZID=America/New_York:20250710T180000
DTEND;TZID=America/New_York:20250710T210000
DTSTAMP:20260422T113816
CREATED:20250506T143222Z
LAST-MODIFIED:20250506T143222Z
UID:10001351-1752170400-1752181200@ctrideguide.com
SUMMARY:Destination Bike Night
DESCRIPTION:Live Music by Cold Train.  Vendors\, raffles\, food\, and much more. Presented by THROTTLE ROCKER and TRANTOLO and TRANTOLO.
URL:https://ctrideguide.com/event/destination-bike-night-13/
LOCATION:MA
END:VEVENT
BEGIN:VEVENT
DTSTART;TZID=America/New_York:20250710T100000
DTEND;TZID=America/New_York:20250710T180000
DTSTAMP:20260422T113816
CREATED:20250506T142446Z
LAST-MODIFIED:20250506T142446Z
UID:10001229-1752141600-1752170400@ctrideguide.com
SUMMARY:HD Homecoming
DESCRIPTION:Check us out at Old School Harley Davidson for our Homecoming.
URL:https://ctrideguide.com/event/hd-homecoming/
LOCATION:Old School Harley Davidson\, 398 Somers Rd\, Ellington\, CT
GEO:41.9263618;-72.4557488
X-APPLE-STRUCTURED-LOCATION;VALUE=URI;X-ADDRESS=Old School Harley Davidson 398 Somers Rd Ellington CT;X-APPLE-RADIUS=500;X-TITLE=398 Somers Rd:geo:-72.4557488,41.9263618
END:VEVENT
BEGIN:VEVENT
DTSTART;TZID=America/New_York:20250706T090000
DTEND;TZID=America/New_York:20250706T090000
DTSTAMP:20260422T113816
CREATED:20250506T142205Z
LAST-MODIFIED:20250506T142205Z
UID:10001147-1751792400-1751792400@ctrideguide.com
SUMMARY:TRANTOLO TOURS
DESCRIPTION:Our weekly rides are back! Join us every Sunday (weather permitting) for a fun ride throughout Connecticut and New England.
URL:https://ctrideguide.com/event/trantolo-tours-49/
LOCATION:Old School Harley Davidson\, 398 Somers Rd\, Ellington\, CT
GEO:41.9263618;-72.4557488
X-APPLE-STRUCTURED-LOCATION;VALUE=URI;X-ADDRESS=Old School Harley Davidson 398 Somers Rd Ellington CT;X-APPLE-RADIUS=500;X-TITLE=398 Somers Rd:geo:-72.4557488,41.9263618
END:VEVENT
BEGIN:VEVENT
DTSTART;TZID=America/New_York:20250705T110000
DTEND;TZID=America/New_York:20250705T150000
DTSTAMP:20260422T113816
CREATED:20250506T142549Z
LAST-MODIFIED:20250506T142549Z
UID:10001254-1751713200-1751727600@ctrideguide.com
SUMMARY:Burn Out for Freedom
DESCRIPTION:Come show us what your bike can do.  Raffle for a new rear tire.
URL:https://ctrideguide.com/event/burn-out-for-freedom/
LOCATION:Old School Harley Davidson\, 398 Somers Rd\, Ellington\, CT
GEO:41.9263618;-72.4557488
X-APPLE-STRUCTURED-LOCATION;VALUE=URI;X-ADDRESS=Old School Harley Davidson 398 Somers Rd Ellington CT;X-APPLE-RADIUS=500;X-TITLE=398 Somers Rd:geo:-72.4557488,41.9263618
END:VEVENT
BEGIN:VEVENT
DTSTART;TZID=America/New_York:20250705T110000
DTEND;TZID=America/New_York:20250705T150000
DTSTAMP:20260422T113816
CREATED:20250506T142504Z
LAST-MODIFIED:20250506T142504Z
UID:10001240-1751713200-1751727600@ctrideguide.com
SUMMARY:Car and Bike Show
DESCRIPTION:Come to Hartford Harley Davidson for their Car and Bike show. Voting closes at 2; winner announced at 3. Subject to change.
URL:https://ctrideguide.com/event/car-and-bike-show/
LOCATION:Hartford Harley Davidson\, 221 Governor St.\, East Hartford\, CT
GEO:41.7707241;-72.6532985
X-APPLE-STRUCTURED-LOCATION;VALUE=URI;X-ADDRESS=Hartford Harley Davidson 221 Governor St. East Hartford CT;X-APPLE-RADIUS=500;X-TITLE=221 Governor St.:geo:-72.6532985,41.7707241
END:VEVENT
BEGIN:VEVENT
DTSTART;TZID=America/New_York:20250704T180000
DTEND;TZID=America/New_York:20250704T210000
DTSTAMP:20260422T113816
CREATED:20250506T143147Z
LAST-MODIFIED:20250506T143147Z
UID:10001333-1751652000-1751662800@ctrideguide.com
SUMMARY:Farm at Carter Hill
DESCRIPTION:Come to Carter Hill and enjoy great food\, entertainment\, vendors\, etc. Sponsored in part by Trantolo and Trantolo.
URL:https://ctrideguide.com/event/farm-at-carter-hill-3/
LOCATION:Farm at Carter Hill\, 86 East Hampton Rd\, Marlborough\, CT
GEO:41.6220405;-72.466556
X-APPLE-STRUCTURED-LOCATION;VALUE=URI;X-ADDRESS=Farm at Carter Hill 86 East Hampton Rd Marlborough CT;X-APPLE-RADIUS=500;X-TITLE=86 East Hampton Rd:geo:-72.466556,41.6220405
END:VEVENT
BEGIN:VEVENT
DTSTART;TZID=America/New_York:20250703T180000
DTEND;TZID=America/New_York:20250703T210000
DTSTAMP:20260422T113816
CREATED:20250506T143222Z
LAST-MODIFIED:20250506T143222Z
UID:10001350-1751565600-1751576400@ctrideguide.com
SUMMARY:Destination Bike Night
DESCRIPTION:Live Music by Raise Your Hand.  Vendors\, raffles\, food\, and much more.  Presented by THROTTLE ROCKER and TRANTOLO and TRANTOLO.
URL:https://ctrideguide.com/event/destination-bike-night-12/
LOCATION:Knights of Columbus\, 460 Granby Rd\, Chicopee\, MA
GEO:42.1578523;-72.5998821
X-APPLE-STRUCTURED-LOCATION;VALUE=URI;X-ADDRESS=Knights of Columbus 460 Granby Rd Chicopee MA;X-APPLE-RADIUS=500;X-TITLE=460 Granby Rd:geo:-72.5998821,42.1578523
END:VEVENT
BEGIN:VEVENT
DTSTART;TZID=America/New_York:20250703T170000
DTEND;TZID=America/New_York:20250703T210000
DTSTAMP:20260422T113816
CREATED:20250506T143021Z
LAST-MODIFIED:20250506T143021Z
UID:10001321-1751562000-1751576400@ctrideguide.com
SUMMARY:Bike Night
DESCRIPTION:Come to Joanna’s every Thursday for our Bike Nights; live entertainment\, food\, and raffles. Sponsored by Trantolo and Trantolo.
URL:https://ctrideguide.com/event/bike-night-12/
LOCATION:Joanna’s Restaurant\, 145 Main St.\, Somers\, CT
GEO:41.9861334;-72.4866718
X-APPLE-STRUCTURED-LOCATION;VALUE=URI;X-ADDRESS=Joanna’s Restaurant 145 Main St. Somers CT;X-APPLE-RADIUS=500;X-TITLE=145 Main St.:geo:-72.4866718,41.9861334
END:VEVENT
BEGIN:VEVENT
DTSTART;TZID=America/New_York:20250703T170000
DTEND;TZID=America/New_York:20250703T210000
DTSTAMP:20260422T113816
CREATED:20250506T143021Z
LAST-MODIFIED:20250506T143021Z
UID:10001322-1751562000-1751576400@ctrideguide.com
SUMMARY:Bike Nights at the Horse
DESCRIPTION:Come to the Rocking Horse for our weekly Bike Night.  Live entertainment\, food specials\, drink specials\, and raffles. Sponsored by Trantolo and Trantolo and Great Eastern Motorcyle Tours.
URL:https://ctrideguide.com/event/bike-nights-at-the-horse-3/
LOCATION:Rocking Horse Bar and Grill\, 57 Hartford Tpke\, Vernon\, CT
GEO:41.8205385;-72.503983
X-APPLE-STRUCTURED-LOCATION;VALUE=URI;X-ADDRESS=Rocking Horse Bar and Grill 57 Hartford Tpke Vernon CT;X-APPLE-RADIUS=500;X-TITLE=57 Hartford Tpke:geo:-72.503983,41.8205385
END:VEVENT
BEGIN:VEVENT
DTSTART;TZID=America/New_York:20250703T170000
DTEND;TZID=America/New_York:20250703T200000
DTSTAMP:20260422T113816
CREATED:20250506T142804Z
LAST-MODIFIED:20250506T142804Z
UID:10001300-1751562000-1751572800@ctrideguide.com
SUMMARY:Bike Night
DESCRIPTION:Come to Old School for our great Bike Night and celebrate our great countries birthday with food\, raffles\, beverages\, and much more!
URL:https://ctrideguide.com/event/bike-night-3/
LOCATION:Old School Harley Davidson\, 398 Somers Rd\, Ellington\, CT
GEO:41.9263618;-72.4557488
X-APPLE-STRUCTURED-LOCATION;VALUE=URI;X-ADDRESS=Old School Harley Davidson 398 Somers Rd Ellington CT;X-APPLE-RADIUS=500;X-TITLE=398 Somers Rd:geo:-72.4557488,41.9263618
END:VEVENT
BEGIN:VEVENT
DTSTART;VALUE=DATE:20250630
DTEND;VALUE=DATE:20250701
DTSTAMP:20260422T113816
CREATED:20250506T143419Z
LAST-MODIFIED:20250506T145646Z
UID:10001368-1751241600-1751327999@ctrideguide.com
SUMMARY:Doc's Independence Day Sale
DESCRIPTION:Come to Doc’s and celebrate your Independence. Up to 25% off sales to get you geared up for the 4th of July.
URL:https://ctrideguide.com/event/docs-independence-day-sale/
LOCATION:Doc’s Motorcycle\, 1625 Thomaston Ave\, Waterbury\, CT
GEO:41.5893712;-73.0523123
X-APPLE-STRUCTURED-LOCATION;VALUE=URI;X-ADDRESS=Doc’s Motorcycle 1625 Thomaston Ave Waterbury CT;X-APPLE-RADIUS=500;X-TITLE=1625 Thomaston Ave:geo:-73.0523123,41.5893712
END:VEVENT
BEGIN:VEVENT
DTSTART;TZID=America/New_York:20250629T090000
DTEND;TZID=America/New_York:20250629T090000
DTSTAMP:20260422T113816
CREATED:20250506T142205Z
LAST-MODIFIED:20250506T142205Z
UID:10001146-1751187600-1751187600@ctrideguide.com
SUMMARY:TRANTOLO TOURS
DESCRIPTION:Our weekly rides are back! Join us every Sunday (weather permitting) for a fun ride throughout Connecticut and New England.
URL:https://ctrideguide.com/event/trantolo-tours-48/
LOCATION:Freedom Road Harley Davidson\, 557 West Main St.\, Branford\, CT
GEO:41.278414;-72.8438398
X-APPLE-STRUCTURED-LOCATION;VALUE=URI;X-ADDRESS=Freedom Road Harley Davidson 557 West Main St. Branford CT;X-APPLE-RADIUS=500;X-TITLE=557 West Main St.:geo:-72.8438398,41.278414
END:VEVENT
BEGIN:VEVENT
DTSTART;TZID=America/New_York:20250628T100000
DTEND;TZID=America/New_York:20250628T150000
DTSTAMP:20260422T113816
CREATED:20250506T142441Z
LAST-MODIFIED:20250506T142441Z
UID:10001225-1751104800-1751122800@ctrideguide.com
SUMMARY:Car Show
DESCRIPTION:Something different for a Harley Dealer…come by and check out our car show and see some wild cars!
URL:https://ctrideguide.com/event/car-show/
LOCATION:Sheldons Harley Davidson\, 914 Southbridge St.\, Auburn\, MA
GEO:42.1748162;-71.8778391
X-APPLE-STRUCTURED-LOCATION;VALUE=URI;X-ADDRESS=Sheldons Harley Davidson 914 Southbridge St. Auburn MA;X-APPLE-RADIUS=500;X-TITLE=914 Southbridge St.:geo:-71.8778391,42.1748162
END:VEVENT
BEGIN:VEVENT
DTSTART;TZID=America/New_York:20250628T100000
DTEND;TZID=America/New_York:20250628T150000
DTSTAMP:20260422T113816
CREATED:20250506T142438Z
LAST-MODIFIED:20250506T142438Z
UID:10001222-1751104800-1751122800@ctrideguide.com
SUMMARY:Summer Bash and Bike Wash
DESCRIPTION:Great food\, cold drinks\, live entertainment\, and so much more.
URL:https://ctrideguide.com/event/summer-bash-and-bike-wash/
LOCATION:Old School Harley Davidson\, 398 Somers Rd\, Ellington\, CT
GEO:41.9263618;-72.4557488
X-APPLE-STRUCTURED-LOCATION;VALUE=URI;X-ADDRESS=Old School Harley Davidson 398 Somers Rd Ellington CT;X-APPLE-RADIUS=500;X-TITLE=398 Somers Rd:geo:-72.4557488,41.9263618
END:VEVENT
BEGIN:VEVENT
DTSTART;TZID=America/New_York:20250628T090000
DTEND;TZID=America/New_York:20250628T120000
DTSTAMP:20260422T113816
CREATED:20250506T142319Z
LAST-MODIFIED:20250506T142319Z
UID:10001175-1751101200-1751112000@ctrideguide.com
SUMMARY:Childrens Motorcycle and Jeep Kruze
DESCRIPTION:Help support a great cause – Childrens Miracle Network.  Entertainment\, raffles\, ride\, and so much more.
URL:https://ctrideguide.com/event/childrens-motorcycle-and-jeep-kruze/
LOCATION:Big Y\, 650 Memorial Dr.\, Chicopee\, MA
GEO:42.1752009;-72.5793558
X-APPLE-STRUCTURED-LOCATION;VALUE=URI;X-ADDRESS=Big Y 650 Memorial Dr. Chicopee MA;X-APPLE-RADIUS=500;X-TITLE=650 Memorial Dr.:geo:-72.5793558,42.1752009
END:VEVENT
BEGIN:VEVENT
DTSTART;TZID=America/New_York:20250628T080000
DTEND;TZID=America/New_York:20250628T080000
DTSTAMP:20260422T113816
CREATED:20250506T142130Z
LAST-MODIFIED:20250506T142130Z
UID:10001131-1751097600-1751097600@ctrideguide.com
SUMMARY:29th Annual American Pride Ride
DESCRIPTION:Annual event to raise money and toy donations for dozens of different charities.
URL:https://ctrideguide.com/event/29th-annual-american-pride-ride/
LOCATION:Corning Building Co\, 63 Garden St.\, Corning\, NY
GEO:42.1428521;-77.0546903
X-APPLE-STRUCTURED-LOCATION;VALUE=URI;X-ADDRESS=Corning Building Co 63 Garden St. Corning NY;X-APPLE-RADIUS=500;X-TITLE=63 Garden St.:geo:-77.0546903,42.1428521
END:VEVENT
BEGIN:VEVENT
DTSTART;VALUE=DATE:20250628
DTEND;VALUE=DATE:20250629
DTSTAMP:20260422T113816
CREATED:20250506T143516Z
LAST-MODIFIED:20250506T145642Z
UID:10001389-1751068800-1751155199@ctrideguide.com
SUMMARY:HD Flex Event
DESCRIPTION:Call for details.
URL:https://ctrideguide.com/event/hd-flex-event/
LOCATION:Battleship Harley Davidson\, 799 State St.\, Dartmouth\, MA
GEO:41.6381138;-71.0337221
X-APPLE-STRUCTURED-LOCATION;VALUE=URI;X-ADDRESS=Battleship Harley Davidson 799 State St. Dartmouth MA;X-APPLE-RADIUS=500;X-TITLE=799 State St.:geo:-71.0337221,41.6381138
END:VEVENT
BEGIN:VEVENT
DTSTART;TZID=America/New_York:20250627T170000
DTEND;TZID=America/New_York:20250627T190000
DTSTAMP:20260422T113816
CREATED:20250506T142735Z
LAST-MODIFIED:20250506T142735Z
UID:10001290-1751043600-1751050800@ctrideguide.com
SUMMARY:Mens Night
DESCRIPTION:Enjoy food\, roulette\, MAage chair\, and entertainment.
URL:https://ctrideguide.com/event/mens-night-2/
LOCATION:Hartford Harley Davidson\, 221 Governor St.\, East Hartford\, CT
GEO:41.7707241;-72.6532985
X-APPLE-STRUCTURED-LOCATION;VALUE=URI;X-ADDRESS=Hartford Harley Davidson 221 Governor St. East Hartford CT;X-APPLE-RADIUS=500;X-TITLE=221 Governor St.:geo:-72.6532985,41.7707241
END:VEVENT
BEGIN:VEVENT
DTSTART;TZID=America/New_York:20250627T000000
DTEND;TZID=America/New_York:20250629T000000
DTSTAMP:20260422T113816
CREATED:20250506T143544Z
LAST-MODIFIED:20250506T143544Z
UID:10001406-1750982400-1751155200@ctrideguide.com
SUMMARY:Thousand Island River Run
DESCRIPTION:18th Annual Bike Rally with food\, great entertainment\, contests\, and much more.
URL:https://ctrideguide.com/event/thousand-island-river-run-2/
LOCATION:MA
END:VEVENT
BEGIN:VEVENT
DTSTART;TZID=America/New_York:20250626T180000
DTEND;TZID=America/New_York:20250626T210000
DTSTAMP:20260422T113816
CREATED:20250506T143211Z
LAST-MODIFIED:20250506T143211Z
UID:10001349-1750960800-1750971600@ctrideguide.com
SUMMARY:Destination Bike Night
DESCRIPTION:Live music\, vendors\, raffles\, food\, and much more. Presented by THROTTLE ROCKER and TRANTOLO and TRANTOLO.
URL:https://ctrideguide.com/event/destination-bike-night-11/
LOCATION:Agawam Polish Club\, 139 Southwick St.\, Feeding Hills\, MA
GEO:42.065586;-72.6852396
X-APPLE-STRUCTURED-LOCATION;VALUE=URI;X-ADDRESS=Agawam Polish Club 139 Southwick St. Feeding Hills MA;X-APPLE-RADIUS=500;X-TITLE=139 Southwick St.:geo:-72.6852396,42.065586
END:VEVENT
BEGIN:VEVENT
DTSTART;TZID=America/New_York:20250626T170000
DTEND;TZID=America/New_York:20250626T210000
DTSTAMP:20260422T113816
CREATED:20250506T142902Z
LAST-MODIFIED:20250506T142902Z
UID:10001316-1750957200-1750971600@ctrideguide.com
SUMMARY:Patriotic Bike Night
DESCRIPTION:Show  your patriotic spirit as well as your love for riding.  Entertainment by Geezer with food\, raffles\, vendors\, and much more.
URL:https://ctrideguide.com/event/patriotic-bike-night/
LOCATION:MA
END:VEVENT
BEGIN:VEVENT
DTSTART;TZID=America/New_York:20250626T000000
DTEND;TZID=America/New_York:20250629T000000
DTSTAMP:20260422T113816
CREATED:20250506T143544Z
LAST-MODIFIED:20250506T143544Z
UID:10001405-1750896000-1751155200@ctrideguide.com
SUMMARY:18th Annual Thousand Islands River Run
DESCRIPTION:Annual Rally\, great bands\, great food\, Bike Shows\, vendors\, and so much more.
URL:https://ctrideguide.com/event/18th-annual-thousand-islands-river-run/
LOCATION:MA
END:VEVENT
BEGIN:VEVENT
DTSTART;TZID=America/New_York:20250626T000000
DTEND;TZID=America/New_York:20250629T000000
DTSTAMP:20260422T113816
CREATED:20250506T143544Z
LAST-MODIFIED:20250506T143544Z
UID:10001404-1750896000-1751155200@ctrideguide.com
SUMMARY:Harley Rendezvous
DESCRIPTION:Adult only weekend of Bike Shows\, wet T-shirt competition\, wild stage shows\, and so much more.
URL:https://ctrideguide.com/event/harley-rendezvous/
LOCATION:Indian Lookout Country Club\, 1142 Batter St.\, Pattersonville\, NY
GEO:42.82111;-74.1529992
X-APPLE-STRUCTURED-LOCATION;VALUE=URI;X-ADDRESS=Indian Lookout Country Club 1142 Batter St. Pattersonville NY;X-APPLE-RADIUS=500;X-TITLE=1142 Batter St.:geo:-74.1529992,42.82111
END:VEVENT
BEGIN:VEVENT
DTSTART;TZID=America/New_York:20250622T090000
DTEND;TZID=America/New_York:20250622T090000
DTSTAMP:20260422T113816
CREATED:20250506T142204Z
LAST-MODIFIED:20250506T142204Z
UID:10001145-1750582800-1750582800@ctrideguide.com
SUMMARY:TRANTOLO TOURS
DESCRIPTION:Our weekly rides are back! Join us every Sunday (weather permitting) for a fun ride throughout Connecticut and New England.
URL:https://ctrideguide.com/event/trantolo-tours-47/
LOCATION:Hartford Harley Davidson\, 221 Governor St.\, East Hartford\, CT
GEO:41.7707241;-72.6532985
X-APPLE-STRUCTURED-LOCATION;VALUE=URI;X-ADDRESS=Hartford Harley Davidson 221 Governor St. East Hartford CT;X-APPLE-RADIUS=500;X-TITLE=221 Governor St.:geo:-72.6532985,41.7707241
END:VEVENT
BEGIN:VEVENT
DTSTART;TZID=America/New_York:20250621T110000
DTEND;TZID=America/New_York:20250621T150000
DTSTAMP:20260422T113816
CREATED:20250506T142620Z
LAST-MODIFIED:20250506T142620Z
UID:10001266-1750503600-1750518000@ctrideguide.com
SUMMARY:Open House
DESCRIPTION:Check out our summer Open House and enjoy food\, raffles\, lots of bikes\, and much more.
URL:https://ctrideguide.com/event/open-house-3/
LOCATION:MA
END:VEVENT
BEGIN:VEVENT
DTSTART;TZID=America/New_York:20250621T110000
DTEND;TZID=America/New_York:20250621T150000
DTSTAMP:20260422T113816
CREATED:20250506T142504Z
LAST-MODIFIED:20250506T142504Z
UID:10001239-1750503600-1750518000@ctrideguide.com
SUMMARY:Summer Cookout
DESCRIPTION:Come by Hartford Harley and enjoy our Lunch cookout.
URL:https://ctrideguide.com/event/summer-cookout/
LOCATION:Hartford Harley Davidson\, 221 Governor St.\, East Hartford\, CT
GEO:41.7707241;-72.6532985
X-APPLE-STRUCTURED-LOCATION;VALUE=URI;X-ADDRESS=Hartford Harley Davidson 221 Governor St. East Hartford CT;X-APPLE-RADIUS=500;X-TITLE=221 Governor St.:geo:-72.6532985,41.7707241
END:VEVENT
BEGIN:VEVENT
DTSTART;TZID=America/New_York:20250621T110000
DTEND;TZID=America/New_York:20250621T140000
DTSTAMP:20260422T113816
CREATED:20250506T142520Z
LAST-MODIFIED:20250506T142520Z
UID:10001247-1750503600-1750514400@ctrideguide.com
SUMMARY:Bike Show
DESCRIPTION:Bring your Ride to the Battleship and enter it into our Bike Show.  Great Prizes!
URL:https://ctrideguide.com/event/bike-show/
LOCATION:Battleship Harley Davidson\, 799 State St.\, Dartmouth\, MA
GEO:41.6381138;-71.0337221
X-APPLE-STRUCTURED-LOCATION;VALUE=URI;X-ADDRESS=Battleship Harley Davidson 799 State St. Dartmouth MA;X-APPLE-RADIUS=500;X-TITLE=799 State St.:geo:-71.0337221,41.6381138
END:VEVENT
BEGIN:VEVENT
DTSTART;TZID=America/New_York:20250621T100000
DTEND;TZID=America/New_York:20250621T150000
DTSTAMP:20260422T113816
CREATED:20250506T142438Z
LAST-MODIFIED:20250506T142438Z
UID:10001221-1750500000-1750518000@ctrideguide.com
SUMMARY:Summer Solstice
DESCRIPTION:Come to Old School Harley Davidson and help us celebrate the longest day of the year! Great food and a day of fun.
URL:https://ctrideguide.com/event/summer-solstice/
LOCATION:Old School Harley Davidson\, 398 Somers Rd\, Ellington\, CT
GEO:41.9263618;-72.4557488
X-APPLE-STRUCTURED-LOCATION;VALUE=URI;X-ADDRESS=Old School Harley Davidson 398 Somers Rd Ellington CT;X-APPLE-RADIUS=500;X-TITLE=398 Somers Rd:geo:-72.4557488,41.9263618
END:VEVENT
END:VCALENDAR