BEGIN:VCALENDAR
VERSION:2.0
PRODID:-//CT Ride Guide - ECPv6.15.18//NONSGML v1.0//EN
CALSCALE:GREGORIAN
METHOD:PUBLISH
X-ORIGINAL-URL:https://ctrideguide.com
X-WR-CALDESC:Events for CT Ride Guide
REFRESH-INTERVAL;VALUE=DURATION:PT1H
X-Robots-Tag:noindex
X-PUBLISHED-TTL:PT1H
BEGIN:VTIMEZONE
TZID:America/New_York
BEGIN:DAYLIGHT
TZOFFSETFROM:-0500
TZOFFSETTO:-0400
TZNAME:EDT
DTSTART:20240310T070000
END:DAYLIGHT
BEGIN:STANDARD
TZOFFSETFROM:-0400
TZOFFSETTO:-0500
TZNAME:EST
DTSTART:20241103T060000
END:STANDARD
BEGIN:DAYLIGHT
TZOFFSETFROM:-0500
TZOFFSETTO:-0400
TZNAME:EDT
DTSTART:20250309T070000
END:DAYLIGHT
BEGIN:STANDARD
TZOFFSETFROM:-0400
TZOFFSETTO:-0500
TZNAME:EST
DTSTART:20251102T060000
END:STANDARD
BEGIN:DAYLIGHT
TZOFFSETFROM:-0500
TZOFFSETTO:-0400
TZNAME:EDT
DTSTART:20260308T070000
END:DAYLIGHT
BEGIN:STANDARD
TZOFFSETFROM:-0400
TZOFFSETTO:-0500
TZNAME:EST
DTSTART:20261101T060000
END:STANDARD
END:VTIMEZONE
BEGIN:VEVENT
DTSTART;TZID=America/New_York:20251227T110000
DTEND;TZID=America/New_York:20251227T150000
DTSTAMP:20260421T133306
CREATED:20250506T142604Z
LAST-MODIFIED:20250506T142604Z
UID:10001261-1766833200-1766847600@ctrideguide.com
SUMMARY:New Year's Eve Party
DESCRIPTION:Come to Hartford Harley Davidson and help celebrate the New Year and help us Thank You for a great year!
URL:https://ctrideguide.com/event/new-years-eve-party/
LOCATION:Hartford Harley Davidson\, 221 Governor St.\, East Hartford\, CT
GEO:41.7707241;-72.6532985
X-APPLE-STRUCTURED-LOCATION;VALUE=URI;X-ADDRESS=Hartford Harley Davidson 221 Governor St. East Hartford CT;X-APPLE-RADIUS=500;X-TITLE=221 Governor St.:geo:-72.6532985,41.7707241
END:VEVENT
BEGIN:VEVENT
DTSTART;TZID=America/New_York:20251220T110000
DTEND;TZID=America/New_York:20251220T150000
DTSTAMP:20260421T133306
CREATED:20250506T142604Z
LAST-MODIFIED:20250506T142635Z
UID:10001260-1766228400-1766242800@ctrideguide.com
SUMMARY:Pictures with Santa
DESCRIPTION:Santa is coming to Spitzies! Get your picture taken in Spitzies Sleigh with Santa and enjoy cookies\, hot chocolate\, and candy canes.
URL:https://ctrideguide.com/event/pictures-with-santa-7/
LOCATION:Hartford Harley Davidson\, 221 Governor St.\, East Hartford\, CT
GEO:41.7707241;-72.6532985
X-APPLE-STRUCTURED-LOCATION;VALUE=URI;X-ADDRESS=Hartford Harley Davidson 221 Governor St. East Hartford CT;X-APPLE-RADIUS=500;X-TITLE=221 Governor St.:geo:-72.6532985,41.7707241
END:VEVENT
BEGIN:VEVENT
DTSTART;TZID=America/New_York:20251220T110000
DTEND;TZID=America/New_York:20251220T140000
DTSTAMP:20260421T133306
CREATED:20250506T142519Z
LAST-MODIFIED:20250506T142519Z
UID:10001246-1766228400-1766239200@ctrideguide.com
SUMMARY:Pictures with Santa
DESCRIPTION:Check out our website for info.
URL:https://ctrideguide.com/event/pictures-with-santa-2/
LOCATION:Old School Harley Davidson\, 398 Somers Rd\, Ellington\, CT
GEO:41.9263618;-72.4557488
X-APPLE-STRUCTURED-LOCATION;VALUE=URI;X-ADDRESS=Old School Harley Davidson 398 Somers Rd Ellington CT;X-APPLE-RADIUS=500;X-TITLE=398 Somers Rd:geo:-72.4557488,41.9263618
END:VEVENT
BEGIN:VEVENT
DTSTART;VALUE=DATE:20251220
DTEND;VALUE=DATE:20251221
DTSTAMP:20260421T133306
CREATED:20250506T143455Z
LAST-MODIFIED:20250506T150041Z
UID:10001382-1766188800-1766275199@ctrideguide.com
SUMMARY:Pictures with Santa
DESCRIPTION:Bring the kids to Sheldons for photos with Santa.
URL:https://ctrideguide.com/event/pictures-with-santa-8/
LOCATION:Sheldons Harley Davidson\, 914 Southbridge St.\, Auburn\, MA
GEO:42.1748162;-71.8778391
X-APPLE-STRUCTURED-LOCATION;VALUE=URI;X-ADDRESS=Sheldons Harley Davidson 914 Southbridge St. Auburn MA;X-APPLE-RADIUS=500;X-TITLE=914 Southbridge St.:geo:-71.8778391,42.1748162
END:VEVENT
BEGIN:VEVENT
DTSTART;TZID=America/New_York:20251213T110000
DTEND;TZID=America/New_York:20251213T150000
DTSTAMP:20260421T133306
CREATED:20250506T142604Z
LAST-MODIFIED:20250506T142604Z
UID:10001259-1765623600-1765638000@ctrideguide.com
SUMMARY:Pet Pictures with Santa
DESCRIPTION:Bring your pet and have their picture taken with Santa; benefits BAAC.
URL:https://ctrideguide.com/event/pet-pictures-with-santa/
LOCATION:Hartford Harley Davidson\, 221 Governor St.\, East Hartford\, CT
GEO:41.7707241;-72.6532985
X-APPLE-STRUCTURED-LOCATION;VALUE=URI;X-ADDRESS=Hartford Harley Davidson 221 Governor St. East Hartford CT;X-APPLE-RADIUS=500;X-TITLE=221 Governor St.:geo:-72.6532985,41.7707241
END:VEVENT
BEGIN:VEVENT
DTSTART;TZID=America/New_York:20251213T110000
DTEND;TZID=America/New_York:20251213T130000
DTSTAMP:20260421T133306
CREATED:20250506T142504Z
LAST-MODIFIED:20250506T142504Z
UID:10001241-1765623600-1765630800@ctrideguide.com
SUMMARY:Breakfast and Pictures with Santa
DESCRIPTION:Bring the kids to the Battleship for a great breakfast and photos with Santa.
URL:https://ctrideguide.com/event/breakfast-and-pictures-with-santa/
LOCATION:Battleship Harley Davidson\, 799 State St.\, Dartmouth\, MA
GEO:41.6381138;-71.0337221
X-APPLE-STRUCTURED-LOCATION;VALUE=URI;X-ADDRESS=Battleship Harley Davidson 799 State St. Dartmouth MA;X-APPLE-RADIUS=500;X-TITLE=799 State St.:geo:-71.0337221,41.6381138
END:VEVENT
BEGIN:VEVENT
DTSTART;TZID=America/New_York:20251213T100000
DTEND;TZID=America/New_York:20251213T100000
DTSTAMP:20260421T133306
CREATED:20250506T142405Z
LAST-MODIFIED:20250506T142405Z
UID:10001202-1765620000-1765620000@ctrideguide.com
SUMMARY:Cool Bikes and Hot Breakfast
DESCRIPTION:Come check out the cool bikes that we have and enjoy breafast while you’re here.
URL:https://ctrideguide.com/event/cool-bikes-and-hot-breakfast-4/
LOCATION:Sheldons Harley Davidson\, 914 Southbridge St.\, Auburn\, MA
GEO:42.1748162;-71.8778391
X-APPLE-STRUCTURED-LOCATION;VALUE=URI;X-ADDRESS=Sheldons Harley Davidson 914 Southbridge St. Auburn MA;X-APPLE-RADIUS=500;X-TITLE=914 Southbridge St.:geo:-71.8778391,42.1748162
END:VEVENT
BEGIN:VEVENT
DTSTART;TZID=America/New_York:20251213T100000
DTEND;TZID=America/New_York:20251213T100000
DTSTAMP:20260421T133306
CREATED:20250506T142356Z
LAST-MODIFIED:20250506T142356Z
UID:10001194-1765620000-1765620000@ctrideguide.com
SUMMARY:Freedom Ride
DESCRIPTION:Come to Freedom Road Harley for breakfast and an enjoyable ride. Leaves from Freedom Road and returns for Lunch.
URL:https://ctrideguide.com/event/freedom-ride-10/
LOCATION:Freedom Road Harley Davidson\, 557 West Main St.\, Branford\, CT
GEO:41.278414;-72.8438398
X-APPLE-STRUCTURED-LOCATION;VALUE=URI;X-ADDRESS=Freedom Road Harley Davidson 557 West Main St. Branford CT;X-APPLE-RADIUS=500;X-TITLE=557 West Main St.:geo:-72.8438398,41.278414
END:VEVENT
BEGIN:VEVENT
DTSTART;VALUE=DATE:20251213
DTEND;VALUE=DATE:20251214
DTSTAMP:20260421T133306
CREATED:20250506T143454Z
LAST-MODIFIED:20250506T150037Z
UID:10001381-1765584000-1765670399@ctrideguide.com
SUMMARY:Toy Drive
DESCRIPTION:Come to Freedom Road and join us and East Coastin Crew.  Bring  a toy for the underprivileged.
URL:https://ctrideguide.com/event/toy-drive-2/
LOCATION:Freedom Road Harley Davidson\, 557 West Main St.\, Branford\, CT
GEO:41.278414;-72.8438398
X-APPLE-STRUCTURED-LOCATION;VALUE=URI;X-ADDRESS=Freedom Road Harley Davidson 557 West Main St. Branford CT;X-APPLE-RADIUS=500;X-TITLE=557 West Main St.:geo:-72.8438398,41.278414
END:VEVENT
BEGIN:VEVENT
DTSTART;TZID=America/New_York:20251207T090000
DTEND;TZID=America/New_York:20251207T090000
DTSTAMP:20260421T133306
CREATED:20250506T142259Z
LAST-MODIFIED:20250506T142259Z
UID:10001163-1765098000-1765098000@ctrideguide.com
SUMMARY:Polar Bear Ride
DESCRIPTION:It may be cold but we are riding!!!! Join us at Sheldons for our Annual Polar Bear Ride.
URL:https://ctrideguide.com/event/polar-bear-ride/
LOCATION:Sheldons Harley Davidson\, 914 Southbridge St.\, Auburn\, MA
GEO:42.1748162;-71.8778391
X-APPLE-STRUCTURED-LOCATION;VALUE=URI;X-ADDRESS=Sheldons Harley Davidson 914 Southbridge St. Auburn MA;X-APPLE-RADIUS=500;X-TITLE=914 Southbridge St.:geo:-71.8778391,42.1748162
END:VEVENT
BEGIN:VEVENT
DTSTART;TZID=America/New_York:20251206T110000
DTEND;TZID=America/New_York:20251206T150000
DTSTAMP:20260421T133306
CREATED:20251203T165303Z
LAST-MODIFIED:20251203T165303Z
UID:10001413-1765018800-1765033200@ctrideguide.com
SUMMARY:Paws and Claus
DESCRIPTION:Bring your furry\, feathered or scaly friends (and humans too!) to Freedom Road Harley-Davidson for some festive fun and holiday photos with Santa! Donate money\, food\, toys\, blankets and more to benefit Bikers Against Animal Cruelty\, Inc – BAAC. Come make some paws-itively perfect holiday memories while helping a great cause!
URL:https://ctrideguide.com/event/paws-and-claus/
LOCATION:Freedom Harley-Davidson\, 557 W Main St\, Branford\, CT\, 06405\, United States
GEO:41.278414;-72.8438398
X-APPLE-STRUCTURED-LOCATION;VALUE=URI;X-ADDRESS=Freedom Harley-Davidson 557 W Main St Branford CT 06405 United States;X-APPLE-RADIUS=500;X-TITLE=557 W Main St:geo:-72.8438398,41.278414
END:VEVENT
BEGIN:VEVENT
DTSTART;TZID=America/New_York:20251206T100000
DTEND;TZID=America/New_York:20251206T120000
DTSTAMP:20260421T133306
CREATED:20250506T142419Z
LAST-MODIFIED:20250506T142419Z
UID:10001212-1765015200-1765022400@ctrideguide.com
SUMMARY:Breakfast at Freedom Road
DESCRIPTION:Come by Freedom Road for a great breakfast every Saturday.
URL:https://ctrideguide.com/event/breakfast-at-freedom-road-9/
LOCATION:Freedom Road Harley Davidson\, 557 West Main St.\, Branford\, CT
GEO:41.278414;-72.8438398
X-APPLE-STRUCTURED-LOCATION;VALUE=URI;X-ADDRESS=Freedom Road Harley Davidson 557 West Main St. Branford CT;X-APPLE-RADIUS=500;X-TITLE=557 West Main St.:geo:-72.8438398,41.278414
END:VEVENT
BEGIN:VEVENT
DTSTART;TZID=America/New_York:20251206T100000
DTEND;TZID=America/New_York:20251206T100000
DTSTAMP:20260421T133306
CREATED:20250506T142404Z
LAST-MODIFIED:20250506T142404Z
UID:10001201-1765015200-1765015200@ctrideguide.com
SUMMARY:Service Seminar
DESCRIPTION:Want to know more about your bike?  Come join us at our service seminar.
URL:https://ctrideguide.com/event/service-seminar-2/
LOCATION:Sheldons Harley Davidson\, 914 Southbridge St.\, Auburn\, MA
GEO:42.1748162;-71.8778391
X-APPLE-STRUCTURED-LOCATION;VALUE=URI;X-ADDRESS=Sheldons Harley Davidson 914 Southbridge St. Auburn MA;X-APPLE-RADIUS=500;X-TITLE=914 Southbridge St.:geo:-71.8778391,42.1748162
END:VEVENT
BEGIN:VEVENT
DTSTART;TZID=America/New_York:20251206T094500
DTEND;TZID=America/New_York:20251206T113000
DTSTAMP:20260421T133306
CREATED:20250506T142349Z
LAST-MODIFIED:20250506T142349Z
UID:10001184-1765014300-1765020600@ctrideguide.com
SUMMARY:Pancake Breakfast
DESCRIPTION:Want to get rid of the winter blues? Come join us at Spitzies for our Pancake Breakfast.
URL:https://ctrideguide.com/event/pancake-breakfast-3/
LOCATION:CT
END:VEVENT
BEGIN:VEVENT
DTSTART;TZID=America/New_York:20251206T090000
DTEND;TZID=America/New_York:20251206T120000
DTSTAMP:20260421T133306
CREATED:20250506T142334Z
LAST-MODIFIED:20250506T142334Z
UID:10001178-1765011600-1765022400@ctrideguide.com
SUMMARY:Breakfast with Santa
DESCRIPTION:Come to Hartford Harley for breakfast prepared by the HOG Club; pancakes\, sausage\, donuts\, and much more. Don’t forget to get your picture taken with Mr. and Mrs. Claus.
URL:https://ctrideguide.com/event/breakfast-with-santa/
LOCATION:Hartford Harley Davidson\, 221 Governor St.\, East Hartford\, CT
GEO:41.7707241;-72.6532985
X-APPLE-STRUCTURED-LOCATION;VALUE=URI;X-ADDRESS=Hartford Harley Davidson 221 Governor St. East Hartford CT;X-APPLE-RADIUS=500;X-TITLE=221 Governor St.:geo:-72.6532985,41.7707241
END:VEVENT
BEGIN:VEVENT
DTSTART;VALUE=DATE:20251129
DTEND;VALUE=DATE:20251130
DTSTAMP:20260421T133306
CREATED:20250506T143454Z
LAST-MODIFIED:20250506T150004Z
UID:10001380-1764374400-1764460799@ctrideguide.com
SUMMARY:Black Friday
DESCRIPTION:Come and check out our motor clothes\, parts and service on this traditional day.
URL:https://ctrideguide.com/event/black-friday/
LOCATION:Hartford Harley Davidson\, 221 Governor St.\, East Hartford\, CT
GEO:41.7707241;-72.6532985
X-APPLE-STRUCTURED-LOCATION;VALUE=URI;X-ADDRESS=Hartford Harley Davidson 221 Governor St. East Hartford CT;X-APPLE-RADIUS=500;X-TITLE=221 Governor St.:geo:-72.6532985,41.7707241
END:VEVENT
BEGIN:VEVENT
DTSTART;VALUE=DATE:20251128
DTEND;VALUE=DATE:20251129
DTSTAMP:20260421T133306
CREATED:20250506T143518Z
LAST-MODIFIED:20250506T150007Z
UID:10001392-1764288000-1764374399@ctrideguide.com
SUMMARY:Black Friday
DESCRIPTION:Come check us out on Black Friday and see what we have for you.
URL:https://ctrideguide.com/event/black-friday-2/
LOCATION:Battleship Harley Davidson\, 799 State St.\, Dartmouth\, MA
GEO:41.6381138;-71.0337221
X-APPLE-STRUCTURED-LOCATION;VALUE=URI;X-ADDRESS=Battleship Harley Davidson 799 State St. Dartmouth MA;X-APPLE-RADIUS=500;X-TITLE=799 State St.:geo:-71.0337221,41.6381138
END:VEVENT
BEGIN:VEVENT
DTSTART;TZID=America/New_York:20251122T110000
DTEND;TZID=America/New_York:20251122T150000
DTSTAMP:20260421T133306
CREATED:20250506T142604Z
LAST-MODIFIED:20250506T142604Z
UID:10001258-1763809200-1763823600@ctrideguide.com
SUMMARY:Toy Drive
DESCRIPTION:Come to Hartford Harley and bring a toy for the less privileged.
URL:https://ctrideguide.com/event/toy-drive/
LOCATION:Hartford Harley Davidson\, 221 Governor St.\, East Hartford\, CT
GEO:41.7707241;-72.6532985
X-APPLE-STRUCTURED-LOCATION;VALUE=URI;X-ADDRESS=Hartford Harley Davidson 221 Governor St. East Hartford CT;X-APPLE-RADIUS=500;X-TITLE=221 Governor St.:geo:-72.6532985,41.7707241
END:VEVENT
BEGIN:VEVENT
DTSTART;TZID=America/New_York:20251115T110000
DTEND;TZID=America/New_York:20251115T150000
DTSTAMP:20260421T133306
CREATED:20250506T142634Z
LAST-MODIFIED:20250506T142634Z
UID:10001270-1763204400-1763218800@ctrideguide.com
SUMMARY:Fill The Sleigh
DESCRIPTION:Come to Spitzies and do your part to help the underprivileged as we fill our sleigh for Toys for Tots.
URL:https://ctrideguide.com/event/fill-the-sleigh-2/
LOCATION:CT
END:VEVENT
BEGIN:VEVENT
DTSTART;TZID=America/New_York:20251115T100000
DTEND;TZID=America/New_York:20251115T100000
DTSTAMP:20260421T133306
CREATED:20250506T142404Z
LAST-MODIFIED:20250506T142404Z
UID:10001200-1763200800-1763200800@ctrideguide.com
SUMMARY:Service Seminar
DESCRIPTION:Want to know more about your bike?  Come join us at our service seminar.
URL:https://ctrideguide.com/event/service-seminar/
LOCATION:Sheldons Harley Davidson\, 914 Southbridge St.\, Auburn\, MA
GEO:42.1748162;-71.8778391
X-APPLE-STRUCTURED-LOCATION;VALUE=URI;X-ADDRESS=Sheldons Harley Davidson 914 Southbridge St. Auburn MA;X-APPLE-RADIUS=500;X-TITLE=914 Southbridge St.:geo:-71.8778391,42.1748162
END:VEVENT
BEGIN:VEVENT
DTSTART;TZID=America/New_York:20251108T110000
DTEND;TZID=America/New_York:20251108T150000
DTSTAMP:20260421T133306
CREATED:20250506T142549Z
LAST-MODIFIED:20250506T142549Z
UID:10001257-1762599600-1762614000@ctrideguide.com
SUMMARY:Performance Seminar
DESCRIPTION:Come to Hartford Harley Davidson and watch as a Master Tech walks us thru a performance seminar.
URL:https://ctrideguide.com/event/performance-seminar/
LOCATION:Hartford Harley Davidson\, 221 Governor St.\, East Hartford\, CT
GEO:41.7707241;-72.6532985
X-APPLE-STRUCTURED-LOCATION;VALUE=URI;X-ADDRESS=Hartford Harley Davidson 221 Governor St. East Hartford CT;X-APPLE-RADIUS=500;X-TITLE=221 Governor St.:geo:-72.6532985,41.7707241
END:VEVENT
BEGIN:VEVENT
DTSTART;TZID=America/New_York:20251108T100000
DTEND;TZID=America/New_York:20251108T100000
DTSTAMP:20260421T133306
CREATED:20250506T142404Z
LAST-MODIFIED:20250506T142404Z
UID:10001199-1762596000-1762596000@ctrideguide.com
SUMMARY:Cool Bikes and Hot Breakfast
DESCRIPTION:Come check out the cool bikes that we have and enjoy breafast while you’re here.
URL:https://ctrideguide.com/event/cool-bikes-and-hot-breakfast-3/
LOCATION:Sheldons Harley Davidson\, 914 Southbridge St.\, Auburn\, MA
GEO:42.1748162;-71.8778391
X-APPLE-STRUCTURED-LOCATION;VALUE=URI;X-ADDRESS=Sheldons Harley Davidson 914 Southbridge St. Auburn MA;X-APPLE-RADIUS=500;X-TITLE=914 Southbridge St.:geo:-71.8778391,42.1748162
END:VEVENT
BEGIN:VEVENT
DTSTART;TZID=America/New_York:20251108T100000
DTEND;TZID=America/New_York:20251108T100000
DTSTAMP:20260421T133306
CREATED:20250506T142356Z
LAST-MODIFIED:20250506T142356Z
UID:10001193-1762596000-1762596000@ctrideguide.com
SUMMARY:Freedom Ride
DESCRIPTION:Come to Freedom Road Harley for breakfast and an enjoyable ride. Leaves from Freedom Road and returns for Lunch.
URL:https://ctrideguide.com/event/freedom-ride-9/
LOCATION:Freedom Road Harley Davidson\, 557 West Main St.\, Branford\, CT
GEO:41.278414;-72.8438398
X-APPLE-STRUCTURED-LOCATION;VALUE=URI;X-ADDRESS=Freedom Road Harley Davidson 557 West Main St. Branford CT;X-APPLE-RADIUS=500;X-TITLE=557 West Main St.:geo:-72.8438398,41.278414
END:VEVENT
BEGIN:VEVENT
DTSTART;TZID=America/New_York:20251101T140000
DTEND;TZID=America/New_York:20251101T180000
DTSTAMP:20260421T133306
CREATED:20251029T160416Z
LAST-MODIFIED:20251029T160416Z
UID:10001412-1762005600-1762020000@ctrideguide.com
SUMMARY:Spooktacular Halloween Fundraiser
DESCRIPTION:Live music by Cold Train\, 50/50 raffle and furry friends on-site for adoption from Halfway Home Animal Rescue of North Haven. All pets and owners are encouraged to come in costume! Sponsored by Trantolo & Trantolo\, LLC to benefit Bikers Against Animal Cruelty\, Inc – BAAC.
URL:https://ctrideguide.com/event/spooktacular-halloween-fundraiser/
LOCATION:Joey C’s Boathouse\, 955 Ferry Blvd\, Stratford\, CT\, 06614\, United States
GEO:41.203;-73.112
X-APPLE-STRUCTURED-LOCATION;VALUE=URI;X-ADDRESS=Joey C’s Boathouse 955 Ferry Blvd Stratford CT 06614 United States;X-APPLE-RADIUS=500;X-TITLE=955 Ferry Blvd:geo:-73.112,41.203
END:VEVENT
BEGIN:VEVENT
DTSTART;TZID=America/New_York:20251101T100000
DTEND;TZID=America/New_York:20251101T120000
DTSTAMP:20260421T133306
CREATED:20250506T142419Z
LAST-MODIFIED:20250506T142419Z
UID:10001211-1761991200-1761998400@ctrideguide.com
SUMMARY:Breakfast at Freedom Road
DESCRIPTION:Come by Freedom Road for a great breakfast every Saturday.
URL:https://ctrideguide.com/event/breakfast-at-freedom-road-8/
LOCATION:Freedom Road Harley Davidson\, 557 West Main St.\, Branford\, CT
GEO:41.278414;-72.8438398
X-APPLE-STRUCTURED-LOCATION;VALUE=URI;X-ADDRESS=Freedom Road Harley Davidson 557 West Main St. Branford CT;X-APPLE-RADIUS=500;X-TITLE=557 West Main St.:geo:-72.8438398,41.278414
END:VEVENT
BEGIN:VEVENT
DTSTART;TZID=America/New_York:20251101T000000
DTEND;TZID=America/New_York:20251130T000000
DTSTAMP:20260421T133306
CREATED:20250506T143517Z
LAST-MODIFIED:20250506T143517Z
UID:10001391-1761955200-1764460800@ctrideguide.com
SUMMARY:Stuff the Trunk
DESCRIPTION:Come by Battleship and do your part to help the underpriviledged; donate for the holidays.
URL:https://ctrideguide.com/event/stuff-the-trunk/
LOCATION:Battleship Harley Davidson\, 799 State St.\, Dartmouth\, MA
GEO:41.6381138;-71.0337221
X-APPLE-STRUCTURED-LOCATION;VALUE=URI;X-ADDRESS=Battleship Harley Davidson 799 State St. Dartmouth MA;X-APPLE-RADIUS=500;X-TITLE=799 State St.:geo:-71.0337221,41.6381138
END:VEVENT
BEGIN:VEVENT
DTSTART;TZID=America/New_York:20251025T110000
DTEND;TZID=America/New_York:20251025T150000
DTSTAMP:20260421T133306
CREATED:20250506T142634Z
LAST-MODIFIED:20250506T142634Z
UID:10001269-1761390000-1761404400@ctrideguide.com
SUMMARY:Hog-O-Ween
DESCRIPTION:Come to Spitzies and enter our costume contest; candy for the kids and cookout.
URL:https://ctrideguide.com/event/hog-o-ween-8/
LOCATION:CT
END:VEVENT
BEGIN:VEVENT
DTSTART;TZID=America/New_York:20251025T100000
DTEND;TZID=America/New_York:20251025T150000
DTSTAMP:20260421T133306
CREATED:20250506T142441Z
LAST-MODIFIED:20250506T142441Z
UID:10001224-1761386400-1761404400@ctrideguide.com
SUMMARY:Hog-O-Ween
DESCRIPTION:Come to Old School Harley for some great fun. For more info check out our website.
URL:https://ctrideguide.com/event/hog-o-ween-7/
LOCATION:Old School Harley Davidson\, 398 Somers Rd\, Ellington\, CT
GEO:41.9263618;-72.4557488
X-APPLE-STRUCTURED-LOCATION;VALUE=URI;X-ADDRESS=Old School Harley Davidson 398 Somers Rd Ellington CT;X-APPLE-RADIUS=500;X-TITLE=398 Somers Rd:geo:-72.4557488,41.9263618
END:VEVENT
BEGIN:VEVENT
DTSTART;VALUE=DATE:20251025
DTEND;VALUE=DATE:20251026
DTSTAMP:20260421T133306
CREATED:20250506T143426Z
LAST-MODIFIED:20250506T145928Z
UID:10001379-1761350400-1761436799@ctrideguide.com
SUMMARY:Hog-O-Ween
DESCRIPTION:Come to Sheldons Harley dressed in costume and see what we have for you. Candy at all departments.
URL:https://ctrideguide.com/event/hog-o-ween-9/
LOCATION:Sheldons Harley Davidson\, 914 Southbridge St.\, Auburn\, MA
GEO:42.1748162;-71.8778391
X-APPLE-STRUCTURED-LOCATION;VALUE=URI;X-ADDRESS=Sheldons Harley Davidson 914 Southbridge St. Auburn MA;X-APPLE-RADIUS=500;X-TITLE=914 Southbridge St.:geo:-71.8778391,42.1748162
END:VEVENT
BEGIN:VEVENT
DTSTART;TZID=America/New_York:20251019T093000
DTEND;TZID=America/New_York:20251019T093000
DTSTAMP:20260421T133306
CREATED:20250506T142334Z
LAST-MODIFIED:20250506T142334Z
UID:10001180-1760866200-1760866200@ctrideguide.com
SUMMARY:Tim Jackson Ride
DESCRIPTION:Come ride with us to honor Tim Jackson. 3 stops to include Veteran and Firefighter Memorials\, raffles\, food\, and much more. Benefits Fallen Firefighter Foundations.
URL:https://ctrideguide.com/event/tim-jackson-ride/
LOCATION:Sheldons Harley Davidson\, 914 Southbridge St.\, Auburn\, MA
GEO:42.1748162;-71.8778391
X-APPLE-STRUCTURED-LOCATION;VALUE=URI;X-ADDRESS=Sheldons Harley Davidson 914 Southbridge St. Auburn MA;X-APPLE-RADIUS=500;X-TITLE=914 Southbridge St.:geo:-71.8778391,42.1748162
END:VEVENT
END:VCALENDAR